Workbook

Sheet Tổng hợp 28112022
A1: Tính đến ngày | B1: Tên tỉnh | C1: Tổng CSKCB ký hợp đồng | D1: Số CSKCB đã tra cứu | E1: Tỷ lệ | F1: Tổng số lượt tra cứu | G1: Lượt Tra cứu thành công | H1: Số lượng CCCD được đồng bộ với thẻ BHYT còn hiệu lực để đi KCB bằng CCCD
A2: 28112022 | B2: Bảo hiểm xã hội tỉnh Thanh Hóa | C2: 668 | D2: 665 | E2: 1 | F2: 1035691 | G2: 565350 | H2: 2514421
A3: Tăng so với tuần liền kề | D3: =D2-D4 -> 1 | F3: =F2-F4 -> 146152 | G3: =G2-G4 -> 85104 | H3: =H2-H4 -> 224445
A4: 21112022 | B4: Bảo hiểm xã hội tỉnh Thanh Hóa | C4: 668 | D4: 664 | E4: 0.99401198 | F4: 889539 | G4: 480246 | H4: 2289976
A5: Tăng so với tuần liền kề | D5: =D4-D6 -> 5 | F5: =F4-F6 -> 55923 | G5: =G4-G6 -> 32140 | H5: =H4-H6 -> 242956
A6: 14112022 | B6: Bảo hiểm xã hội tỉnh Thanh Hóa | C6: 668 | D6: 659 | E6: =D6/C6 -> 0.98652695 | F6: 833616 | G6: 448106 | H6: 2047020
A7: Tăng so với tuần liền kề | D7: =D6-D8 -> 11 | F7: =F6-F8 -> 51300 | G7: =G6-G8 -> 28792 | H7: =H6-H8 -> 33356
A8: 07112022 | B8: Bảo hiểm xã hội tỉnh Thanh Hóa | C8: 668 | D8: 648 | E8: =D8/C8 -> 0.97005988 | F8: 782316 | G8: 419314 | H8: 2013664
A9: Tăng so với tuần liền kề | D9: =D8-D10 -> 9 | F9: =F8-F10 -> 33956 | G9: =G8-G10 -> 18798 | H9: =H8-H10 -> 97360
A10: 31102022 | B10: Bảo hiểm xã hội tỉnh Thanh Hóa | C10: 668 | D10: 639 | E10: =D10/C10 -> 0.95658683 | F10: 748360 | G10: 400516 | H10: 1916304
A11: Tăng so với tuần liền kề | D11: =D10-D12 -> 5 | F11: =F10-F12 -> 92774 | G11: =G10-G12 -> 48014 | H11: =H10-H12 -> 56381
A12: 24102022 | B12: Bảo hiểm xã hội tỉnh Thanh Hóa | C12: 668 | D12: 634 | E12: =D12/C12 -> 0.9491018 | F12: 655586 | G12: 352502 | H12: 1859923
A13: Tăng so với tuần liền kề | D13: =D12-D14 -> 2 | F13: =F12-F14 -> 116516 | G13: =G12-G14 -> 63576 | H13: =H12-H14 -> 54989
A14: 17102022 | B14: Bảo hiểm xã hội tỉnh Thanh Hóa | C14: 668 | D14: 632 | E14: =D14/C14 -> 0.94610778 | F14: 539070 | G14: 288926 | H14: 1,804,934
A15: Tăng so với tuần liền kề | D15: =D14-D16 -> 10 | F15: =F14-F16 -> 52486 | G15: =G14-G16 -> 30088 | H15: =H14-H16 -> 16769
A16: 10102022 | B16: Bảo hiểm xã hội tỉnh Thanh Hóa | C16: 668 | D16: 622 | E16: =D16/C16 -> 0.93113772 | F16: 486584 | G16: 258838 | H16: 1788165
A17: Tăng so với tuần liền kề | D17: =D16-D18 -> 6 | F17: =F16-F18 -> 121151 | G17: =G16-G18 -> 62822 | H17: =H16-H18 -> 47458
A18: 02102022 | B18: Bảo hiểm xã hội tỉnh Thanh Hóa | C18: 668 | D18: 616 | E18: =D18/C18 -> 0.92215569 | F18: 365433 | G18: 196016 | H18: 1740707
A19: Tăng so với tuần liền kề | D19: =D18-D20 -> 3 | F19: =F18-F20 -> 81494 | G19: =G18-G20 -> 42204 | H19: =H18-H20 -> 12217
A20: 26092022 | B20: Bảo hiểm xã hội tỉnh Thanh Hóa | C20: 668 | D20: 613 | E20: =D20/C20 -> 0.91766467 | F20: 283,939 | G20: 153,812 | H20: 1,728,490
A21: Tăng so với tuần liền kề | D21: =D20-D22 -> 9 | F21: =F20-F22 -> 77038 | G21: =G20-G22 -> 40231 | H21: =H20-H22 -> 11226
A22: 19092022 | B22: Bảo hiểm xã hội tỉnh Thanh Hóa | C22: 668 | D22: 604 | E22: =D22/C22 -> 0.90419162 | F22: 206901 | G22: 113581 | H22: 1717264
A23: Tăng so với tuần liền kề | D23: =D22-D24 -> 38 | F23: =F22-F24 -> 98642 | G23: =G22-G24 -> 53807 | H23: =H22-H24 -> 6253
A24: 12092022 | B24: Bảo hiểm xã hội tỉnh Thanh Hóa | C24: 668 | D24: 566 | E24: =D24/C24 -> 0.84730539 | F24: 108259 | G24: 59774 | H24: 1711011
A25: Tăng so với tuần liền kề | D25: =D24-D26 -> 24 | F25: =F24-F26 -> 28262 | G25: =G24-G26 -> 15914 | H25: =H24-H26 -> 1747
A26: 05092022 | B26: Bảo hiểm xã hội tỉnh Thanh Hóa | C26: 668 | D26: 542 | E26: =D26/C26 -> 0.81137725 | F26: 79997 | G26: 43860 | H26: 1709264
A27: Tăng so với tuần liền kề | D27: =D26-D28 -> 14 | F27: =F26-F28 -> 11126 | G27: =G26-G28 -> 6480 | H27: =H26-H28 -> -2093
A28: 29082022 | B28: Bảo hiểm xã hội tỉnh Thanh Hóa | C28: 668 | D28: 528 | E28: =D28/C28 -> 0.79041916 | F28: 68871 | G28: 37380 | H28: 1,711,357
A29: Tăng so với tuần liền kề | D29: =D28-D30 -> 25 | F29: =F28-F30 -> 12761 | G29: =G28-G30 -> 7276 | H29: =H28-H30 -> 69011
A30: 22082022 | B30: Bảo hiểm xã hội tỉnh Thanh Hóa | C30: 668 | D30: 503 | E30: =D30/C30 -> 0.75299401 | F30: 56110 | G30: 30104 | H30: 1,642,346
A31: Tăng so với tuần liền kề | D31: =D30-D32 -> 50 | F31: =F30-F32 -> 14031 | G31: =G30-G32 -> 7898 | H31: =H30-H32 -> 19010
A32: 15082022 | B32: Tỉnh Thanh Hóa | C32: 645 | D32: 453 | E32: 70% | F32: 42,079 | G32: 22,206 | H32: 1,623,336
A33: Tăng so với tuần liền kề | D33: =C32-D34 -> 261 | F33: =F32-F34 -> 9835 | G33: =G32-G34 -> 5422 | H33: =H32-H34 -> 42124
A34: 08082022 | B34: Tỉnh Thanh Hóa | D34: 384 | F34: 32244 | G34: 16784 | H34: 1581212
A35: Tăng so với tuần liền kề | D35: =D34-D36 -> 70 | F35: =F34-F36 -> 6836 | G35: =G34-G36 -> 3585 | H35: =H34-H36 -> 13300
A36: 31072022 | B36: Tỉnh Thanh Hóa | D36: 314 | F36: 25408 | G36: 13199 | H36: 1567912
A37: Tăng so với tuần liền kề | D37: =D36-D38 -> 54 | F37: =F36-F38 -> 3806 | G37: =G36-G38 -> 1844 | H37: =H36-H38 -> 15776
A38: 25072022 | B38: Tỉnh Thanh Hóa | D38: 260 | F38: 21602 | G38: 11355 | H38: 1552136
A39: Tăng so với tuần liền kề | D39: =D38-D40 -> 7 | F39: =F38-F40 -> 2336 | G39: =G38-G40 -> 1356 | H39: =H38-H40 -> 5583
A40: 17072022 | B40: Tỉnh Thanh Hóa | D40: 253 | F40: 19266 | G40: 9999 | H40: 1546553
...

Sheet 2811_SL CCCD đc đồng bộ
A1: Mã tỉnh | B1: Mã cơ quan BHXH | C1: Tên huyện | D1: Số lượng CCCD được đồng bộ với thẻ BHYT còn hiệu lực để đi KCB bằng CCCD ngày 28112022 | E1: Ngày 21112022 | F1: Tăng | G1: maHuyen | H1: count(*) | I1: Tỷ lệ
A2: 038 | B2: 03800 | C2: =VLOOKUP(B2,[1]Sheet2!A:B,2,0) -> VP Bảo hiểm Xã hội tỉnh Thanh Hóa | D2: 274874 | E2: 269745 | F2: =D2-E2 -> 5129 | G2: 1 | H2: 399925 | I2: =D2/H2 -> 0.68731387
A3: 038 | B3: 03802 | C3: =VLOOKUP(B3,[1]Sheet2!A:B,2,0) -> Bảo hiểm Xã hội TX Bỉm Sơn | D3: 51803 | E3: 45896 | F3: =D3-E3 -> 5907 | G3: 2 | H3: 55460 | I3: =D3/H3 -> 0.93406058
A4: 038 | B4: 03803 | C4: =VLOOKUP(B4,[1]Sheet2!A:B,2,0) -> Bảo hiểm Xã hội TP Sầm Sơn | D4: 75245 | E4: 63435 | F4: =D4-E4 -> 11810 | G4: 3 | H4: 85922 | I4: =D4/H4 -> 0.87573613
A5: 038 | B5: 03804 | C5: =VLOOKUP(B5,[1]Sheet2!A:B,2,0) -> Bảo hiểm Xã hội huyện Mường Lát | D5: 31581 | E5: 30795 | F5: =D5-E5 -> 786 | G5: 4 | H5: 37953 | I5: =D5/H5 -> 0.83210813
A6: 038 | B6: 03805 | C6: =VLOOKUP(B6,[1]Sheet2!A:B,2,0) -> Bảo hiểm Xã hội huyện Quan Hóa | D6: 39090 | E6: 38830 | F6: =D6-E6 -> 260 | G6: 5 | H6: 45033 | I6: =D6/H6 -> 0.86803011
A7: 038 | B7: 03806 | C7: =VLOOKUP(B7,[1]Sheet2!A:B,2,0) -> Bảo hiểm Xã hội huyện Bá Thước | D7: 60299 | E7: 57505 | F7: =D7-E7 -> 2794 | G7: 6 | H7: 90888 | I7: =D7/H7 -> 0.66344292
A8: 038 | B8: 03807 | C8: =VLOOKUP(B8,[1]Sheet2!A:B,2,0) -> Bảo hiểm Xã hội huyện Quan Sơn | D8: 29684 | E8: 19345 | F8: =D8-E8 -> 10339 | G8: 7 | H8: 35791 | I8: =D8/H8 -> 0.82937051
A9: 038 | B9: 03808 | C9: =VLOOKUP(B9,[1]Sheet2!A:B,2,0) -> Bảo hiểm Xã hội huyện Lang Chánh | D9: 38685 | E9: 37464 | F9: =D9-E9 -> 1221 | G9: 8 | H9: 42865 | I9: =D9/H9 -> 0.90248454
A10: 038 | B10: 03809 | C10: =VLOOKUP(B10,[1]Sheet2!A:B,2,0) -> Bảo hiểm Xã hội huyện Ngọc Lặc | D10: 89827 | E10: 77219 | F10: =D10-E10 -> 12608 | G10: 9 | H10: 105774 | I10: =D10/H10 -> 0.84923516
A11: 038 | B11: 03810 | C11: =VLOOKUP(B11,[1]Sheet2!A:B,2,0) -> Bảo hiểm Xã hội huyện Cẩm Thủy | D11: 55340 | E11: 54561 | F11: =D11-E11 -> 779 | G11: 10 | H11: 81980 | I11: =D11/H11 -> 0.67504269
A12: 038 | B12: 03811 | C12: =VLOOKUP(B12,[1]Sheet2!A:B,2,0) -> Bảo hiểm Xã hội huyện Thạch Thành | D12: 102802 | E12: 96815 | F12: =D12-E12 -> 5987 | G12: 11 | H12: 115387 | I12: =D12/H12 -> 0.89093225
A13: 038 | B13: 03812 | C13: =VLOOKUP(B13,[1]Sheet2!A:B,2,0) -> Bảo hiểm Xã hội huyện Hà Trung | D13: 83116 | E13: 73457 | F13: =D13-E13 -> 9659 | G13: 12 | H13: 98671 | I13: =D13/H13 -> 0.8423549
... A28: 038 | B28: 03827 | C28: =VLOOKUP(B28,[1]Sheet2!A:B,2,0) -> Bảo hiểm Xã hội Thị xã Nghi Sơn | D28: 204906 | E28: 200123 | F28: =D28-E28 -> 4783 | G28: 27 | H28: 222223 | I28: =D28/H28 -> 0.92207377
D29: =SUM(D2:D28) -> 2514421 | E29: =SUM(E2:E28) -> 2289976 | F29: =SUM(F2:F28) -> 224445 | H29: =SUM(H2:H28) -> 3121323 | I29: =D29/H29 -> 0.80556258

Sheet Chi tiết BV ngày28112022
A1: Đơn vị ký hợp đồng | C1: MATINHTHANH | D1: MA | E1: TEN | F1: SL_TRA_CUU | G1: SL_TRA_CUU_THANH_CONG
A2: =VLOOKUP(D2,[2]DM_COSOKCB!$B:$H,7,0) -> Bảo hiểm xã hội tỉnh Thanh Hóa | B2: =VLOOKUP(D2,[2]DM_COSOKCB!$B:$D,3,0)&A2 -> TỉnhBảo hiểm xã hội tỉnh Thanh Hóa | C2: 38 | D2: 38001 | E2: Bệnh viện nội tiết tỉnh Thanh Hóa | F2: 400 | G2: 287
A3: =VLOOKUP(D3,[2]DM_COSOKCB!$B:$H,7,0) -> Bảo hiểm xã hội tỉnh Thanh Hóa | B3: =VLOOKUP(D3,[2]DM_COSOKCB!$B:$D,3,0)&A3 -> TỉnhBảo hiểm xã hội tỉnh Thanh Hóa | C3: 38 | D3: 38002 | E3: Bệnh viện mắt tỉnh Thanh Hóa | F3: 963 | G3: 920
A4: =VLOOKUP(D4,[2]DM_COSOKCB!$B:$H,7,0) -> Bảo hiểm xã hội tỉnh Thanh Hóa | B4: =VLOOKUP(D4,[2]DM_COSOKCB!$B:$D,3,0)&A4 -> HuyệnBảo hiểm xã hội tỉnh Thanh Hóa | C4: 38 | D4: 38003 | E4: Phòng khám đa khoa y học lâm sàng trực thuộc Trường Cao đẳng y tế Thanh Hóa | F4: 7 | G4: 0
A5: =VLOOKUP(D5,[2]DM_COSOKCB!$B:$H,7,0) -> Bảo hiểm xã hội tỉnh Thanh Hóa | B5: =VLOOKUP(D5,[2]DM_COSOKCB!$B:$D,3,0)&A5 -> TỉnhBảo hiểm xã hội tỉnh Thanh Hóa | C5: 38 | D5: 38004 | E5: Bệnh viện da liễu Thanh Hoá | F5: 66 | G5: 31
A6: =VLOOKUP(D6,[2]DM_COSOKCB!$B:$H,7,0) -> Bảo hiểm xã hội tỉnh Thanh Hóa | B6: =VLOOKUP(D6,[2]DM_COSOKCB!$B:$D,3,0)&A6 -> XãBảo hiểm xã hội tỉnh Thanh Hóa | C6: 38 | D6: 38005 | E6: Trạm y tế phường Hàm Rồng | F6: 5 | G6: 5
A7: =VLOOKUP(D7,[2]DM_COSOKCB!$B:$H,7,0) -> Bảo hiểm xã hội tỉnh Thanh Hóa | B7: =VLOOKUP(D7,[2]DM_COSOKCB!$B:$D,3,0)&A7 -> XãBảo hiểm xã hội tỉnh Thanh Hóa | C7: 38 | D7: 38006 | E7: Trạm y tế phường Đông Thọ | F7: 2 | G7: 2
A8: =VLOOKUP(D8,[2]DM_COSOKCB!$B:$H,7,0) -> Bảo hiểm xã hội tỉnh Thanh Hóa | B8: =VLOOKUP(D8,[2]DM_COSOKCB!$B:$D,3,0)&A8 -> XãBảo hiểm xã hội tỉnh Thanh Hóa | C8: 38 | D8: 38007 | E8: Trạm y tế phường Nam Ngạn | F8: 3629 | G8: 1472
A9: =VLOOKUP(D9,[2]DM_COSOKCB!$B:$H,7,0) -> Bảo hiểm xã hội tỉnh Thanh Hóa | B9: =VLOOKUP(D9,[2]DM_COSOKCB!$B:$D,3,0)&A9 -> XãBảo hiểm xã hội tỉnh Thanh Hóa | C9: 38 | D9: 38008 | E9: Trạm y tế phường Trường Thi | F9: 97 | G9: 10
A10: =VLOOKUP(D10,[2]DM_COSOKCB!$B:$H,7,0) -> Bảo hiểm xã hội tỉnh Thanh Hóa | B10: =VLOOKUP(D10,[2]DM_COSOKCB!$B:$D,3,0)&A10 -> XãBảo hiểm xã hội tỉnh Thanh Hóa | C10: 38 | D10: 38009 | E10: Trạm y tế phường Điện Biên | F10: 5336 | G10: 3001
A11: =VLOOKUP(D11,[2]DM_COSOKCB!$B:$H,7,0) -> Bảo hiểm xã hội tỉnh Thanh Hóa | B11: =VLOOKUP(D11,[2]DM_COSOKCB!$B:$D,3,0)&A11 -> HuyệnBảo hiểm xã hội tỉnh Thanh Hóa | C11: 38 | D11: 38010 | E11: Bệnh viện đa khoa thành phố Thanh Hóa | F11: 6094 | G11: 4380
A12: =VLOOKUP(D12,[2]DM_COSOKCB!$B:$H,7,0) -> Bảo hiểm xã hội tỉnh Thanh Hóa | B12: =VLOOKUP(D12,[2]DM_COSOKCB!$B:$D,3,0)&A12 -> TỉnhBảo hiểm xã hội tỉnh Thanh Hóa | C12: 38 | D12: 38011 | E12: Bệnh viện Y dược cổ truyền tỉnh Thanh Hóa | F12: 102 | G12: 53
A13: =VLOOKUP(D13,[2]DM_COSOKCB!$B:$H,7,0) -> Bảo hiểm xã hội tỉnh Thanh Hóa | B13: =VLOOKUP(D13,[2]DM_COSOKCB!$B:$D,3,0)&A13 -> TỉnhBảo hiểm xã hội tỉnh Thanh Hóa | C13: 38 | D13: 38012 | E13: Bệnh viện tâm thần Thanh Hóa | F13: 1038 | G13: 614
... A662: =VLOOKUP(D662,[2]DM_COSOKCB!$B:$H,7,0) -> Bảo hiểm xã hội huyện Thọ Xuân | B662: =VLOOKUP(D662,[2]DM_COSOKCB!$B:$D,3,0)&A662 -> HuyệnBảo hiểm xã hội huyện Thọ Xuân | C662: 38 | D662: 38795 | E662: Phòng khám đa khoa Phú Nam | F662: 413 | G662: 249
C663: 38 | D663: 38796 | E663: Bệnh viện Phục hồi chức năng An Bình Hưng | F663: 6 | G663: 2
C664: 38 | D664: 38797 | E664: Phòng khám đa khoa Medic Sầm Sơn | F664: 2 | G664: 2
C665: 38 | D665: 38798 | E665: Phòng khám đa khoa Nam Sơn | F665: 304 | G665: 210
C666: 38 | D666: 38799 | E666: Bệnh viện Y Dược cổ truyền An Khang | F666: 1002 | G666: 809

Sheet 2811_Tỷ lệ CS KCB bằng CCCD
A1: STT | B1: Đơn vị | C1: Tuyến CMKT | E1: Số cơ sở có KCB bằng CCCD | F1: Số cơ sở KCB | G1: Tỷ lệ
A2: 1 | B2: Bảo hiểm xã hội huyện Bá Thước | C2: Huyện | D2: =C2&B2 -> HuyệnBảo hiểm xã hội huyện Bá Thước | E2: =COUNTIF('Chi tiết BV ngày28112022'!B:B,'2811_Tỷ lệ CS KCB bằng CCCD'!D2) -> 3 | F2: 3 | G2: =E2/F2 -> 1
A3: 2 | B3: Bảo hiểm xã hội huyện Bá Thước | C3: Xã | D3: =C3&B3 -> XãBảo hiểm xã hội huyện Bá Thước | E3: =COUNTIF('Chi tiết BV ngày28112022'!B:B,'2811_Tỷ lệ CS KCB bằng CCCD'!D3) -> 21 | F3: 21 | G3: =E3/F3 -> 1
A4: 3 | B4: Bảo hiểm xã hội huyện Cẩm Thủy | C4: Huyện | D4: =C4&B4 -> HuyệnBảo hiểm xã hội huyện Cẩm Thủy | E4: =COUNTIF('Chi tiết BV ngày28112022'!B:B,'2811_Tỷ lệ CS KCB bằng CCCD'!D4) -> 3 | F4: 3 | G4: =E4/F4 -> 1
A5: 4 | B5: Bảo hiểm xã hội huyện Cẩm Thủy | C5: Xã | D5: =C5&B5 -> XãBảo hiểm xã hội huyện Cẩm Thủy | E5: =COUNTIF('Chi tiết BV ngày28112022'!B:B,'2811_Tỷ lệ CS KCB bằng CCCD'!D5) -> 17 | F5: 17 | G5: =E5/F5 -> 1
A6: 5 | B6: Bảo hiểm xã hội huyện Đông Sơn | C6: Huyện | D6: =C6&B6 -> HuyệnBảo hiểm xã hội huyện Đông Sơn | E6: =COUNTIF('Chi tiết BV ngày28112022'!B:B,'2811_Tỷ lệ CS KCB bằng CCCD'!D6) -> 1 | F6: 2 | G6: =E6/F6 -> 0.5
A7: 6 | B7: Bảo hiểm xã hội huyện Đông Sơn | C7: Xã | D7: =C7&B7 -> XãBảo hiểm xã hội huyện Đông Sơn | E7: =COUNTIF('Chi tiết BV ngày28112022'!B:B,'2811_Tỷ lệ CS KCB bằng CCCD'!D7) -> 14 | F7: 14 | G7: =E7/F7 -> 1
A8: 7 | B8: Bảo hiểm xã hội huyện Hà Trung | C8: Huyện | D8: =C8&B8 -> HuyệnBảo hiểm xã hội huyện Hà Trung | E8: =COUNTIF('Chi tiết BV ngày28112022'!B:B,'2811_Tỷ lệ CS KCB bằng CCCD'!D8) -> 3 | F8: 3 | G8: =E8/F8 -> 1
A9: 8 | B9: Bảo hiểm xã hội huyện Hà Trung | C9: Xã | D9: =C9&B9 -> XãBảo hiểm xã hội huyện Hà Trung | E9: =COUNTIF('Chi tiết BV ngày28112022'!B:B,'2811_Tỷ lệ CS KCB bằng CCCD'!D9) -> 19 | F9: 19 | G9: =E9/F9 -> 1
A10: 9 | B10: Bảo hiểm xã hội huyện Hậu Lộc | C10: Huyện | D10: =C10&B10 -> HuyệnBảo hiểm xã hội huyện Hậu Lộc | E10: =COUNTIF('Chi tiết BV ngày28112022'!B:B,'2811_Tỷ lệ CS KCB bằng CCCD'!D10) -> 3 | F10: 3 | G10: =E10/F10 -> 1
A11: 10 | B11: Bảo hiểm xã hội huyện Hậu Lộc | C11: Xã | D11: =C11&B11 -> XãBảo hiểm xã hội huyện Hậu Lộc | E11: =COUNTIF('Chi tiết BV ngày28112022'!B:B,'2811_Tỷ lệ CS KCB bằng CCCD'!D11) -> 23 | F11: 23 | G11: =E11/F11 -> 1
A12: 11 | B12: Bảo hiểm xã hội huyện Hoằng Hóa | C12: Huyện | D12: =C12&B12 -> HuyệnBảo hiểm xã hội huyện Hoằng Hóa | E12: =COUNTIF('Chi tiết BV ngày28112022'!B:B,'2811_Tỷ lệ CS KCB bằng CCCD'!D12) -> 2 | F12: 2 | G12: =E12/F12 -> 1
A13: 12 | B13: Bảo hiểm xã hội huyện Hoằng Hóa | C13: Xã | D13: =C13&B13 -> XãBảo hiểm xã hội huyện Hoằng Hóa | E13: =COUNTIF('Chi tiết BV ngày28112022'!B:B,'2811_Tỷ lệ CS KCB bằng CCCD'!D13) -> 37 | F13: 37 | G13: =E13/F13 -> 1
... A47: 46 | B47: Bảo hiểm xã hội huyện Yên Định | C47: Xã | D47: =C47&B47 -> XãBảo hiểm xã hội huyện Yên Định | E47: =COUNTIF('Chi tiết BV ngày28112022'!B:B,'2811_Tỷ lệ CS KCB bằng CCCD'!D47) -> 26 | F47: 26 | G47: =E47/F47 -> 1
A48: 47 | B48: Bảo hiểm xã hội thị xã Nghi Sơn | C48: Huyện | D48: =C48&B48 -> HuyệnBảo hiểm xã hội thị xã Nghi Sơn | E48: 4 | F48: 4 | G48: =E48/F48 -> 1
A49: 48 | B49: Bảo hiểm xã hội thị xã Nghi Sơn | C49: Xã | D49: =C49&B49 -> XãBảo hiểm xã hội thị xã Nghi Sơn | E49: =COUNTIF('Chi tiết BV ngày28112022'!B:B,'2811_Tỷ lệ CS KCB bằng CCCD'!D49) -> 31 | F49: 31 | G49: =E49/F49 -> 1
A50: 49 | B50: Bảo hiểm xã hội tỉnh Thanh Hóa | C50: Tỉnh | D50: =C50&B50 -> TỉnhBảo hiểm xã hội tỉnh Thanh Hóa | E50: =COUNTIF('Chi tiết BV ngày28112022'!B:B,'2811_Tỷ lệ CS KCB bằng CCCD'!D50) -> 14 | F50: 14 | G50: =E50/F50 -> 1
A51: 50 | B51: Bảo hiểm xã hội tỉnh Thanh Hóa | C51: Huyện | D51: =C51&B51 -> HuyệnBảo hiểm xã hội tỉnh Thanh Hóa | E51: 30 | F51: 30 | G51: =E51/F51 -> 1
A52: 51 | B52: Bảo hiểm xã hội tỉnh Thanh Hóa | C52: Xã | D52: =C52&B52 -> XãBảo hiểm xã hội tỉnh Thanh Hóa | E52: =COUNTIF('Chi tiết BV ngày28112022'!B:B,'2811_Tỷ lệ CS KCB bằng CCCD'!D52) -> 34 | F52: 34 | G52: =E52/F52 -> 1
A53: 52 | B53: Bảo hiểm xã hội tỉnh Thanh Hóa | C53: Trung ương | D53: =C53&B53 -> Trung ươngBảo hiểm xã hội tỉnh Thanh Hóa | E53: =COUNTIF('Chi tiết BV ngày28112022'!B:B,'2811_Tỷ lệ CS KCB bằng CCCD'!D53) -> 2 | F53: 2 | G53: =E53/F53 -> 1
A54: 53 | B54: Bảo hiểm xã hội TP Sầm Sơn | C54: Huyện | D54: =C54&B54 -> HuyệnBảo hiểm xã hội TP Sầm Sơn | E54: 3 | F54: 3 | G54: =E54/F54 -> 1
A55: 54 | B55: Bảo hiểm xã hội TP Sầm Sơn | C55: Xã | D55: =C55&B55 -> XãBảo hiểm xã hội TP Sầm Sơn | E55: =COUNTIF('Chi tiết BV ngày28112022'!B:B,'2811_Tỷ lệ CS KCB bằng CCCD'!D55) -> 8 | F55: 8 | G55: =E55/F55 -> 1
A56: 55 | B56: Bảo hiểm xã hội TX Bỉm Sơn | C56: Huyện | D56: =C56&B56 -> HuyệnBảo hiểm xã hội TX Bỉm Sơn | E56: =COUNTIF('Chi tiết BV ngày28112022'!B:B,'2811_Tỷ lệ CS KCB bằng CCCD'!D56) -> 2 | F56: 2 | G56: =E56/F56 -> 1
A57: 56 | B57: Bảo hiểm xã hội TX Bỉm Sơn | C57: Xã | D57: =C57&B57 -> XãBảo hiểm xã hội TX Bỉm Sơn | E57: =COUNTIF('Chi tiết BV ngày28112022'!B:B,'2811_Tỷ lệ CS KCB bằng CCCD'!D57) -> 7 | F57: 7 | G57: =E57/F57 -> 1
D58: =C58&B58 | E58: =SUM(E2:E57) -> 665 | F58: =SUM(F2:F57) -> 668 | G58: =E58/F58 -> 0.99550898
D59: =C59&B59

Sheet 2811_CS KCB chưa KB bằng CCCD
A1: Đơn vị ký hợp đồng | C1: MATINHTHANH | D1: MA | E1: TEN | F1: SL_TRA_CUU | G1: SL_TRA_CUU_THANH_CONG
A2: Bảo hiểm xã hội huyện Thường Xuân | B2: HuyệnBảo hiểm xã hội huyện Thường Xuân | C2: 38 | D2: 38768 | E2: Phòng khám đa khoa - Trung tâm Y tế Thường Xuân | F2: 0 | G2: 0
A3: Bảo hiểm xã hội huyện Như Thanh | B3: HuyệnBảo hiểm xã hội huyện Như Thanh | C3: 38 | D3: 38784 | E3: Trung tâm Y tế huyện Như Thanh | F3: 0 | G3: 0
A4: Bảo hiểm xã hội huyện Đông Sơn | B4: HuyệnBảo hiểm xã hội huyện Đông Sơn | C4: 38 | D4: 38790 | E4: Trung Tâm Y Tế Huyện Đông Sơn | F4: 0 | G4: 0

Sheet Sheet1
A1: Mã | B1: Tên | C1: Tuyến CMKT | D1: Tên Huyện
A2: 38001 | B2: Bệnh viện nội tiết tỉnh Thanh Hóa | C2: Tỉnh | D2: Thành phố Thanh Hóa | E2: =VLOOKUP(A2,'Chi tiết BV ngày28112022'!D:D,1,0) -> 38001
A3: 38002 | B3: Bệnh viện mắt tỉnh Thanh Hóa | C3: Tỉnh | D3: Thành phố Thanh Hóa | E3: =VLOOKUP(A3,'Chi tiết BV ngày28112022'!D:D,1,0) -> 38002
A4: 38003 | B4: Trường cao đẳng y tế thanh hóa - Phòng khám đa khoa y học lâm sàng | C4: Huyện | D4: Thành phố Thanh Hóa | E4: =VLOOKUP(A4,'Chi tiết BV ngày28112022'!D:D,1,0) -> 38003
A5: 38004 | B5: Bệnh viện da liễu Thanh Hoá | C5: Tỉnh | D5: Thành phố Thanh Hóa | E5: =VLOOKUP(A5,'Chi tiết BV ngày28112022'!D:D,1,0) -> 38004
A6: 38005 | B6: Trạm y tế phường Hàm Rồng | C6: Xã | D6: Thành phố Thanh Hóa | E6: =VLOOKUP(A6,'Chi tiết BV ngày28112022'!D:D,1,0) -> 38005
A7: 38006 | B7: Trạm y tế phường Đông Thọ | C7: Xã | D7: Thành phố Thanh Hóa | E7: =VLOOKUP(A7,'Chi tiết BV ngày28112022'!D:D,1,0) -> 38006
A8: 38007 | B8: Trạm y tế phường Nam Ngạn | C8: Xã | D8: Thành phố Thanh Hóa | E8: =VLOOKUP(A8,'Chi tiết BV ngày28112022'!D:D,1,0) -> 38007
A9: 38008 | B9: Trạm y tế phường Trường Thi | C9: Xã | D9: Thành phố Thanh Hóa | E9: =VLOOKUP(A9,'Chi tiết BV ngày28112022'!D:D,1,0) -> 38008
A10: 38009 | B10: Trạm y tế phường Điện Biên | C10: Xã | D10: Thành phố Thanh Hóa | E10: =VLOOKUP(A10,'Chi tiết BV ngày28112022'!D:D,1,0) -> 38009
A11: 38010 | B11: Bệnh viện đa khoa thành phố Thanh Hóa | C11: Huyện | D11: Thành phố Thanh Hóa | E11: =VLOOKUP(A11,'Chi tiết BV ngày28112022'!D:D,1,0) -> 38010
A12: 38011 | B12: Bệnh viện Y dược cổ truyền tỉnh Thanh Hóa | C12: Tỉnh | D12: Thành phố Thanh Hóa | E12: =VLOOKUP(A12,'Chi tiết BV ngày28112022'!D:D,1,0) -> 38011
A13: 38012 | B13: Bệnh viện tâm thần Thanh Hóa | C13: Tỉnh | D13: Thành phố Thanh Hóa | E13: =VLOOKUP(A13,'Chi tiết BV ngày28112022'!D:D,1,0) -> 38012
... A647: 38799 | B647: Bệnh viện Y Dược cổ truyền An Khang | C647: Huyện | D647: Huyện Như Thanh | E647: =VLOOKUP(A647,'Chi tiết BV ngày28112022'!D:D,1,0) -> 38799
