Workbook

Sheet DM VTYT trúng thầu (rút gọn)
A1: DANH MỤC VẬT TƯ Y TẾ TRÚNG THẦU (LẦN 2)
A2: ( Đính kèm Quyết định số 1134/QĐ-SYT ngày 17/11/2021 của Giám đốc Sở Y tế Thanh Hóa)
A3: STT | B3: Mã hàng hóa | C3: Tên thương mại trúng thầu | D3: Quy cách đóng gói | E3: Đặc tính thông số kỹ thuật trúng thầu | F3: Hãng sản xuất/ Nước sản xuất | G3: Nhóm TCKT theo TT 14/2020 | H3: ĐVT | I3: Số lượng trúng thầu | J3: Giá trúng thầu | K3: Thành tiền | L3: Nhà thầu trúng thầu
A4: =IF(I4="","",COUNTA($I$4:$I4)) -> 1 | B4: G17 | C4: Miếng cầm máu tại mũi 22-60402 | D4: 10 Miếng/hộp | E4: Thành phần: Hydroxilated Poly-Vinyl Acetate. kích thước 8 cm x 1,5 cm x 2 cm. - Khả năng thấm hút tốt: Lên tới 21 lần trọng lượng ban đầu khi ở trong chất lỏng. - Kích thước lỗ nhỏ. | F4: Invotec/ Mỹ | G4: Nhóm 3 | H4: Miếng | I4: 1246 | J4: 94500 | K4: =I4*J4 -> 117747000 | L4: Viện Trang thiết bị và Công trình Y tế
A5: =IF(I5="","",COUNTA($I$4:$I5)) -> 2 | B5: G31 | C5: Kim chọc dò và gây tê tủy sống số 22 | D5: 25 cái/hộp | E5: • Kim gây tê tủy sống đầu Quinck có 3 mặt vát sắc. • Thiết kế lăng kính pha lê phản quang trong chuôi kim ( Lăng kính có màu sáng bạc trước khi có dịch não tuỷ chảy ra, lăng kính chuyển sang trong suốt khi có dịch não tuỷ chảy ra). + Kim 22G 3⅟₂: chiều dài: 88mm (3 ⅟₂ inch), đường kính: 0.7 mm • Que thông nòng có màu theo quy ước | F5: Nipro Corporation/ Nhật Bản | G5: Nhóm 3 | H5: Cái | I5: 2160 | J5: 22300 | K5: =I5*J5 -> 48168000 | L5: Công ty TNHH thương mại đầu tư Việt Nam
A6: =IF(I6="","",COUNTA($I$4:$I6)) -> 3 | B6: G32 | C6: Kim chọc dò và gây tê tủy sống số 25 | D6: 25 cái/hộp | E6: • Kim gây tê tủy sống đầu Quinck có 3 mặt vát sắc. • Thiết kế chuôi kim cải tiến • Thiết kế lăng kính pha lê phản quang trong chuôi kim( Lăng kính có màu sáng bạc trước khi có dịch não tuỷ chảy ra, lăng kính chuyển sang trong suốt khi có dịch não tuỷ chảy ra). + Kim 25G 3⅟₂: chiều dài: 88mm (3 ⅟₂ inch), đường kính: 0.5 mm • Que thông nòng có màu theo quy ước | F6: Nipro Corporation/ Nhật Bản | G6: Nhóm 3 | H6: Cái | I6: 15320 | J6: 22300 | K6: =I6*J6 -> 341636000 | L6: Công ty TNHH thương mại đầu tư Việt Nam
A7: =IF(I7="","",COUNTA($I$4:$I7)) -> 4 | B7: G65 | C7: Ống dẫn lưu đường mật qua da có khóa HS General Purpose | D7: 01 cái/ túi | E7: Chiều dài: Từ 25cm đến 30 cm; - Đường kính: Từ 6Fr đến 16Fr; - Khả năng tương thích dây dẫn: 0.035 "; - Làm bằng chất liệu polyurethanen - Phần xoắn với lỗ thông lớn - Hệ thống ma sát thấp, chống xoắn, tương thích sinh học cao, đàn hồi tốt - Hệ thống locking - Trọn bộ bao gồm: dao nhọn hình tam giác, và dụng cụ làm cứng ống dẫn lưu, ống dẫn lưu phủ Hydrophilic và khoá | F7: HS Hospital Service/Ý | G7: Nhóm 3 | H7: Cái | I7: 50 | J7: 1800000 | K7: =I7*J7 -> 90000000 | L7: Công ty cổ phẩn thiết bị vật tư y tế Thanh Hóa
A8: =IF(I8="","",COUNTA($I$4:$I8)) -> 5 | B8: G70 | C8: Manifolds 3 cổng Medk | D8: 1 cái/ túi | E8: Bộ phận kết nối 3 cổng ( Có thêm loại 2 và 4 cổng đáp ứng nhu cầu khác nhau của khách hàng). Áp lực 200, 500, 600 PSI, cổng xoay phải On hoặc OFF. Gắn khớp với dây nối. Khóa dễ chỉnh, chắc chắn. Vật liệu Polycarbonate với đường kính ống 0,093" . Riêng đối với loại có 3 cổng ( Có sẵn dây nối dài 20cm đối với cổng kết nối dạng xoay) * Thiết kế khóa vặn chỗ tay cầm trơn tru với 3 màu sắc: Xanh, trắng, đỏ * Thân trong suốt giúp quan sát dễ dàng. | F8: Medk GmbH /Đức | G8: Nhóm 3 | H8: Cái | I8: 200 | J8: 170000 | K8: =I8*J8 -> 34000000 | L8: Công ty cổ phẩn thiết bị vật tư y tế Thanh Hóa
A9: =IF(I9="","",COUNTA($I$4:$I9)) -> 6 | B9: G75 | C9: Ống thông (catheter) chụp mạch ngoại biên Radifocus Glidecath | D9: Hộp/ 3 cái | E9: Kích thước 5Fr dài 65, 70, 80, 100cm. Trục linh hoạt, phủ lớp ái nước M Coat. Lòng rộng 1.1mm đối với catheter cỡ 5F. Cấu trúc 3 lớp: Lớp giữa là lớp đan kép, Lớp trong là Nylon-polyurethane. Lớp ngoài là Polyurethane elastomer. Tiệt trùng: Oxide Ethylene. | F9: Ashitaka Factory of Terumo Corporation/ Nhật Bản | G9: Nhóm 3 | H9: Cái | I9: 558 | J9: 950000 | K9: =I9*J9 -> 530100000 | L9: Công ty cổ phẩn thiết bị vật tư y tế Thanh Hóa
A10: =IF(I10="","",COUNTA($I$4:$I10)) -> 7 | B10: G77 | C10: Ống thông can thiệp FalconTM Coronary Guiding Catheter | D10: Hộp 1 cái | E10: Cỡ 6F - Mềm vừa phải, đầu tip mềm - Đầy đủ hình dạng để đưa được đến đích - 7cm đoạn đầu tip và 25 cm đoạn tay cầm không phủ ái nước - Cỡ 6Fr có lòng rộng 0,071" đủ để đưa được 2 bóng nong động mạch vành. | F10: Umbra Medical products, Inc/ Mỹ | G10: Nhóm 3 | H10: Cái | I10: 200 | J10: 1980000 | K10: =I10*J10 -> 396000000 | L10: Công ty cổ phẩn thiết bị vật tư y tế Thanh Hóa
A11: =IF(I11="","",COUNTA($I$4:$I11)) -> 8 | B11: G80 | C11: Ống thông can thiệp FalconTM Coronary Guiding Catheter | D11: 01 cái/hộp | E11: Cấu tạo 3 lớp: Lớp trong nhẵn là PTFE, Lớp đan kép bằng lưới kim loại ở giữa, lớp vỏ ngoài được làm mềm ở đoạn xa. Đầu mềm .Có loại 5F đầu thẳng để luồn trong ống thông 6Fr . Cỡ 6F có đường kính trong 0,071 inch, đường kính ngoài 0.081 inch. Cỡ 5F có đường kính trong 0,058 inch, đường kính ngoài 0.069 inch.Có khả năng nhớ, giữ được hình dạng tiêu chuẩn sau khi đi qua đoạn mạch cong queo. Kích thước: cỡ 6Fr dài 85 cm, 100cm, 120cm, thiết kế đầu dạng JR Tiệt trùng: Oxide Ethylene. | F11: Umbra Medical products, Inc/ Mỹ | G11: Nhóm 3 | H11: Cái | I11: 100 | J11: 1980000 | K11: =I11*J11 -> 198000000 | L11: Công ty cổ phẩn thiết bị vật tư y tế Thanh Hóa
A12: =IF(I12="","",COUNTA($I$4:$I12)) -> 9 | B12: G109 | C12: Marlin Violet số 1 | D12: Hộp 24 sợi | E12: Chỉ tiêu tổng hợp Polyglycolic acid sợi bện số 1, được bao bọc bởi lớp canxi stearat, este sacaroza-axit béo và polycaprolacton. KT dài 90cm, Kim tròn dài 40mm, kim cong 1/2; Sức căng còn 50% sau 14-16 ngày, tiêu hoàn toàn trong khoảng 90 đến 105 ngày. | F12: Catgut GmbH/ Đức | G12: Nhóm 3 | H12: Sợi | I12: 23455 | J12: 81000 | K12: =I12*J12 -> 1899855000 | L12: Công ty cổ phần đầu tư và phát triển y tế Việt Anh SM
A13: =IF(I13="","",COUNTA($I$4:$I13)) -> 10 | B13: G111 | C13: Marlin Violet số 2/0 | D13: Hộp 24 sợi | E13: Chỉ tiêu tổng hợp Polyglycolic acid sợi bện số 2/0, được bao bọc bởi lớp canxi stearat, este sacaroza-axit béo và polycaprolacton. KT dài 70cm, Kim tròn dài 26mm, kim cong 1/2. Sức căng còn 50% sau 14-16 ngày, tiêu hoàn toàn trong khoảng 90 đến 105 ngày. | F13: Catgut GmbH/ Đức | G13: Nhóm 3 | H13: Sợi | I13: 3078 | J13: 81500 | K13: =I13*J13 -> 250857000 | L13: Công ty cổ phần đầu tư và phát triển y tế Việt Anh SM
A14: =IF(I14="","",COUNTA($I$4:$I14)) -> 11 | B14: G113 | C14: Marlin Violet số 4/0 | D14: Hộp 24 sợi | E14: Chỉ tiêu tổng hợp Polyglycolic acid sợi bện số 4/0, được bao bọc bởi lớp Calcium stearate, este sacaroza-axit béo và polycaprolactone. KT dài 70cm, Kim tròn dài 22mm, kim cong 1/2; Sức căng còn 50% sau 14-16 ngày, tiêu hoàn toàn trong khoảng 90 đến 105 ngày. | F14: Catgut GmbH/ Đức | G14: Nhóm 3 | H14: Sợi | I14: 11080 | J14: 81500 | K14: =I14*J14 -> 903020000 | L14: Công ty cổ phần đầu tư và phát triển y tế Việt Anh SM
A15: =IF(I15="","",COUNTA($I$4:$I15)) -> 12 | B15: G145 | C15: Thủy tinh thể mềm Sensar 1 | D15: Hộp 1 cái | E15: Thủy tinh thể mềm 1 mảnh, chất liệu Acrylic Hydrophobic; thiết kế 3 điểm cố định túi bao; bờ sau vuông liên tục 360 độ, được xử lý mờ chống chói; chỉ số khúc xạ 1.47; hằng số A: 118,4; ACD: 5,2mm; dải công suất từ +6D đến +30D, chỉ số Abbe 55, càng chữ C, đường kính phần quang học 6mm; chiều dài tổng 13mm; đặt qua vét mổ 2,2mm, dùng kèm Injector kiểu xoay. | F15: AMO/Mỹ Hãng chủ sở hữu: Johnson & Johnson/ Mỹ | G15: Nhóm 3 | H15: Cái | I15: 130 | J15: 2990000 | K15: =I15*J15 -> 388700000 | L15: Công ty cổ phẩn thiết bị vật tư y tế Thanh Hóa
... A22: =IF(I22="","",COUNTA($I$4:$I22)) -> 19 | B22: G346 | C22: Điện cực tim | D22: Túi 50 cái | E22: Điện cực đo tim nền xốp. * Thiết kế hình chữ nhật nền xốp, mềm mại. * Nút điện cực bằng vật liệu thép không gỉ, dẫn truyền tín hiệu tốt. * Gel dính keo Acrylate, có độ dính tốt. * Kích thước 3,7cm x 3,3cm. | F22: EF Medica SRL/ Italy | G22: Nhóm 3 | H22: Cái | I22: 227104 | J22: 1250 | K22: =I22*J22 -> 283880000 | L22: Liên danh nhà thầu Bình Minh
A23: =IF(I23="","",COUNTA($I$4:$I23)) | B23: GB325 | H23: Bộ | L23: Công ty TNHH thiết bị y tế Tràng Thi
A24: =IF(I24="","",COUNTA($I$4:$I24)) -> 20 | B24: GB325.1 | C24: KYPHON- Kim chọc dò cuống sống | D24: 1 cái/1 gói | E24: Kim chọc dò cuống sống, mũi vát, đầu kim cương, 2 mặt vát, cỡ 11, vật liệu : Hợp kim y tế gồm 01 kim và thân rỗng nòng dẫn xi măng vào thân sống, có điểm đánh dấu hướng mũi kim, '- Chiều dài kim toàn thân là 14,5cm | F24: Argon/ Mỹ | G24: Nhóm 3 | H24: Cái | I24: 40 | J24: 1700000 | K24: =I24*J24 -> 68000000 | L24: Công ty TNHH thiết bị y tế Tràng Thi
A25: =IF(I25="","",COUNTA($I$4:$I25)) -> 21 | B25: GB325.2 | C25: KYPHON_Bộ kim và mũi khoan đốt sống | D25: 1 cái/1 gói | E25: - Hợp kim y tế cao cấp gồm: 02 Ống rỗng nòng đk 4.2mm, mũi khoan thân đốt sống cỡ 3, kim mũi nhọn và kim đầu tù. | F25: Medtronic/ Mexico | G25: Nhóm 3 | H25: Cái | I25: 20 | J25: 4000000 | K25: =I25*J25 -> 80000000 | L25: Công ty TNHH thiết bị y tế Tràng Thi
A26: =IF(I26="","",COUNTA($I$4:$I26)) -> 22 | B26: GB325.3 | C26: KYPHON - Bóng nong thân đốt sống | D26: 1 cái/1 gói | E26: - Bóng nong thân đốt dưới áp lực của dung dịch '- Nhiều size và kích cỡ, đường kính 10,15,20 cỡ 3, dung tích tối đa là 6ml '- Áp lực tối đa là 400 psi trong xương xốp | F26: Medtronic/ Mexico | G26: Nhóm 3 | H26: Cái | I26: 40 | J26: 10950000 | K26: =I26*J26 -> 438000000 | L26: Công ty TNHH thiết bị y tế Tràng Thi
A27: =IF(I27="","",COUNTA($I$4:$I27)) -> 23 | B27: GB325.4 | C27: KYPHON-Xi lanh bơm phồng bóng có đồng hồ đo áp lực | D27: 1 cái/1 gói | E27: - Xi lanh bơm phồng có đồng hồ đo áp lực bóng nong '- Vật liệu: Nhựa y tế tổng hợp cao cấp | F27: Merit/Mỹ | G27: Nhóm 3 | H27: Cái | I27: 20 | J27: 7950000 | K27: =I27*J27 -> 159000000 | L27: Công ty TNHH thiết bị y tế Tràng Thi
A28: =IF(I28="","",COUNTA($I$4:$I28)) -> 24 | B28: GB325.5 | C28: KYPHON- Xi măng ngoại khoa | D28: 1 cái/1 gói | E28: - Xi măng sinh học có độ quánh cao kèm dung dịch pha đơn - Dung tích từ 17-19cc, thời gian đông cứng khoảng 15 phút | F28: Tecres Spa/Italy | G28: Nhóm 3 | H28: Cái | I28: 20 | J28: 7500000 | K28: =I28*J28 -> 150000000 | L28: Công ty TNHH thiết bị y tế Tràng Thi
A29: =IF(I29="","",COUNTA($I$4:$I29)) -> 25 | B29: GB325.6 | C29: KYPHON Mixer - Bộ trộn và phân phối xi măng gắn xương | D29: 1 cái/1 gói | E29: - Vật liệu nhựa y tế cao cấp | F29: Medtronic/ Mỹ | G29: Nhóm 3 | H29: Cái | I29: 20 | J29: 3950000 | K29: =I29*J29 -> 79000000 | L29: Công ty TNHH thiết bị y tế Tràng Thi
A30: =IF(I30="","",COUNTA($I$4:$I30)) -> 26 | B30: GB325.7 | C30: KYPHON- Dụng cụ đưa xi măng vào thân đốt sống size 3 | D30: 1 cái/1 gói | E30: - Dụng cụ bằng nhựa y tế cao cấp, ống rỗng nòng đường kính 3mm '- Dung tích 1.5cc, được chia làm 3 vạch phân cách | F30: Medtronic/ Mexico | G30: Nhóm 3 | H30: Cái | I30: 80 | J30: 1950000 | K30: =I30*J30 -> 156000000 | L30: Công ty TNHH thiết bị y tế Tràng Thi
A31: =IF(I31="","",COUNTA($I$4:$I31)) -> 27 | B31: GB325.8 | C31: KYPHON- Kim chọc dò đốt sống | D31: 1 cái/1 gói | E31: - Kim chuyên dùng cho sinh thiết mô đốt sống, size 3, đầu có gai nhọn giữ xương | F31: Medtronic/ Mexico | G31: Nhóm 3 | H31: Cái | I31: 10 | J31: 2450000 | K31: =I31*J31 -> 24500000 | L31: Công ty TNHH thiết bị y tế Tràng Thi
A32: =IF(I32="","",COUNTA($I$4:$I32)) -> 28 | B32: V48 | C32: Kim luồn tĩnh mạch số 18G, 20G, 22G, 24G, (HEALCATH cannula) (dạng bút) | D32: 50 cái/ 1 hộp 500 cái/ 1 kiện | E32: - Kim làm bằng thép không gỉ, đầu kim có 3 mặt vát, sắc bén, dễ lấy ven và giảm đau. - Kim có ống chụp bảo vệ khi chưa sử dụng dạng bút thuận tiện . - Ống catheter có 2 vạch cản quang làm từ chất liệu PTFE nhựa y tế tương thích sinh học có tính đàn hồi, chống xoắn-gập. Đầu ống catheter hình vát nón ôm sát kim giúp dễ dàng lấy ven, gây tổn thương ít, ít đau. - Kim không cánh không của bơm thuốc. - Khoang báo máu thiết kế trong xuất với màng thoát khí không thấm nước, dễ dàng xác định lấy đúng ven. - khử trùng bằng khí EO( Ethylene Oxide). - Thời gian lưu kim 96 giờ. - 18G; Ø (1,3 x 45) mm; Flow/ Rate 85ml/ min. - 20G; Ø (1,1 x 33) mm; Flow/ Rate 55ml/ min. - 22G; Ø (0,9 x 25) mm; Flow/ Rate 33ml/ min. - 24G; Ø (0,7 x 19) mm; Flow/ Rate 18ml/ min. | F32: HARSORIA - ẤN ĐỘ | G32: Nhóm 5 | H32: Cái | I32: 30700 | J32: 5800 | K32: =I32*J32 -> 178060000 | L32: Công ty cổ phẩn thiết bị vật tư y tế Thanh Hóa
A33: =IF(I33="","",COUNTA($I$4:$I33)) -> 29 | B33: V49 | C33: Kim chạy thận nhân tạo AVF | D33: 100 cái/hộp | E33: Kim làm bằng thép không gỉ - Kim có cánh định vị cánh xoay với màu xanh (16G), màu cam (17G), đầu kim có 3 mặt vát, sắc bén, phủ silicon - Kim có ống chụp bảo vệ khi chưa sử dụng - Mặt sau có lỗ backeye - Cỡ: 16G [1.65x25mm]; 17G [1.47x25mm] - Chiều dài kim : 25 (mm) - Chiều dài dây gắn với kim: 300 (mm) - Đường kính ngoài O.D:5.5;đường kính trong I.D:3.5 - Tốc độ dòng chảy: 200ml/min - Có khóa chặn dòng tức thì - Khử trùng bằng khí EO ( Ethylene Oxide) | F33: Perfect/ Việt Nam | G33: Nhóm 5 | H33: Kim | I33: 22500 | J33: 6200 | K33: =I33*J33 -> 139500000 | L33: Công ty TNHH thiết bị y tế và dược phẩm An Phúc
A34: =IF(I34="","",COUNTA($I$4:$I34)) -> 30 | B34: V86 | C34: Chỉ Caresorb Plus (Polyglactin 910 có kháng khuẩn) số 1 | D34: H / 36 Sợi (tép) | E34: Polyglactin 910 có kháng khuẩn Chlorhexidine Diacetate. Lớp bao phủ Poly (glycolide-co-lactide) (30:70) - Glacomer 370, calcium stearate và Chlorhexidine Diacetate ≤ 60μg/m. Kim thép không rỉ, phủ silicon. Chỉ số 1, dài 90 cm, kim tròn 1/2c, dài 40 mm. Tiêu hoàn toàn trong khoảng thời gian 56-70 ngày; Sức căng còn 75% sau 2 tuần, 50% sau 3 tuần Giữ vết khâu tốt trong vòng 30 ngày. | F34: CPT/ Việt Nam | G34: Nhóm 5 | H34: Sợi | I34: 6252 | J34: 65000 | K34: =I34*J34 -> 406380000 | L34: Công ty cổ phẩn thiết bị vật tư y tế Thanh Hóa
A35: =IF(I35="","",COUNTA($I$4:$I35)) -> 31 | B35: V87 | C35: Chỉ Caresorb số 2/0 | D35: H / 36 Sợi (tép) | E35: Chỉ tiêu tổng hợp đa sợi Polyglactin 910 số 2/0, dài 75 cm, kim tròn 1/2c, dài 26 mm, Chất liệu 90% glycolide và 10% L-lactide, cấu trúc đa sợi bện, lớp bao phủ Poly(glycolide-co-lactide)(30:70) và Calcium stearate, duy trì sức căng 75% sau 2 tuần và 50% sau 3 tuần, độ tan 56-70 ngày. Kim thép không rỉ phủ silicon . | F35: CPT/ Việt Nam | G35: Nhóm 5 | H35: Sợi | I35: 5748 | J35: 57000 | K35: =I35*J35 -> 327636000 | L35: Công ty cổ phẩn thiết bị vật tư y tế Thanh Hóa
... A62: =IF(I62="","",COUNTA($I$4:$I62)) -> 58 | B62: K217 | C62: Giấy điện tim 6 cần 110mm*140mm*200 tờ | D62: Túi 1 tập | E62: Kích thước 110mm*140mm*200sheets, chất liệu bằng giấy in nhiệt | F62: Tianjin Grand Paper Industry Co., Ltd/ Trung Quốc | G62: Nhóm 6 | H62: Tập | I62: 18884 | J62: 25500 | K62: =I62*J62 -> 481542000 | L62: Liên danh nhà thầu Bình Minh
A63: =IF(I63="","",COUNTA($I$4:$I63)) | B63: KB161 | H63: Bộ | L63: Công ty cổ phẩn thiết bị vật tư y tế Thanh Hóa
A64: =IF(I64="","",COUNTA($I$4:$I64)) -> 59 | B64: KB161.1 | C64: Nẹp khóa xương đòn chữ S trái, phải | D64: 1 cái/túi | E64: Rộng 10.4mm; dày 3.2mm; chiều dài của nẹp từ 88.25mm - 134mm; chỉ định dùng ở vị trí xương đòn - Số lỗ trên thân nẹp: từ 6; 7; 8 lỗ trái/ phải; 9 lỗ trái - chất liệu Titan | F64: XinrongBest Trung Quốc | G64: Nhóm 6 | H64: Cái | I64: 219 | J64: 3985000 | K64: =I64*J64 -> 872715000 | L64: Công ty cổ phẩn thiết bị vật tư y tế Thanh Hóa
A65: =IF(I65="","",COUNTA($I$4:$I65)) -> 60 | B65: KB161.2 | C65: Vít khóa titan đường kính 3.5 mm | D65: 1 cái/túi | E65: kiểu vít tự taro chất liệu titan - đường kính ren 3.5mm; ren toàn phần - chiều dài 10mm; 12mm; 14mm; 16mm; 18mm; 20mm; 22mm; 24mm; 26mm; 28mm; 30mm; 32mm; 34mm - chất liệu Titan | F65: XinrongBest Trung Quốc | G65: Nhóm 6 | H65: Cái | I65: 1853 | J65: 252000 | K65: =I65*J65 -> 466956000 | L65: Công ty cổ phẩn thiết bị vật tư y tế Thanh Hóa
A66: =IF(I66="","",COUNTA($I$4:$I66)) | B66: KB163 | H66: Bộ | L66: Công ty cổ phẩn thiết bị vật tư y tế Thanh Hóa
A67: =IF(I67="","",COUNTA($I$4:$I67)) -> 61 | B67: KB163.1 | C67: Nẹp khóa lòng máng 4-14 lỗ.Titan | D67: 1 cái/túi | E67: rộng 9,70mm; dày 1.0mm; chiều dài của nẹp từ 58mm - 188mm; - Số lỗ trên thân nẹp 6; 8 lỗ - chất liệu Titan | F67: XinrongBest Trung Quốc | G67: Nhóm 6 | H67: Cái | I67: 44 | J67: 3128000 | K67: =I67*J67 -> 137632000 | L67: Công ty cổ phẩn thiết bị vật tư y tế Thanh Hóa
A68: =IF(I68="","",COUNTA($I$4:$I68)) -> 62 | B68: KB163.2 | C68: Vít khóa titan đường kính 3.5 mm | D68: 10 cái/túi | E68: kiểu vít tự taro - đường kính ren 3.5mm; ren toàn phần - chiều dài 16mm; 18mm; 20mm; 28mm; 32mm - chất liệu Titan | F68: XinrongBest Trung Quốc | G68: Nhóm 6 | H68: Cái | I68: 308 | J68: 252000 | K68: =I68*J68 -> 77616000 | L68: Công ty cổ phẩn thiết bị vật tư y tế Thanh Hóa
A69: =IF(I69="","",COUNTA($I$4:$I69)) | B69: KB164 | H69: Bộ | L69: Công ty cổ phẩn thiết bị vật tư y tế Thanh Hóa
A70: =IF(I70="","",COUNTA($I$4:$I70)) -> 63 | B70: KB164.1 | C70: Nẹp khóa chữ T . Titan | D70: 1 cái/túi | E70: rộng 16mm; dày 3mm; chiều dài của nẹp từ 88mm - 184mm trụ. - Số lỗ trên thân nẹp: 4; 5 lỗ - chất liệu Titan | F70: XinrongBest Trung Quốc | G70: Nhóm 6 | H70: Cái | I70: 30 | J70: 3128000 | K70: =I70*J70 -> 93840000 | L70: Công ty cổ phẩn thiết bị vật tư y tế Thanh Hóa
A71: =IF(I71="","",COUNTA($I$4:$I71)) -> 64 | B71: KB164.2 | C71: Vít khóa titan | D71: 10 cái/túi | E71: kiểu vít tự taro - đường kính ren 5.0mm; ren toàn phần - chiều dài 30mm; 32mm - chất liệu Titan | F71: XinrongBest Trung Quốc | G71: Nhóm 6 | H71: Cái | I71: 65 | J71: 252000 | K71: =I71*J71 -> 16380000 | L71: Công ty cổ phẩn thiết bị vật tư y tế Thanh Hóa
A72: =IF(I72="","",COUNTA($I$4:$I72)) | B72: KB165 | H72: Bộ | L72: Công ty cổ phẩn thiết bị vật tư y tế Thanh Hóa
A73: =IF(I73="","",COUNTA($I$4:$I73)) -> 65 | B73: KB165.1 | C73: Nẹp khoá bản rộng 4-20 lỗ. Titan | D73: 1 cái/túi | E73: rộng 17.6mm; dày 5.6mm; chiều dài của nẹp từ 74mm - 362mm - Số lỗ trên thân nẹp 8; 10; 12 lỗ - chất liệu Titan | F73: XinrongBest Trung Quốc | G73: Nhóm 6 | H73: Cái | I73: 76 | J73: 3625000 | K73: =I73*J73 -> 275500000 | L73: Công ty cổ phẩn thiết bị vật tư y tế Thanh Hóa
A74: =IF(I74="","",COUNTA($I$4:$I74)) -> 66 | B74: KB165.2 | C74: Vít khóa titan | D74: 10 cái/túi | E74: kiểu vít tự taro - đường kính ren 5.0mm; ren toàn phần - chiều dài 26mm; 30mm; 34mm; 38mm - chất liệu Titan | F74: XinrongBest Trung Quốc | G74: Nhóm 6 | H74: Cái | I74: 830 | J74: 252000 | K74: =I74*J74 -> 209160000 | L74: Công ty cổ phẩn thiết bị vật tư y tế Thanh Hóa
A75: =IF(I75="","",COUNTA($I$4:$I75)) | B75: KB166 | H75: Bộ | L75: Công ty cổ phẩn thiết bị vật tư y tế Thanh Hóa
A76: =IF(I76="","",COUNTA($I$4:$I76)) -> 67 | B76: KB166.1 | C76: Nẹp khoá đầu trên xương đùi các loại. Titan | D76: 1 cái/túi | E76: rộng 17.3mm; dày 5.4mm; chiều dài của nẹp từ 120mm - 318mm - Số lỗ trên thân nẹp: 6 lỗ trái; 8 lỗ phải - chất liệu Titan | F76: XinrongBest Trung Quốc | G76: Nhóm 6 | H76: Cái | I76: 40 | J76: 3625000 | K76: =I76*J76 -> 145000000 | L76: Công ty cổ phẩn thiết bị vật tư y tế Thanh Hóa
A77: =IF(I77="","",COUNTA($I$4:$I77)) -> 68 | B77: KB166.2 | C77: Vít khóa titan | D77: 10 cái/túi | E77: kiểu vít tự taro - đường kính ren 5.0mm; ren toàn phần - chiều dài: 36mm; 38mm; 65mm; 70mm - chất liệu Titan | F77: XinrongBest Trung Quốc | G77: Nhóm 6 | H77: Cái | I77: 240 | J77: 252000 | K77: =I77*J77 -> 60480000 | L77: Công ty cổ phẩn thiết bị vật tư y tế Thanh Hóa
A78: =IF(I78="","",COUNTA($I$4:$I78)) | B78: KB167 | H78: Bộ | L78: Công ty cổ phẩn thiết bị vật tư y tế Thanh Hóa
A79: =IF(I79="","",COUNTA($I$4:$I79)) -> 69 | B79: KB167.1 | C79: Nẹp khóa đầu dưới xương chày 6-16 lỗ trái, phải. Titan | D79: 1 cái/túi | E79: rộng 11.5mm; dày 3.7mm; chiều dài của nẹp từ 140.5mm - 270.5mm. - Số lỗ trên thân nẹp: 8 lỗ trái/phải - chất liệu Titan | F79: XinrongBest Trung Quốc | G79: Nhóm 6 | H79: Cái | I79: 62 | J79: 3625000 | K79: =I79*J79 -> 224750000 | L79: Công ty cổ phẩn thiết bị vật tư y tế Thanh Hóa
A80: =IF(I80="","",COUNTA($I$4:$I80)) -> 70 | B80: KB167.2 | C80: Vít khóa titan | D80: 10 cái/túi | E80: kiểu vít tự taro - đường kính ren 5.0mm; ren toàn phần - chiều dài 28mm; 30mm; 32mm; 38mm; 40mm - chất liệu Titan | F80: XinrongBest Trung Quốc | G80: Nhóm 6 | H80: Cái | I80: 470 | J80: 252000 | K80: =I80*J80 -> 118440000 | L80: Công ty cổ phẩn thiết bị vật tư y tế Thanh Hóa
A81: =IF(I81="","",COUNTA($I$4:$I81)) | B81: KB168 | H81: Bộ | L81: Công ty cổ phẩn thiết bị vật tư y tế Thanh Hóa
A82: =IF(I82="","",COUNTA($I$4:$I82)) -> 71 | B82: KB168.1 | C82: Nẹp khóa đầu trên xương chày trái, phải. Titan | D82: 1 cái/túi | E82: rộng 16mm; dày 3mm; chiều dài của nẹp từ 104mm - 266mm. - Số lỗ trên thân nẹp: 7; 9 lỗ trái/ phải - chất liệu Titan | F82: XinrongBest Trung Quốc | G82: Nhóm 6 | H82: Cái | I82: 4 | J82: 3625000 | K82: =I82*J82 -> 14500000 | L82: Công ty cổ phẩn thiết bị vật tư y tế Thanh Hóa
A83: =IF(I83="","",COUNTA($I$4:$I83)) -> 72 | B83: KB168.2 | C83: Vít khóa titan | D83: 10 cái/túi | E83: kiểu vít tự taro - đường kính ren 5.0mm; ren toàn phần - chiều dài 28mm; 30mm - chất liệu Titan | F83: XinrongBest Trung Quốc | G83: Nhóm 6 | H83: Cái | I83: 20 | J83: 252000 | K83: =I83*J83 -> 5040000 | L83: Công ty cổ phẩn thiết bị vật tư y tế Thanh Hóa
A84: =IF(I84="","",COUNTA($I$4:$I84)) | B84: KB169 | H84: Bộ | L84: Công ty cổ phẩn thiết bị vật tư y tế Thanh Hóa
A85: =IF(I85="","",COUNTA($I$4:$I85)) -> 73 | B85: KB169.1 | C85: Nẹp khóa titanium bản nhỏ các cỡ | D85: 1 cái/túi | E85: Nẹp dày 4mm, rộng 12mm, có 6; 8 lỗ, dài từ 87 đến 219mm, sử dụng vít khóa đường kính 3.5mm. Lỗ bắt vít hình oval đối xứng nhau qua điểm giữa thân nẹp. Mặt dưới thân nẹp được tạo hình những khoảng lõm đối xứng nhau. Chất liệu titanium, | F85: XinrongBest Trung Quốc | G85: Nhóm 6 | H85: Cái | I85: 20 | J85: 2985000 | K85: =I85*J85 -> 59700000 | L85: Công ty cổ phẩn thiết bị vật tư y tế Thanh Hóa
A86: =IF(I86="","",COUNTA($I$4:$I86)) -> 74 | B86: KB169.2 | C86: Vít khóa titanium 3.5 các cỡ | D86: 10 cái/túi | E86: Đối với vít khóa đường kính 3.5mm: Đường kính mũ vít là 6mm, đường kính lỗ bắt tuốc nơ vít trên đầu mũ vít là 2.5mm, đường kính thân vít 3.5mm, dài 18mm; 20mm; 22mm. Cổ mũ vít có ren.Chất liệu titanium. Tương thích đồng bộ với nẹp titanium, | F86: XinrongBest Trung Quốc | G86: Nhóm 6 | H86: Cái | I86: 140 | J86: 252000 | K86: =I86*J86 -> 35280000 | L86: Công ty cổ phẩn thiết bị vật tư y tế Thanh Hóa
A87: TỔNG CỘNG | K87: =SUBTOTAL(9,K4:K86) -> 37984493100

Sheet DM trúng thầu chi tiết (full)
A2: DANH MỤC VẬT TƯ Y TẾ TRÚNG THẦU VỚI SỐ LƯỢNG CHI TIẾT NĂM 2022
A4: STT | B4: Mã hàng hóa 2021 | C4: Mã hàng hóa 2021 (Cũ) | D4: Mã TT 04/2017 | E4: Tên vật tư y tế mời thầu | F4: Tên vật tư y tế trúng thầu | G4: Yêu cầu kỹ thuật | H4: Quy tắc đóng gói | I4: Hãng/nước sản xuất | J4: Nhóm TCKT theo TT 14/2020 | K4: ĐVT | L4: Số lượng dự kiến 17/10/2021 đến 16/10/2022 (chi tiết) | M4: Số lượng dự kiến 17/10/2021 đến 16/10/2022 (Tổng cộng) | N4: Giá trúng thầu | O4: Nhà thầu trúng thầu | P4: Mã hiệu VTYT | Q4: Mã dùng chung (nếu có) | R4: Khối Bệnh viện | BD4: Khối Trung tâm Y tế
A5: 1 | B5: 2 | D5: 3 | E5: 4 | G5: 5 | K5: 6 | L5: 7 | M5: 8 | R5: Đa khoa tỉnh | S5: Da Liễu | T5: Mắt | U5: Nội Tiết | V5: Nhi | W5: PHCN | X5: Phổi | Y5: Phụ Sản | Z5: Tâm Thần | AA5: YDCT | AB5: Ung Bướu | AC5: Ngọc Lặc | AD5: Bá Thước | AE5: Bỉm Sơn | AF5: Cẩm Thủy | AG5: Đông Sơn | AH5: Hà Trung | AI5: Hoằng Hóa | AJ5: Hậu Lộc | AK5: Lang Chánh | AL5: Mường Lát | AM5: Nông Cống | AN5: Như Thanh | AO5: Như Xuân | AP5: Nga Sơn | AQ5: Quảng Xương | AR5: Quan Hóa | AS5: Quan Sơn | AT5: Sầm Sơn | AU5: Thạch Thành | AV5: Thành Phố | AW5: Thọ Xuân | AX5: Nghi Sơn | AY5: Thiệu Hóa | AZ5: Thường Xuân | BA5: Triệu Sơn | BB5: Vĩnh Lộc | BC5: Yên Định | BD5: Ban BV sức khỏe | BE5: CDC | BF5: PK GTVT | BG5: TTGĐ Y khoa | BH5: TT pháp Y | BI5: TTYT Bá Thước | BJ5: TTYT Bỉm Sơn | BK5: TTYT Cẩm Thủy | BL5: TTYT Đông Sơn | BM5: TTYT Hà Trung | BN5: TTYT Hậu Lộc | BO5: TTYT Hoằng Hóa | BP5: TTYT Lang chánh | BQ5: TTYT Mường Lát | BR5: TTYT Nông cống | BS5: TTYT Nga Sơn | BT5: TTYT Ngọc Lặc | BU5: TTYT Như xuân | BV5: TTYT Như Thanh | BW5: TTYT Quảng Xương | BX5: TTYT Quan Hóa | BY5: TTYT Sầm Sơn | BZ5: TTYT Nghi Sơn | CA5: TTYT Thạch Thành | CB5: TTYT Thành Phố | CC5: TTYT Thiệu hóa | CD5: TTYT Thường xuân | CE5: TTYT Triệu Sơn | CF5: TTYT Vĩnh Lộc | CG5: TTYT Yên Định
A6: =IF(L6="","",COUNTA($L$6:$L6)) -> 1 | B6: G17 | C6: G16 | D6: N02.04.040 | E6: Miếng cầm máu tại mũi | F6: Miếng cầm máu tại mũi 22-60402 | G6: Thành phần: Hydroxilated Poly-Vinyl Acetate. kích thước 8 cm x 1,5 cm x 2 cm. - Khả năng thấm hút tốt: Lên tới 21 lần trọng lượng ban đầu khi ở trong chất lỏng. - Kích thước lỗ nhỏ. | H6: 10 Miếng/hộp | I6: Invotec/ Mỹ | J6: Miếng | K6: 1246 | L6: 1246 | M6: 94500 | N6: Viện Trang thiết bị và Công trình Y tế | O6: =K6*M6 -> 117747000 | P6: 22-60402 | R6: 800 | V6: 80 | AD6: 10 | AF6: 20 | AH6: 100 | AJ6: 20 | AM6: 50 | AP6: 10 | AW6: 24 | BB6: 2 | BC6: 50 | BI6: 20 | BJ6: 50 | CG6: 10
A7: =IF(L7="","",COUNTA($L$6:$L7)) -> 2 | B7: G31 | C7: G36 | D7: N03.03.010 | E7: Kim chọc dò và gây tê tủy sống số 22 (Spinocan G22) | F7: Kim chọc dò và gây tê tủy sống số 22 | G7: Thành phần: Hydroxilated Poly-Vinyl Acetate. kích thước 8 cm x 1,5 cm x 2 cm. - Khả năng thấm hút tốt: Lên tới 21 lần trọng lượng ban đầu khi ở trong chất lỏng. - Kích thước lỗ nhỏ. | H7: 25 cái/hộp | I7: Nipro Corporation/ Nhật Bản | J7: Cái | K7: 2160 | L7: 2160 | M7: 22300 | N7: Công ty TNHH thương mại đầu tư Việt Nam | O7: =K7*M7 -> 48168000 | P7: 0403002404 | Q7: N03.03.010.174. 000004 | R7: 500 | V7: 200 | AE7: 500 | AJ7: 390 | AK7: 100 | AM7: 100 | AT7: 100 | AW7: 150 | BB7: 20 | BC7: 100
A8: =IF(L8="","",COUNTA($L$6:$L8)) -> 3 | B8: G32 | C8: G37 | D8: N03.03.010 | E8: Kim chọc dò và gây tê tủy sống số 25 (Spinocan G25) | F8: Kim chọc dò và gây tê tủy sống số 25 | G8: Thành phần: Hydroxilated Poly-Vinyl Acetate. kích thước 8 cm x 1,5 cm x 2 cm. - Khả năng thấm hút tốt: Lên tới 21 lần trọng lượng ban đầu khi ở trong chất lỏng. - Kích thước lỗ nhỏ. | H8: 25 cái/hộp | I8: Nipro Corporation/ Nhật Bản | J8: Cái | K8: 15320 | L8: 15320 | M8: 22300 | N8: Công ty TNHH thương mại đầu tư Việt Nam | O8: =K8*M8 -> 341636000 | P8: 0403003204 | Q8: N03.03.010.174. 000005 | R8: 9300 | V8: 100 | AB8: 500 | AC8: 650 | AD8: 200 | AE8: 300 | AH8: 1200 | AJ8: 390 | AK8: 200 | AM8: 100 | AN8: 390 | AO8: 200 | AS8: 200 | AW8: 250 | AX8: 500 | AY8: 240 | BB8: 100 | BC8: 500
A9: =IF(L9="","",COUNTA($L$6:$L9)) -> 4 | B9: G65 | C9: G76 | D9: N04.02.040 | E9: Ống dẫn lưu đường mật qua da có khóa | F9: Ống dẫn lưu đường mật qua da có khóa HS General Purpose | G9: Thành phần: Hydroxilated Poly-Vinyl Acetate. kích thước 8 cm x 1,5 cm x 2 cm. - Khả năng thấm hút tốt: Lên tới 21 lần trọng lượng ban đầu khi ở trong chất lỏng. - Kích thước lỗ nhỏ. | H9: 01 cái/ túi | I9: HS Hospital Service/Ý | J9: Cái | K9: 50 | L9: 50 | M9: 1800000 | N9: Công ty cổ phẩn thiết bị vật tư y tế Thanh Hóa | O9: =K9*M9 -> 90000000 | P9: HSGPLXXXX | Q9: N04.02.030.633.ZZZZZZ | AB9: 50
A10: =IF(L10="","",COUNTA($L$6:$L10)) -> 5 | B10: G70 | C10: G83 | D10: N04.03.100 | E10: Bộ kết nối 3 cổng | F10: Manifolds 3 cổng Medk | G10: Thành phần: Hydroxilated Poly-Vinyl Acetate. kích thước 8 cm x 1,5 cm x 2 cm. - Khả năng thấm hút tốt: Lên tới 21 lần trọng lượng ban đầu khi ở trong chất lỏng. - Kích thước lỗ nhỏ. | H10: 1 cái/ túi | I10: Medk GmbH /Đức | J10: Cái | L10: 200 | M10: 170000 | N10: Công ty cổ phẩn thiết bị vật tư y tế Thanh Hóa
A11: =IF(L11="","",COUNTA($L$6:$L11)) | B11: G70.1 | E11: Bộ phận kết nối 3 cổng right hand, off màu trắng | G11: Thành phần: Hydroxilated Poly-Vinyl Acetate. kích thước 8 cm x 1,5 cm x 2 cm. - Khả năng thấm hút tốt: Lên tới 21 lần trọng lượng ban đầu khi ở trong chất lỏng. - Kích thước lỗ nhỏ. | H11: 1 cái/ túi | I11: Medk GmbH /Đức | J11: Cái | K11: 50 | M11: 170000 | N11: Công ty cổ phẩn thiết bị vật tư y tế Thanh Hóa | O11: =K11*M11 -> 8500000 | P11: 9823253RH2821 | Q11: N04.03.100.572.000003 | R11: 50
A12: =IF(L12="","",COUNTA($L$6:$L12)) | B12: G70.2 | E12: Bộ phận kết nối 3 cổng right hand, off màu xanh | G12: Thành phần: Hydroxilated Poly-Vinyl Acetate. kích thước 8 cm x 1,5 cm x 2 cm. - Khả năng thấm hút tốt: Lên tới 21 lần trọng lượng ban đầu khi ở trong chất lỏng. - Kích thước lỗ nhỏ. | H12: 1 cái/ túi | I12: Medk GmbH /Đức | J12: Cái | K12: 50 | M12: 170000 | N12: Công ty cổ phẩn thiết bị vật tư y tế Thanh Hóa | O12: =K12*M12 -> 8500000 | P12: 9823253RH1641 | Q12: N04.03.100.572.ZZZZZZ | R12: 50
A13: =IF(L13="","",COUNTA($L$6:$L13)) | B13: G70.3 | E13: Bộ phận kết nối 3 cổng right hand, on màu trắng | G13: Thành phần: Hydroxilated Poly-Vinyl Acetate. kích thước 8 cm x 1,5 cm x 2 cm. - Khả năng thấm hút tốt: Lên tới 21 lần trọng lượng ban đầu khi ở trong chất lỏng. - Kích thước lỗ nhỏ. | H13: 1 cái/ túi | I13: Medk GmbH /Đức | J13: Cái | K13: 50 | M13: 170000 | N13: Công ty cổ phẩn thiết bị vật tư y tế Thanh Hóa | O13: =K13*M13 -> 8500000 | P13: 9823253RH2921 | Q13: N04.03.100.572.000007 | R13: 50
A14: =IF(L14="","",COUNTA($L$6:$L14)) | B14: G70.4 | E14: Bộ phận kết nối 3 cổng right hand, on màu xanh | G14: Thành phần: Hydroxilated Poly-Vinyl Acetate. kích thước 8 cm x 1,5 cm x 2 cm. - Khả năng thấm hút tốt: Lên tới 21 lần trọng lượng ban đầu khi ở trong chất lỏng. - Kích thước lỗ nhỏ. | H14: 1 cái/ túi | I14: Medk GmbH /Đức | J14: Cái | K14: 50 | M14: 170000 | N14: Công ty cổ phẩn thiết bị vật tư y tế Thanh Hóa | O14: =K14*M14 -> 8500000 | P14: 9823253RH2911 | Q14: N04.03.100.572.000008 | R14: 50
A15: =IF(L15="","",COUNTA($L$6:$L15)) -> 6 | B15: G75 | C15: G88 | D15: N04.04.010 | E15: Ống thông (catheter) hỗ trợ can thiệp ngoại biên ái nước | F15: Ống thông (catheter) chụp mạch ngoại biên Radifocus Glidecath | G15: Thành phần: Hydroxilated Poly-Vinyl Acetate. kích thước 8 cm x 1,5 cm x 2 cm. - Khả năng thấm hút tốt: Lên tới 21 lần trọng lượng ban đầu khi ở trong chất lỏng. - Kích thước lỗ nhỏ. | H15: Hộp/ 3 cái | I15: Ashitaka Factory of Terumo Corporation/ Nhật Bản | J15: Cái | L15: 558 | M15: 950000 | N15: Công ty cổ phẩn thiết bị vật tư y tế Thanh Hóa
A16: =IF(L16="","",COUNTA($L$6:$L16)) | B16: G75.1 | E16: Ống thông (catheter) chụp mạch ngoại biên Radifocus Glidecath Cobra 5F: 80cm (hoặc tương đương) | G16: Thành phần: Hydroxilated Poly-Vinyl Acetate. kích thước 8 cm x 1,5 cm x 2 cm. - Khả năng thấm hút tốt: Lên tới 21 lần trọng lượng ban đầu khi ở trong chất lỏng. - Kích thước lỗ nhỏ. | H16: Hộp/ 3 cái | I16: Ashitaka Factory of Terumo Corporation/ Nhật Bản | J16: Cái | K16: 50 | M16: 950000 | N16: Công ty cổ phẩn thiết bị vật tư y tế Thanh Hóa | O16: =K16*M16 -> 47500000 | P16: RF*XB45108M | Q16: N04.04.010.230.000050 | R16: 20 | AB16: 30
A17: =IF(L17="","",COUNTA($L$6:$L17)) | B17: G75.2 | E17: Ống thông ( catheter ) chụp mạch não Radifocus Glidecath (Mani) (hoặc tương đương) | G17: Thành phần: Hydroxilated Poly-Vinyl Acetate. kích thước 8 cm x 1,5 cm x 2 cm. - Khả năng thấm hút tốt: Lên tới 21 lần trọng lượng ban đầu khi ở trong chất lỏng. - Kích thước lỗ nhỏ. | H17: Hộp/ 3 cái | I17: Ashitaka Factory of Terumo Corporation/ Nhật Bản | J17: Cái | K17: 103 | M17: 950000 | N17: Công ty cổ phẩn thiết bị vật tư y tế Thanh Hóa | O17: =K17*M17 -> 97850000 | P17: RF*YG15110M | Q17: N04.04.010.230.000006 | R17: 100 | AB17: 3
A18: =IF(L18="","",COUNTA($L$6:$L18)) | B18: G75.3 | E18: Ống thông (catheter) chụp mạch ngoại biên Radifocus Glidecath (Yashiro) 5F: 70cm (hoặc tương đương) | G18: Thành phần: Hydroxilated Poly-Vinyl Acetate. kích thước 8 cm x 1,5 cm x 2 cm. - Khả năng thấm hút tốt: Lên tới 21 lần trọng lượng ban đầu khi ở trong chất lỏng. - Kích thước lỗ nhỏ. | H18: Hộp/ 3 cái | I18: Ashitaka Factory of Terumo Corporation/ Nhật Bản | J18: Cái | K18: 280 | M18: 950000 | N18: Công ty cổ phẩn thiết bị vật tư y tế Thanh Hóa | O18: =K18*M18 -> 266000000 | P18: RF*XG95107M | Q18: N04.04.010.230.000051 | R18: 100 | AB18: 180
A19: =IF(L19="","",COUNTA($L$6:$L19)) | B19: G75.4 | E19: Ống thông (catheter) hỗ trợ can thiệp ngoại biên ái nước, Radifocus Glidecath 5Fr Cobra 65cm (hoặc tương đương) | G19: Thành phần: Hydroxilated Poly-Vinyl Acetate. kích thước 8 cm x 1,5 cm x 2 cm. - Khả năng thấm hút tốt: Lên tới 21 lần trọng lượng ban đầu khi ở trong chất lỏng. - Kích thước lỗ nhỏ. | H19: Hộp/ 3 cái | I19: Ashitaka Factory of Terumo Corporation/ Nhật Bản | J19: Cái | K19: 20 | M19: 950000 | N19: Công ty cổ phẩn thiết bị vật tư y tế Thanh Hóa | O19: =K19*M19 -> 19000000 | P19: RF*XB4510GM | Q19: N04.04.010.230.000055 | R19: 20
A20: =IF(L20="","",COUNTA($L$6:$L20)) | B20: G75.5 | E20: Ống thông (catheter) hỗ trợ can thiệp ngoại biên ái nước, Radifocus Glidecath 5Fr Cobra C2 80cm (hoặc tương đương) | G20: Thành phần: Hydroxilated Poly-Vinyl Acetate. kích thước 8 cm x 1,5 cm x 2 cm. - Khả năng thấm hút tốt: Lên tới 21 lần trọng lượng ban đầu khi ở trong chất lỏng. - Kích thước lỗ nhỏ. | H20: Hộp/ 3 cái | I20: Ashitaka Factory of Terumo Corporation/ Nhật Bản | J20: Cái | K20: 40 | M20: 950000 | N20: Công ty cổ phẩn thiết bị vật tư y tế Thanh Hóa | O20: =K20*M20 -> 38000000 | P20: RF*XB55108M | Q20: N04.04.010.230.000056 | R20: 20 | AB20: 20
A21: =IF(L21="","",COUNTA($L$6:$L21)) | B21: G75.6 | E21: Ống thông (catheter) hỗ trợ can thiệp ngoại biên ái nước, Radifocus Glidecath 5Fr Yashiro 100cm (hoặc tương đương) | G21: Thành phần: Hydroxilated Poly-Vinyl Acetate. kích thước 8 cm x 1,5 cm x 2 cm. - Khả năng thấm hút tốt: Lên tới 21 lần trọng lượng ban đầu khi ở trong chất lỏng. - Kích thước lỗ nhỏ. | H21: Hộp/ 3 cái | I21: Ashitaka Factory of Terumo Corporation/ Nhật Bản | J21: Cái | K21: 65 | M21: 950000 | N21: Công ty cổ phẩn thiết bị vật tư y tế Thanh Hóa | O21: =K21*M21 -> 61750000 | P21: RF*XG95110M | Q21: N04.04.010.230.000057 | R21: 50 | AB21: 15
A22: =IF(L22="","",COUNTA($L$6:$L22)) -> 7 | B22: G77 | C22: G90 | D22: N04.04.010 | E22: Catheter trợ giúp can thiệp | F22: Ống thông can thiệp FalconTM Coronary Guiding Catheter | G22: Thành phần: Hydroxilated Poly-Vinyl Acetate. kích thước 8 cm x 1,5 cm x 2 cm. - Khả năng thấm hút tốt: Lên tới 21 lần trọng lượng ban đầu khi ở trong chất lỏng. - Kích thước lỗ nhỏ. | H22: Hộp 1 cái | I22: Umbra Medical products, Inc/ Mỹ | J22: Cái | L22: 200 | M22: 1980000 | N22: Công ty cổ phẩn thiết bị vật tư y tế Thanh Hóa
A23: =IF(L23="","",COUNTA($L$6:$L23)) | B23: G77.1 | E23: Catheter trợ giúp can thiệp cỡ 6F EBU 3.75 | G23: Thành phần: Hydroxilated Poly-Vinyl Acetate. kích thước 8 cm x 1,5 cm x 2 cm. - Khả năng thấm hút tốt: Lên tới 21 lần trọng lượng ban đầu khi ở trong chất lỏng. - Kích thước lỗ nhỏ. | H23: Hộp 1 cái | I23: Umbra Medical products, Inc/ Mỹ | J23: Cái | K23: 30 | M23: 1980000 | N23: Công ty cổ phẩn thiết bị vật tư y tế Thanh Hóa | O23: =K23*M23 -> 59400000 | P23: 7838-50 | Q23: N04.04.010.241.000066 | R23: 30
A24: =IF(L24="","",COUNTA($L$6:$L24)) | B24: G77.2 | E24: Catheter trợ giúp can thiệp cỡ 6F JR4 | G24: Thành phần: Hydroxilated Poly-Vinyl Acetate. kích thước 8 cm x 1,5 cm x 2 cm. - Khả năng thấm hút tốt: Lên tới 21 lần trọng lượng ban đầu khi ở trong chất lỏng. - Kích thước lỗ nhỏ. | H24: Hộp 1 cái | I24: Umbra Medical products, Inc/ Mỹ | J24: Cái | K24: 70 | M24: 1980000 | N24: Công ty cổ phẩn thiết bị vật tư y tế Thanh Hóa | O24: =K24*M24 -> 138600000 | P24: 7874-20 | Q24: N04.04.010.241.000046 | R24: 70
A25: =IF(L25="","",COUNTA($L$6:$L25)) | B25: G77.3 | E25: Catheter trợ giúp can thiệp cỡ 6F EBU 3.5 | G25: Thành phần: Hydroxilated Poly-Vinyl Acetate. kích thước 8 cm x 1,5 cm x 2 cm. - Khả năng thấm hút tốt: Lên tới 21 lần trọng lượng ban đầu khi ở trong chất lỏng. - Kích thước lỗ nhỏ. | H25: Hộp 1 cái | I25: Umbra Medical products, Inc/ Mỹ | J25: Cái | K25: 30 | M25: 1980000 | N25: Công ty cổ phẩn thiết bị vật tư y tế Thanh Hóa | O25: =K25*M25 -> 59400000 | P25: 7833-H0 | Q25: N04.04.010.241.000062 | R25: 30
A26: =IF(L26="","",COUNTA($L$6:$L26)) | B26: G77.4 | E26: Catheter trợ giúp can thiệp cỡ 6F JL4 | G26: Thành phần: Hydroxilated Poly-Vinyl Acetate. kích thước 8 cm x 1,5 cm x 2 cm. - Khả năng thấm hút tốt: Lên tới 21 lần trọng lượng ban đầu khi ở trong chất lỏng. - Kích thước lỗ nhỏ. | H26: Hộp 1 cái | I26: Umbra Medical products, Inc/ Mỹ | J26: Cái | K26: 70 | M26: 1980000 | N26: Công ty cổ phẩn thiết bị vật tư y tế Thanh Hóa | O26: =K26*M26 -> 138600000 | P26: 7875-20 | Q26: N04.04.010.241.000030 | R26: 70
A27: =IF(L27="","",COUNTA($L$6:$L27)) -> 8 | B27: G80 | C27: G93 | D27: N04.04.010 | E27: Catheter trợ giúp can thiệp | F27: Ống thông can thiệp FalconTM Coronary Guiding Catheter | G27: Thành phần: Hydroxilated Poly-Vinyl Acetate. kích thước 8 cm x 1,5 cm x 2 cm. - Khả năng thấm hút tốt: Lên tới 21 lần trọng lượng ban đầu khi ở trong chất lỏng. - Kích thước lỗ nhỏ. | H27: 01 cái/hộp | I27: Umbra Medical products, Inc/ Mỹ | J27: Cái | L27: 100 | M27: 1980000 | N27: Công ty cổ phẩn thiết bị vật tư y tế Thanh Hóa
A28: =IF(L28="","",COUNTA($L$6:$L28)) | B28: G80.1 | E28: Ống thông can thiệp cỡ Judkin Right 4.0 6F | F28: Ống thông can thiệp FalconTM Coronary Guiding Catheter | G28: Thành phần: Hydroxilated Poly-Vinyl Acetate. kích thước 8 cm x 1,5 cm x 2 cm. - Khả năng thấm hút tốt: Lên tới 21 lần trọng lượng ban đầu khi ở trong chất lỏng. - Kích thước lỗ nhỏ. | H28: 01 cái/hộp | I28: Umbra Medical products, Inc/ Mỹ | J28: Cái | K28: 100 | M28: 1980000 | N28: Công ty cổ phẩn thiết bị vật tư y tế Thanh Hóa | O28: =K28*M28 -> 198000000 | P28: 7874-20 | Q28: N04.04.010.241.000046 | R28: 100
A29: =IF(L29="","",COUNTA($L$6:$L29)) -> 9 | B29: G109 | C29: G127 | D29: N05.02.040 | E29: Chỉ tiêu tổng hợp số 1 | F29: Marlin Violet số 1 | G29: Thành phần: Hydroxilated Poly-Vinyl Acetate. kích thước 8 cm x 1,5 cm x 2 cm. - Khả năng thấm hút tốt: Lên tới 21 lần trọng lượng ban đầu khi ở trong chất lỏng. - Kích thước lỗ nhỏ. | H29: Hộp 24 sợi | I29: Catgut GmbH/ Đức | J29: Sợi | K29: 23455 | L29: 23455 | M29: 81000 | N29: Công ty cổ phần đầu tư và phát triển y tế Việt Anh SM | O29: =K29*M29 -> 1899855000 | P29: 17241349 | V29: 480 | Y29: 12000 | AC29: 1500 | AE29: 120 | AF29: 720 | AJ29: 600 | AK29: 280 | AM29: 600 | AN29: 195 | AP29: 100 | AQ29: 500 | AR29: 400 | AT29: 100 | AU29: 1500 | AW29: 800 | AX29: 500 | AY29: 1200 | AZ29: 180 | BA29: 480 | BB29: 700 | BC29: 500
A30: =IF(L30="","",COUNTA($L$6:$L30)) -> 10 | B30: G111 | C30: G129 | D30: N05.02.040 | E30: Chỉ tiêu tổng hợp sợi bện số 2/0 | F30: Marlin Violet số 2/0 | G30: Thành phần: Hydroxilated Poly-Vinyl Acetate. kích thước 8 cm x 1,5 cm x 2 cm. - Khả năng thấm hút tốt: Lên tới 21 lần trọng lượng ban đầu khi ở trong chất lỏng. - Kích thước lỗ nhỏ. | H30: Hộp 24 sợi | I30: Catgut GmbH/ Đức | J30: Sợi | K30: 3078 | L30: 3078 | M30: 81500 | N30: Công ty cổ phần đầu tư và phát triển y tế Việt Anh SM | O30: =K30*M30 -> 250857000 | P30: 17241209 | V30: 120 | AF30: 240 | AH30: 400 | AJ30: 80 | AK30: 160 | AN30: 78 | AP30: 200 | AR30: 400 | AT30: 80 | AW30: 800 | AY30: 300 | AZ30: 120 | BC30: 100
A31: =IF(L31="","",COUNTA($L$6:$L31)) -> 11 | B31: G113 | C31: G131 | D31: N05.02.040 | E31: Chỉ tiêu tổng hợp số 4/0 | F31: Marlin Violet số 4/0 | G31: Thành phần: Hydroxilated Poly-Vinyl Acetate. kích thước 8 cm x 1,5 cm x 2 cm. - Khả năng thấm hút tốt: Lên tới 21 lần trọng lượng ban đầu khi ở trong chất lỏng. - Kích thước lỗ nhỏ. | H31: Hộp 24 sợi | I31: Catgut GmbH/ Đức | J31: Sợi | K31: 11080 | L31: 11080 | M31: 81500 | N31: Công ty cổ phần đầu tư và phát triển y tế Việt Anh SM | O31: =K31*M31 -> 903020000 | P31: 17241135 | R31: 9000 | S31: 36 | V31: 600 | AC31: 170 | AD31: 30 | AE31: 200 | AH31: 50 | AJ31: 100 | AK31: 140 | AM31: 100 | AN31: 78 | AP31: 100 | AW31: 80 | AY31: 240 | AZ31: 120 | BA31: 36
A32: =IF(L32="","",COUNTA($L$6:$L32)) -> 12 | B32: G145 | C32: G166 | D32: N06.03.010 | E32: Thủy tinh thể mềm một mảnh | F32: Thủy tinh thể mềm Sensar 1 | G32: Thành phần: Hydroxilated Poly-Vinyl Acetate. kích thước 8 cm x 1,5 cm x 2 cm. - Khả năng thấm hút tốt: Lên tới 21 lần trọng lượng ban đầu khi ở trong chất lỏng. - Kích thước lỗ nhỏ. | H32: Hộp 1 cái | I32: AMO/Mỹ Hãng chủ sở hữu: Johnson & Johnson/ Mỹ | J32: Cái | K32: 130 | L32: 130 | M32: 2990000 | N32: Công ty cổ phẩn thiết bị vật tư y tế Thanh Hóa | O32: =K32*M32 -> 388700000 | P32: AAB00 | Q32: N06.03.010.004.000006 | R32: 100 | AH32: 2 | AJ32: 3 | AM32: 5 | AV32: 20
A33: =IF(L33="","",COUNTA($L$6:$L33)) -> 13 | B33: G158 | C33: G184 | D33: N06.04.053 | E33: Bộ khớp gối toàn phần có xi măng | F33: Bộ khớp gối toàn phần có xi măng | G33: Thành phần: Hydroxilated Poly-Vinyl Acetate. kích thước 8 cm x 1,5 cm x 2 cm. - Khả năng thấm hút tốt: Lên tới 21 lần trọng lượng ban đầu khi ở trong chất lỏng. - Kích thước lỗ nhỏ. | H33: 1 Bộ / Hộp | I33: Biomet Orthopedics - Mỹ/ Biomet France SARL - Pháp | J33: Bộ | K33: 12 | L33: 12 | M33: 63000000 | N33: Công ty TNHH thương mại và tổng hợp Vinatrading | O33: =K33*M33 -> 756000000 | Q33: N06.04.053.294.000001 | R33: 10 | AQ33: 2
A34: =IF(L34="","",COUNTA($L$6:$L34)) -> 14 | B34: G163 | C34: G189 | D34: N06.04.051 | E34: Khớp háng toàn phần không xi măng phủ HA kích thích tạo xương Ceramic on PE | F34: Khớp háng toàn phần không xi măng chuôi filler phủ HA Ceramic on PE | G34: Thành phần: Hydroxilated Poly-Vinyl Acetate. kích thước 8 cm x 1,5 cm x 2 cm. - Khả năng thấm hút tốt: Lên tới 21 lần trọng lượng ban đầu khi ở trong chất lỏng. - Kích thước lỗ nhỏ. | H34: Bộ/ Hộp | I34: Biotechni/ Pháp | J34: Bộ | K34: 29 | L34: 29 | M34: 65500000 | N34: Công ty cổ phẩn thiết bị vật tư y tế Thanh Hóa | O34: =K34*M34 -> 1899500000 | P34: FI040xx; MU-Txx; MUDB28-xx; MU-VISxx; CER285-xx | Q34: N06.04.051.465.000001 | R34: 20 | AC34: 4 | AI34: 3 | AQ34: 2
A35: =IF(L35="","",COUNTA($L$6:$L35)) -> 15 | B35: G174 | C35: G200 | D35: N06.04.051 | E35: Khớp háng toàn phần không xi măng, chỏm Ceramic | F35: Khớp háng toàn phần không xi măng SL X-pore/Ceramic | G35: Thành phần: Hydroxilated Poly-Vinyl Acetate. kích thước 8 cm x 1,5 cm x 2 cm. - Khả năng thấm hút tốt: Lên tới 21 lần trọng lượng ban đầu khi ở trong chất lỏng. - Kích thước lỗ nhỏ. | H35: Bộ/ Hộp | I35: Permedica/ Ý | J35: Bộ | K35: 30 | L35: 30 | M35: 70000000 | N35: Công ty cổ phẩn thiết bị vật tư y tế Thanh Hóa | O35: =K35*M35 -> 2100000000 | P35: 352xx 363xx 367xx 202xx 157xx | Q35: N06.04.051.596.000002 | R35: 30
A36: =IF(L36="","",COUNTA($L$6:$L36)) -> 16 | B36: G179 | C36: G205 | D36: N06.04.051 | E36: Khớp háng toàn phần không xi măng di động kép Apogee Dual mobility hai trục linh động ceramic on pe | F36: Khớp háng toàn phần không xi măng hai trục linh động Apogee Dual Mobility Ceramic on PE | G36: Thành phần: Hydroxilated Poly-Vinyl Acetate. kích thước 8 cm x 1,5 cm x 2 cm. - Khả năng thấm hút tốt: Lên tới 21 lần trọng lượng ban đầu khi ở trong chất lỏng. - Kích thước lỗ nhỏ. | H36: Bộ/ Hộp | I36: Biotechni/ Pháp | J36: Bộ | K36: 15 | L36: 15 | M36: 68000000 | N36: Công ty cổ phẩn thiết bị vật tư y tế Thanh Hóa | O36: =K36*M36 -> 1020000000 | P36: FI040xx; CAPxx; IDM28-xx+; CER285-xx | Q36: N06.04.051.465.zzzzzz | R36: 15
A37: =IF(L37="","",COUNTA($L$6:$L37)) -> 17 | B37: G239 | C37: G281 | D37: N07.01.110 | E37: Bộ dụng cụ mở đường vào mạch máu (động mạch quay) | F37: Bộ mở đường vào động mạch quay ái nước Radifocus Introducer II M Coat | G37: Thành phần: Hydroxilated Poly-Vinyl Acetate. kích thước 8 cm x 1,5 cm x 2 cm. - Khả năng thấm hút tốt: Lên tới 21 lần trọng lượng ban đầu khi ở trong chất lỏng. - Kích thước lỗ nhỏ. | H37: Hộp/ 5 cái | I37: Ashitaka Factory of Terumo Corporation/ Nhật Bản | J37: Cái | L37: 600 | M37: 710000 | N37: Công ty cổ phẩn thiết bị vật tư y tế Thanh Hóa
A38: =IF(L38="","",COUNTA($L$6:$L38)) | B38: G239.1 | E38: Bộ mở đường vào động mạch quay ái nước 6Fr | F38: Bộ mở đường vào động mạch quay ái nước Radifocus Introducer II M Coat | G38: Thành phần: Hydroxilated Poly-Vinyl Acetate. kích thước 8 cm x 1,5 cm x 2 cm. - Khả năng thấm hút tốt: Lên tới 21 lần trọng lượng ban đầu khi ở trong chất lỏng. - Kích thước lỗ nhỏ. | H38: Hộp/ 5 cái | I38: Ashitaka Factory of Terumo Corporation/ Nhật Bản | J38: Cái | K38: 600 | M38: 710000 | N38: Công ty cổ phẩn thiết bị vật tư y tế Thanh Hóa | O38: =K38*M38 -> 426000000 | P38: RM*AF6J10SQW | Q38: N07.01.110.230.000007 | R38: 600
A39: =IF(L39="","",COUNTA($L$6:$L39)) | B39: GB325 | E39: Bộ bơm xi măng tạo hình thân đốt sống có bóng nong (Gồm 02 kim chọc dò cuống sống + 01 bộ kim và mũi khoan đốt sống + 02 bóng nong thân đốt sống + 01 xi lanh bơm phồng + 01 xi măng sinh học + 01 bộ trộn xi măng + 04 dụng cụ đưa xi măng vào đốt sống + 01 Bộ kim sinh thiết đốt sống) | J39: Bộ | N39: Công ty TNHH thiết bị y tế Tràng Thi
A40: =IF(L40="","",COUNTA($L$6:$L40)) -> 18 | B40: GB325.1 | C40: GB414.1 | D40: N07.06.030 | E40: Kim chọc dò cuống sống | F40: KYPHON- Kim chọc dò cuống sống | G40: Thành phần: Hydroxilated Poly-Vinyl Acetate. kích thước 8 cm x 1,5 cm x 2 cm. - Khả năng thấm hút tốt: Lên tới 21 lần trọng lượng ban đầu khi ở trong chất lỏng. - Kích thước lỗ nhỏ. | H40: 1 cái/1 gói | I40: Argon/ Mỹ | J40: Cái | K40: 40 | L40: 40 | M40: 1700000 | N40: Công ty TNHH thiết bị y tế Tràng Thi | O40: =K40*M40 -> 68000000 | P40: A02A | Q40: N07.06.030.157.000003 | R40: 20 | AC40: 20
A41: =IF(L41="","",COUNTA($L$6:$L41)) -> 19 | B41: GB325.2 | C41: GB414.2 | D41: N07.06.030 | E41: Bộ kim và mũi khoan đốt sống | F41: KYPHON_Bộ kim và mũi khoan đốt sống | G41: Thành phần: Hydroxilated Poly-Vinyl Acetate. kích thước 8 cm x 1,5 cm x 2 cm. - Khả năng thấm hút tốt: Lên tới 21 lần trọng lượng ban đầu khi ở trong chất lỏng. - Kích thước lỗ nhỏ. | H41: 1 cái/1 gói | I41: Medtronic/ Mexico | J41: Cái | K41: 20 | L41: 20 | M41: 4000000 | N41: Công ty TNHH thiết bị y tế Tràng Thi | O41: =K41*M41 -> 80000000 | P41: T15D | Q41: N07.06.030.157.000001 | R41: 10 | AC41: 10
A42: =IF(L42="","",COUNTA($L$6:$L42)) -> 20 | B42: GB325.3 | C42: GB414.3 | D42: N07.06.030 | E42: Bóng nong thân đốt sống các cỡ. | F42: KYPHON - Bóng nong thân đốt sống | G42: Thành phần: Hydroxilated Poly-Vinyl Acetate. kích thước 8 cm x 1,5 cm x 2 cm. - Khả năng thấm hút tốt: Lên tới 21 lần trọng lượng ban đầu khi ở trong chất lỏng. - Kích thước lỗ nhỏ. | H42: 1 cái/1 gói | I42: Medtronic/ Mexico | J42: Cái | K42: 40 | L42: 40 | M42: 10950000 | N42: Công ty TNHH thiết bị y tế Tràng Thi | O42: =K42*M42 -> 438000000 | P42: K09A | Q42: N07.06.030.157.000008 | R42: 20 | AC42: 20
A43: =IF(L43="","",COUNTA($L$6:$L43)) -> 21 | B43: GB325.4 | C43: GB414.4 | D43: N07.06.030 | E43: Xilanh bơm phồng bóng có đồng hồ đo áp lực bóng | F43: KYPHON-Xi lanh bơm phồng bóng có đồng hồ đo áp lực | G43: Thành phần: Hydroxilated Poly-Vinyl Acetate. kích thước 8 cm x 1,5 cm x 2 cm. - Khả năng thấm hút tốt: Lên tới 21 lần trọng lượng ban đầu khi ở trong chất lỏng. - Kích thước lỗ nhỏ. | H43: 1 cái/1 gói | I43: Merit/Mỹ | J43: Cái | K43: 20 | L43: 20 | M43: 7950000 | N43: Công ty TNHH thiết bị y tế Tràng Thi | O43: =K43*M43 -> 159000000 | P43: A08A | Q43: N07.06.030.157.000004 | R43: 10 | AC43: 10
A44: =IF(L44="","",COUNTA($L$6:$L44)) -> 22 | B44: GB325.5 | C44: GB414.5 | D44: N07.06.030 | E44: Xi măng sinh học, kèm dung dịch pha | F44: KYPHON- Xi măng ngoại khoa | G44: Thành phần: Hydroxilated Poly-Vinyl Acetate. kích thước 8 cm x 1,5 cm x 2 cm. - Khả năng thấm hút tốt: Lên tới 21 lần trọng lượng ban đầu khi ở trong chất lỏng. - Kích thước lỗ nhỏ. | H44: 1 cái/1 gói | I44: Tecres Spa/Italy | J44: Cái | K44: 20 | L44: 20 | M44: 7500000 | N44: Công ty TNHH thiết bị y tế Tràng Thi | O44: =K44*M44 -> 150000000 | P44: C01A | Q44: N07.06.030.157.000005 | R44: 10 | AC44: 10
A45: =IF(L45="","",COUNTA($L$6:$L45)) -> 23 | B45: GB325.6 | C45: GB414.6 | D45: N07.06.030 | E45: Bộ trộn và phân phối xi măng | F45: KYPHON Mixer - Bộ trộn và phân phối xi măng gắn xương | G45: Thành phần: Hydroxilated Poly-Vinyl Acetate. kích thước 8 cm x 1,5 cm x 2 cm. - Khả năng thấm hút tốt: Lên tới 21 lần trọng lượng ban đầu khi ở trong chất lỏng. - Kích thước lỗ nhỏ. | H45: 1 cái/1 gói | I45: Medtronic/ Mỹ | J45: Cái | K45: 20 | L45: 20 | M45: 3950000 | N45: Công ty TNHH thiết bị y tế Tràng Thi | O45: =K45*M45 -> 79000000 | P45: A07A | Q45: N07.06.030.157.000002 | R45: 10 | AC45: 10
A46: =IF(L46="","",COUNTA($L$6:$L46)) -> 24 | B46: GB325.7 | C46: GB414.7 | D46: N07.06.030 | E46: Dụng cụ đưa xi măng vào đốt sống | F46: KYPHON- Dụng cụ đưa xi măng vào thân đốt sống size 3 | G46: Thành phần: Hydroxilated Poly-Vinyl Acetate. kích thước 8 cm x 1,5 cm x 2 cm. - Khả năng thấm hút tốt: Lên tới 21 lần trọng lượng ban đầu khi ở trong chất lỏng. - Kích thước lỗ nhỏ. | H46: 1 cái/1 gói | I46: Medtronic/ Mexico | J46: Cái | K46: 80 | L46: 80 | M46: 1950000 | N46: Công ty TNHH thiết bị y tế Tràng Thi | O46: =K46*M46 -> 156000000 | P46: F04B | Q46: N07.06.030.157.000007 | R46: 40 | AC46: 40
A47: =IF(L47="","",COUNTA($L$6:$L47)) -> 25 | B47: GB325.8 | C47: GB414.8 | D47: N07.06.030 | E47: Bộ kim sinh thiết đốt sống | F47: KYPHON- Kim chọc dò đốt sống | G47: Thành phần: Hydroxilated Poly-Vinyl Acetate. kích thước 8 cm x 1,5 cm x 2 cm. - Khả năng thấm hút tốt: Lên tới 21 lần trọng lượng ban đầu khi ở trong chất lỏng. - Kích thước lỗ nhỏ. | H47: 1 cái/1 gói | I47: Medtronic/ Mexico | J47: Cái | K47: 10 | L47: 10 | M47: 2450000 | N47: Công ty TNHH thiết bị y tế Tràng Thi | O47: =K47*M47 -> 24500000 | P47: F05A | R47: 10
A48: =IF(L48="","",COUNTA($L$6:$L48)) -> 26 | B48: G339 | C48: G419 | D48: N07.06.030 | E48: Bộ bơm xi măng không bóng tạo hình thân đốt sống | F48: Bộ bơm xi măng không bóng tạo hình thân đốt sống | G48: Thành phần: Hydroxilated Poly-Vinyl Acetate. kích thước 8 cm x 1,5 cm x 2 cm. - Khả năng thấm hút tốt: Lên tới 21 lần trọng lượng ban đầu khi ở trong chất lỏng. - Kích thước lỗ nhỏ. | H48: 01 bộ/hộp | I48: Teknimed/ Pháp | J48: Chiếc | K48: 50 | L48: 50 | M48: 21000000 | N48: Công ty TNHH thiết bị y tế và dược phẩm An Phúc | O48: =K48*M48 -> 1050000000 | P48: T040320Z T060430/ T060431 T060406 | R48: 50
A49: =IF(L49="","",COUNTA($L$6:$L49)) -> 27 | B49: G346 | C49: G427 | D49: N08.00.250 | E49: Điện cực tim | F49: Điện cực tim | G49: Thành phần: Hydroxilated Poly-Vinyl Acetate. kích thước 8 cm x 1,5 cm x 2 cm. - Khả năng thấm hút tốt: Lên tới 21 lần trọng lượng ban đầu khi ở trong chất lỏng. - Kích thước lỗ nhỏ. | H49: Túi 50 cái | I49: EF Medica SRL/ Italy | J49: Cái | K49: 227104 | L49: 227104 | M49: 1250 | N49: Liên danh nhà thầu Bình Minh | O49: =K49*M49 -> 283880000 | P49: F 3240 SG | R49: 120000 | U49: 25000 | V49: 6000 | W49: 50 | X49: 1824 | Z49: 25000 | AA49: 2000 | AB49: 15000 | AC49: 6000 | AE49: 2500 | AF49: 500 | AG49: 6000 | AH49: 500 | AI49: 3000 | AK49: 3000 | AM49: 100 | AP49: 200 | AR49: 200 | AW49: 1000 | AX49: 2900 | AY49: 4000 | AZ49: 480 | BA49: 200 | BB49: 1000 | BC49: 600 | BG49: 50
A50: =IF(L50="","",COUNTA($L$6:$L50)) -> 28 | B50: V48 | C50: V57 | D50: N03.02.070 | E50: Kim luồn tĩnh mạch kèm băng dính | F50: Kim luồn tĩnh mạch số 18G, 20G, 22G, 24G, (HEALCATH cannula) (dạng bút) | G50: Kim làm bằng thép không gỉ, đầu kim có 3 mặt vát, sắc bén - Kim có ống chụp bảo vệ khi chưa sử dụng - Ống catheter có 2 vạch cản quang làm từ chất liệu PTFE nhựa y tế có tính đàn hồi, chống xoắn-gập. Đầu ống catheter hình vát nón ôm sát kim - Kim không cánh không của bơm thuốc. - Khoang báo máu thiết kế trong suốt với màng thoát khí không thấm nước - khử trùng bằng khí EO( Ethylene Oxide). - Thời gian lưu kim 96 giờ. - 18G; Ø (1,3 x 45) mm; Flow/ Rate 85ml/ min. - 20G; Ø (1,1 x 33) mm; Flow/ Rate 55ml/ min. - 22G; Ø (0,9 x 25) mm; Flow/ Rate 33ml/ min. - 24G; Ø (0,7 x 19) mm; Flow/ Rate 18ml/ min. | H50: 50 cái/ 1 hộp 500 cái/ 1 kiện | I50: HARSORIA - ẤN ĐỘ | J50: Cái | L50: 30700 | M50: 5800 | N50: Công ty cổ phẩn thiết bị vật tư y tế Thanh Hóa | O50: =K50*M50 -> 0
A51: =IF(L51="","",COUNTA($L$6:$L51)) | B51: V48.1 | E51: Kim luồn tĩnh mạch kèm băng dính (băng dính kích thước 6x7cm, kim luồn 18G) | G51: Kim luồn tĩnh mạch kèm băng dính (băng dính kích thước 6x7cm, kim luồn 18G).Kim làm bằng thép không gỉ, đầu kim có 3 mặt vát, sắc bén - Kim có ống chụp bảo vệ khi chưa sử dụng - Ống catheter có 2 vạch cản quang làm từ chất liệu PTFE nhựa y tế có tính đàn hồi, chống xoắn-gập. Đầu ống catheter hình vát nón ôm sát kim - Kim không cánh không của bơm thuốc. - Khoang báo máu thiết kế trong suốt với màng thoát khí không thấm nước - khử trùng bằng khí EO( Ethylene Oxide). - Thời gian lưu kim 96 giờ. - 18G; Ø (1,3 x 45) mm; Flow/ Rate 85ml/ min. - 20G; Ø (1,1 x 33) mm; Flow/ Rate 55ml/ min. - 22G; Ø (0,9 x 25) mm; Flow/ Rate 33ml/ min. - 24G; Ø (0,7 x 19) mm; Flow/ Rate 18ml/ min. | H51: 50 cái/ 1 hộp 500 cái/ 1 kiện | I51: HARSORIA - ẤN ĐỘ | J51: Cái | K51: 10600 | M51: 5800 | N51: Công ty cổ phẩn thiết bị vật tư y tế Thanh Hóa | O51: =K51*M51 -> 61480000 | P51: 03183470E7 | Q51: N03.02.070.104.zzzzzz | Z51: 1200 | AC51: 3500 | AH51: 3000 | AP51: 900 | BC51: 2000
A52: =IF(L52="","",COUNTA($L$6:$L52)) | B52: V48.2 | E52: Kim luồn tĩnh mạch kèm băng dính (băng dính kích thước 6x7cm, kim luồn 20G) | G52: Kim luồn tĩnh mạch kèm băng dính (băng dính kích thước 6x7cm, kim luồn 20G).Kim làm bằng thép không gỉ, đầu kim có 3 mặt vát, sắc bén - Kim có ống chụp bảo vệ khi chưa sử dụng - Ống catheter có 2 vạch cản quang làm từ chất liệu PTFE nhựa y tế có tính đàn hồi, chống xoắn-gập. Đầu ống catheter hình vát nón ôm sát kim - Kim không cánh không của bơm thuốc. - Khoang báo máu thiết kế trong suốt với màng thoát khí không thấm nước - khử trùng bằng khí EO( Ethylene Oxide). - Thời gian lưu kim 96 giờ. - 18G; Ø (1,3 x 45) mm; Flow/ Rate 85ml/ min. - 20G; Ø (1,1 x 33) mm; Flow/ Rate 55ml/ min. - 22G; Ø (0,9 x 25) mm; Flow/ Rate 33ml/ min. - 24G; Ø (0,7 x 19) mm; Flow/ Rate 18ml/ min. | H52: 50 cái/ 1 hộp 500 cái/ 1 kiện | I52: HARSORIA - ẤN ĐỘ | J52: Cái | K52: 3000 | M52: 5800 | N52: Công ty cổ phẩn thiết bị vật tư y tế Thanh Hóa | O52: =K52*M52 -> 17400000 | P52: 03203470E7 | Q52: N03.02.070.104.zzzzzz | AH52: 3000
A53: =IF(L53="","",COUNTA($L$6:$L53)) | B53: V48.3 | E53: Kim luồn tĩnh mạch kèm băng dính (băng dính kích thước 6x7cm, kim luồn 22G) | G53: Kim luồn tĩnh mạch kèm băng dính (băng dính kích thước 6x7cm, kim luồn 22G).Kim làm bằng thép không gỉ, đầu kim có 3 mặt vát, sắc bén - Kim có ống chụp bảo vệ khi chưa sử dụng - Ống catheter có 2 vạch cản quang làm từ chất liệu PTFE nhựa y tế có tính đàn hồi, chống xoắn-gập. Đầu ống catheter hình vát nón ôm sát kim - Kim không cánh không của bơm thuốc. - Khoang báo máu thiết kế trong suốt với màng thoát khí không thấm nước - khử trùng bằng khí EO( Ethylene Oxide). - Thời gian lưu kim 96 giờ. - 18G; Ø (1,3 x 45) mm; Flow/ Rate 85ml/ min. - 20G; Ø (1,1 x 33) mm; Flow/ Rate 55ml/ min. - 22G; Ø (0,9 x 25) mm; Flow/ Rate 33ml/ min. - 24G; Ø (0,7 x 19) mm; Flow/ Rate 18ml/ min. | H53: 50 cái/ 1 hộp 500 cái/ 1 kiện | I53: HARSORIA - ẤN ĐỘ | J53: Cái | K53: 3000 | M53: 5800 | N53: Công ty cổ phẩn thiết bị vật tư y tế Thanh Hóa | O53: =K53*M53 -> 17400000 | P53: 03223470E7 | Q53: N03.02.070.104.zzzzzz | AH53: 3000
A54: =IF(L54="","",COUNTA($L$6:$L54)) | B54: V48.4 | E54: Kim luồn tĩnh mạch kèm băng dính (băng dính kích thước 6x7cm, kim luồn 24G) | G54: Kim luồn tĩnh mạch kèm băng dính (băng dính kích thước 6x7cm, kim luồn 24G).Kim làm bằng thép không gỉ, đầu kim có 3 mặt vát, sắc bén - Kim có ống chụp bảo vệ khi chưa sử dụng - Ống catheter có 2 vạch cản quang làm từ chất liệu PTFE nhựa y tế có tính đàn hồi, chống xoắn-gập. Đầu ống catheter hình vát nón ôm sát kim - Kim không cánh không của bơm thuốc. - Khoang báo máu thiết kế trong suốt với màng thoát khí không thấm nước - khử trùng bằng khí EO( Ethylene Oxide). - Thời gian lưu kim 96 giờ. - 18G; Ø (1,3 x 45) mm; Flow/ Rate 85ml/ min. - 20G; Ø (1,1 x 33) mm; Flow/ Rate 55ml/ min. - 22G; Ø (0,9 x 25) mm; Flow/ Rate 33ml/ min. - 24G; Ø (0,7 x 19) mm; Flow/ Rate 18ml/ min. | H54: 50 cái/ 1 hộp 500 cái/ 1 kiện | I54: HARSORIA - ẤN ĐỘ | J54: Cái | K54: 9500 | M54: 5800 | N54: Công ty cổ phẩn thiết bị vật tư y tế Thanh Hóa | O54: =K54*M54 -> 55100000 | P54: 03243470E7 | Q54: N03.02.070.104.zzzzzz | AC54: 3500 | AH54: 5000 | AP54: 1000
A55: =IF(L55="","",COUNTA($L$6:$L55)) | B55: V48.5 | E55: Kim luồn tĩnh mạch kèm băng dính (băng dính kích thước 6x8cm, kim luồn 24G) | G55: Kim luồn tĩnh mạch kèm băng dính (băng dính kích thước 6x8cm, kim luồn 24G).Kim làm bằng thép không gỉ, đầu kim có 3 mặt vát, sắc bén - Kim có ống chụp bảo vệ khi chưa sử dụng - Ống catheter có 2 vạch cản quang làm từ chất liệu PTFE nhựa y tế có tính đàn hồi, chống xoắn-gập. Đầu ống catheter hình vát nón ôm sát kim - Kim không cánh không của bơm thuốc. - Khoang báo máu thiết kế trong suốt với màng thoát khí không thấm nước - khử trùng bằng khí EO( Ethylene Oxide). - Thời gian lưu kim 96 giờ. - 18G; Ø (1,3 x 45) mm; Flow/ Rate 85ml/ min. - 20G; Ø (1,1 x 33) mm; Flow/ Rate 55ml/ min. - 22G; Ø (0,9 x 25) mm; Flow/ Rate 33ml/ min. - 24G; Ø (0,7 x 19) mm; Flow/ Rate 18ml/ min. | H55: 50 cái/ 1 hộp 500 cái/ 1 kiện | I55: HARSORIA - ẤN ĐỘ | J55: Cái | K55: 4600 | M55: 5800 | N55: Công ty cổ phẩn thiết bị vật tư y tế Thanh Hóa | O55: =K55*M55 -> 26680000 | P55: 03243470E7 | Q55: N03.02.070.104.zzzzzz | AW55: 1600 | BC55: 3000
A56: =IF(L56="","",COUNTA($L$6:$L56)) -> 29 | B56: V49 | C56: V58 | D56: N03.03.080 | E56: Bộ kim chạy thận nhân tạo | F56: Kim chạy thận nhân tạo AVF | G56: Kim làm bằng thép không gỉ - Kim có cánh định vị cánh xoay (16G) đầu kim có 3 mặt vát, sắc bén, phủ silicon - Kim có ống chụp bảo vệ khi chưa sử dụng - Mặt sau có lỗ backeye - Cỡ: 16G [1.65x25mm]; 17G [1.47x25mm] - Chiều dài kim : 25 (mm) - Chiều dài dây gắn với kim: 300 (mm) - Đường kính ngoài O.D:5.5;đường kính trong I.D:3.5 - Tốc độ dòng chảy: 200ml/min - Có khóa chặn dòng tức thì - khử trùng bằng khí EO ( Ethylene Oxide) | H56: 100 cái/hộp | I56: Perfect/ Việt Nam | J56: Kim | K56: 22500 | L56: 22500 | M56: 6200 | N56: Công ty TNHH thiết bị y tế và dược phẩm An Phúc | O56: =K56*M56 -> 139500000 | P56: A30-E09642 | R56: 1500 | AE56: 18000 | AW56: 3000
A57: =IF(L57="","",COUNTA($L$6:$L57)) -> 30 | B57: V86 | C57: V97 | D57: N05.02.040 | E57: Chỉ tiêu đa sợi số 1 | F57: Chỉ Caresorb Plus (Polyglactin 910 có kháng khuẩn) số 1 | G57: Polyglactin 910 có kháng khuẩn Chlorhexidine Diacetate. Lớp bao phủ Poly (glycolide-co-lactide) (30:70) - Glacomer 370, calcium stearate và Chlorhexidine Diacetate ≤ 60μg/m. Kim thép không rỉ, phủ silicon. Chỉ số 1, dài 90 cm, kim tròn 1/2c, dài 40 mm. Tiêu hoàn toàn trong khoảng thời gian 56-70 ngày; Sức căng còn 75% sau 2 tuần, 50% sau 3 tuần Giữ vết khâu tốt trong vòng 30 ngày. | H57: H / 36 Sợi (tép) | I57: CPT/ Việt Nam | J57: Lá | K57: 6252 | L57: 6252 | M57: 65000 | N57: Công ty cổ phẩn thiết bị vật tư y tế Thanh Hóa | O57: =K57*M57 -> 406380000 | P57: GTA40A40L90 | Q57: N05.02.040.057.000025 | AD57: 1000 | AE57: 120 | AF57: 1100 | AI57: 360 | AL57: 22 | AN57: 910 | AQ57: 800 | AV57: 360 | AW57: 400 | AZ57: 180 | BA57: 1000
A58: =IF(L58="","",COUNTA($L$6:$L58)) -> 31 | B58: V87 | C58: V98 | D58: N05.02.040 | E58: Chỉ tiêu đa sợi số 2/0 | F58: Chỉ Caresorb số 2/0 | G58: Chỉ tiêu tổng hợp đa sợi Polyglactin 910 số 2/0, dài 75 cm, kim tròn 1/2c, dài 26 mm, Chất liệu 90% glycolide và 10% L-lactide, cấu trúc đa sợi bện, lớp bao phủ Poly(glycolide-co-lactide)(30:70) và Calcium stearate, duy trì sức căng 75% sau 2 tuần và 50% sau 3 tuần, độ tan 56-70 ngày. Kim thép không rỉ phủ silicon . | H58: H / 36 Sợi (tép) | I58: CPT/ Việt Nam | J58: Lá | K58: 5748 | L58: 5748 | M58: 57000 | N58: Công ty cổ phẩn thiết bị vật tư y tế Thanh Hóa | O58: =K58*M58 -> 327636000 | P58: GT30A26 | Q58: N05.02.040.057.000019 | AA58: 200 | AD58: 600 | AE58: 120 | AF58: 1200 | AI58: 240 | AL58: 32 | AQ58: 1800 | AS58: 120 | AV58: 144 | AW58: 800 | AZ58: 240 | BA58: 252
A59: =IF(L59="","",COUNTA($L$6:$L59)) -> 32 | B59: V88 | C59: V99 + V100 | D59: N05.02.040 | E59: Chỉ tiêu đa sợi số 3/0 | F59: Chỉ Caresorb số 3/0 | G59: Chỉ tiêu tổng hợp đa sợi Polyglactin 910 số 3/0, dài 75 cm, kim tròn 1/2c, dài 26 mm, Chất liệu 90% glycolide và 10% L-lactide, cấu trúc đa sợi bện, lớp bao phủ Poly(glycolide-co-lactide)(30:70) và Calcium stearate, duy trì sức căng 75% sau 2 tuần và 50% sau 3 tuần, độ tan 56-70 ngày. Kim thép không rỉ phủ silicon. | H59: H / 36 (tép) | I59: CPT/ Việt Nam | J59: Lá | K59: 3738 | L59: 3738 | M59: 57000 | N59: Công ty cổ phẩn thiết bị vật tư y tế Thanh Hóa | O59: =K59*M59 -> 213066000 | P59: GT20A26 | Q59: N05.02.040.057.000018 | AD59: 50 | AE59: 120 | AF59: 1350 | AI59: 360 | AN59: 910 | AQ59: 60 | AV59: 180 | AW59: 400 | AZ59: 200 | BA59: 108
A60: =IF(L60="","",COUNTA($L$6:$L60)) -> 33 | B60: V102 | C60: V124 | E60: Gen siêu âm | F60: Gen siêu âm STAR SONOG | G60: Gel sử dụng trong siêu âm, Không có formaldehyde, Vô khuẩn, không phát hiện vi khuẩn Staphyloccus, Pseudomonas aeruginosa, Tổng số vi sinh vật khi hiếu <10 CFU/g, tổng số nấm <10 CFU/g. gel trong, tan hoàn toàn trong nước, độ PH trong khoảng 6.5-7.5. | H60: Can 5L | I60: CT CP DP và TBYT An Phú/ Việt Nam | J60: Lít | K60: 9258 | L60: 9258 | M60: 15750 | N60: Công ty cổ phẩn thiết bị vật tư y tế Thanh Hóa | O60: =K60*M60 -> 145813500 | P60: STAR SONOG | R60: 1000 | S60: 10 | T60: 5 | U60: 200 | V60: 240 | W60: 80 | X60: 78 | Y60: 1000 | Z60: 120 | AA60: 350 | AB60: 1000 | AC60: 210 | AD60: 130 | AE60: 65 | AF60: 260 | AG60: 80 | AH60: 275 | AI60: 200 | AJ60: 325 | AK60: 150 | AL60: 23 | AM60: 156 | AN60: 234 | AO60: 100 | AP60: 70 | AQ60: 100 | AR60: 40 | AS60: 30 | AT60: 25 | AU60: 280 | AV60: 250 | AW60: 320 | AX60: 40 | AY60: 240 | AZ60: 150 | BA60: 300 | BB60: 200 | BC60: 150 | BD60: 80 | BE60: 30 | BF60: 70 | BG60: 70 | BI60: 20 | BK60: 12 | BL60: 10 | BM60: 10 | BN60: 5 | BO60: 15 | BP60: 5 | BQ60: 20 | BR60: 15 | BS60: 10 | BT60: 50 | BU60: 15 | BV60: 10 | BW60: 60 | BY60: 5 | BZ60: 20 | CA60: 70 | CB60: 15 | CC60: 10 | CD60: 10 | CE60: 50 | CF60: 5 | CG60: 80
E61: Nhóm 1. Bông, dung dịch sát khuẩn, rửa vết thương
E62: 1.2 Dung dịch sát khuẩn, rửa vết thương
A63: =IF(L63="","",COUNTA($L$8:$L63)) -> 32 | B63: K6 | C63: K6 | D63: N01.02.010 | E63: Dung dịch rửa tay sát khuẩn 2% | F63: Dung dịch rửa tay sát khuẩn 2% CHLORHEX | G63: Thành phần: Chlohexidine Gluconate 2% ( 20mg/ml), Nonoxinol 15, Acid Acetic, Hydroxyethylcellulose, Dihydroxyethyl Cocamine oxide, chất tạo màu Tartrazine và Brilliant FCF. Diệt khuẩn nhanh, phổ rộng, tác động diệt khuẩn duy trì kéo dài trong 4 giờ, chất làm mềm, dưỡng ẩm. pH=5,5 - Kháng khuẩn trên phạm vi rộng trong vòng 30 giây - Vệ sinh theo tiêu chuẩn EN 1500; 3 ml/ 30 giây - Khử trùng phẫu thuật theo tiêu chuẩn EN 12791; 2x3 ml / 1,50 phút | H63: Chai 1 lít | I63: GBL, Thổ Nhĩ Kỳ | J63: Lít | K63: 752 | L63: 752 | M63: 210000 | N63: Viện Trang thiết bị và Công trình y tế | O63: =K63*M63 -> 157920000 | P63: 6162 | Q63: 0 | R63: 50 | U63: 30 | V63: 300 | Y63: 50 | AH63: 50 | AM63: 50 | AN63: 52 | AQ63: 100 | AW63: 40 | BE63: 20 | BJ63: 10
A64: =IF(L64="","",COUNTA($L$8:$L64)) -> 33 | B64: K7 | C64: K7 | D64: N01.02.010 | E64: Dung dịch rửa tay sát khuẩn 4% | F64: Dung dịch rửa tay sát khuẩn 4% HANDIFAST CH | G64: Thành phần: Chlohexidine Gluconate 4% ( 40mg/ml), Nonoxinol 15, Carmoisine, Hydroxyethylcellulose, Acid Acetic, Isopropyl alcohol. Diệt khuẩn nhanh, phổ rộng, tác động diệt khuẩn duy trì kéo dài trong 4 giờ, chất làm mềm, dưỡng ầm. pH= 5,3 - Diệt các Vi khuẩn, khuẩn lao, thuốc diệt nấm và vi-rút - Vệ sinh tay theo tiêu chuẩn EN 1499; 3ml/ 1 phút (2 muỗng 3ml) - Rửa tay phẫu thuật theo tiêu chuẩn EN 12791; 2x3ml / 5 phút. | H64: Chai 1 lít | I64: GBL, Thổ Nhĩ Kỳ | J64: Lít | K64: 397 | L64: 397 | M64: 250000 | N64: Viện Trang thiết bị và Công trình y tế | O64: =K64*M64 -> 99250000 | P64: 6163 | Q64: 0 | R64: 50 | U64: 40 | Y64: 50 | AD64: 15 | AE64: 70 | AH64: 50 | BA64: 120 | BJ64: 2
A65: =IF(L65="","",COUNTA($L$8:$L65)) | E65: Nhóm 2. Băng, gạc, vật liệu cầm máu, điều trị vết thương
A66: =IF(L66="","",COUNTA($L$8:$L66)) | E66: 2.2 Băng dính
A67: =IF(L67="","",COUNTA($L$8:$L67)) -> 34 | B67: K13 | C67: K15 | D67: N02.02.020 | E67: Băng dính cuộn vải lụa y tế 2,5cm x 5m | F67: Băng dính lụa 2,5cm x 5m | G67: Băng bằng vải lụa phủ keo, màu trắng. 100 % sợi cellulose acetate đánh thành cuộn. Keo oxyd kẽm; kích thước : 2,5cm x 5m. | H67: Hộp 1 cuộn | I67: Zhejiang Bangli Medical Products Co., Ltd/ Trung Quốc | J67: Cuộn | K67: 7280 | L67: 7280 | M67: 8800 | N67: Liên danh nhà thầu Bình Minh | O67: =K67*M67 -> 64064000 | P67: EGM 2.5 | Q67: 0 | R67: 60 | AF67: 2400 | AH67: 1000 | AJ67: 100 | AK67: 200 | AM67: 200 | AN67: 910 | AO67: 200 | AQ67: 1500 | AS67: 120 | AW67: 80 | AY67: 180 | BB67: 150 | BC67: 150 | BJ67: 10 | CG67: 20
A68: =IF(L68="","",COUNTA($L$8:$L68)) -> 35 | B68: K14 | C68: K16 | D68: N02.02.020 | E68: Băng dính cuộn vải lụa y tế 5cm x 5m | F68: Băng dính lụa 5cm x 5m | G68: Băng bằng vải lụa phủ keo, màu trắng. 100 % sợi cellulose acetate đánh thành cuộn. Keo: oxyd kẽm; kích thước: 5cm x 5m. | H68: Hộp 1 cuộn | I68: Zhejiang Bangli Medical Products Co., Ltd/ Trung Quốc | J68: Cuộn | K68: 1606 | L68: 1606 | M68: 15500 | N68: Liên danh nhà thầu Bình Minh | O68: =K68*M68 -> 24893000 | P68: EGM 5 | Q68: 0 | R68: 200 | T68: 250 | AH68: 350 | AI68: 500 | AJ68: 130 | AK68: 36 | AW68: 80 | BB68: 50 | BJ68: 10
A69: =IF(L69="","",COUNTA($L$8:$L69)) | E69: Nhóm 3. Bơm, kim tiêm, dây truyền, găng tay và vật tư y tế sử dụng trong chăm sóc người bệnh
A70: =IF(L70="","",COUNTA($L$8:$L70)) | E70: 3.2 Kim tiêm
A71: =IF(L71="","",COUNTA($L$8:$L71)) -> 36 | B71: K26 | C71: K32 | D71: N03.02.070 | E71: Kim luồn tĩnh mạch có cánh có cửa | F71: Kim luồn tĩnh mạch có cánh có cổng tiêm | G71: Vô trùng. Sử dụng một lần. Có cánh, có cổng tiêm thuốc. Không pyrogenic. Kim được làm bằng thép không gỉ. Kim có ba điểm để chèn không gây đau đớn .Chất liệu ống thông bằng PTFE(Teflon)/FEP/PUR, trong suốt được phủ kín. Có vạch cản quang ẩn. Khả năng lưu catheter 96h. đường kính trong, ngoài- chiều dài - tốc độ dòng chảy: Kim 18G: 0,9mm - 1,3x45mm - 80ml/phút. Kim 22G: 0,6mm- 0,9x25mm - 33ml/phút.Kim 24G: 0,5mm- 0,7x19mm - 20ml/phút Không chứa mủ cao su | H71: 1000 cái/thùng 100 cái/hộp | I71: Bio Med - Ấn Độ | J71: Cái | L71: 17600 | M71: 3500 | N71: Công ty cổ phẩn thiết bị vật tư y tế Thanh Hóa
A72: =IF(L72="","",COUNTA($L$8:$L72)) | B72: K26.1 | E72: Kim luồn tĩnh mạch có cánh có cửa 18G | G72: Vô trùng. Sử dụng một lần. Có cánh, có cổng tiêm thuốc. Không pyrogenic. Kim được làm bằng thép không gỉ. Kim có ba điểm để chèn không gây đau đớn .Chất liệu ống thông bằng PTFE(Teflon)/FEP/PUR, trong suốt được phủ kín. Có vạch cản quang ẩn. Khả năng lưu catheter 96h. đường kính trong, ngoài- chiều dài - tốc độ dòng chảy: Kim 18G: 0,9mm - 1,3x45mm - 80ml/phút. Kim 22G: 0,6mm- 0,9x25mm - 33ml/phút.Kim 24G: 0,5mm- 0,7x19mm - 20ml/phút Không chứa mủ cao su | H72: 1000 cái/thùng 100 cái/hộp | I72: Bio Med - Ấn Độ | J72: Cái | K72: 4400 | M72: 3500 | N72: Công ty cổ phẩn thiết bị vật tư y tế Thanh Hóa | O72: =K72*M72 -> 15400000 | P72: BM0013 | Q72: N03.02.070.260.000004 | AK72: 500 | AN72: 2600 | AW72: 800 | BB72: 500
A73: =IF(L73="","",COUNTA($L$8:$L73)) | B73: K26.2 | E73: Kim luồn tĩnh mạch có cánh có cửa 22G | G73: Vô trùng. Sử dụng một lần. Có cánh, có cổng tiêm thuốc. Không pyrogenic. Kim được làm bằng thép không gỉ. Kim có ba điểm để chèn không gây đau đớn .Chất liệu ống thông bằng PTFE(Teflon)/FEP/PUR, trong suốt được phủ kín. Có vạch cản quang ẩn. Khả năng lưu catheter 96h. đường kính trong, ngoài- chiều dài - tốc độ dòng chảy: Kim 18G: 0,9mm - 1,3x45mm - 80ml/phút. Kim 22G: 0,6mm- 0,9x25mm - 33ml/phút.Kim 24G: 0,5mm- 0,7x19mm - 20ml/phút Không chứa mủ cao su | H73: 1000 cái/thùng 100 cái/hộp | I73: Bio Med - Ấn Độ | J73: Cái | K73: 1000 | M73: 3500 | N73: Công ty cổ phẩn thiết bị vật tư y tế Thanh Hóa | O73: =K73*M73 -> 3500000 | P73: BM0015 | Q73: N03.02.070.260.000006 | BB73: 1000
A74: =IF(L74="","",COUNTA($L$8:$L74)) | B74: K26.3 | E74: Kim luồn tĩnh mạch có cánh có cửa 24G | G74: Vô trùng. Sử dụng một lần. Có cánh, có cổng tiêm thuốc. Không pyrogenic. Kim được làm bằng thép không gỉ. Kim có ba điểm để chèn không gây đau đớn .Chất liệu ống thông bằng PTFE(Teflon)/FEP/PUR, trong suốt được phủ kín. Có vạch cản quang ẩn. Khả năng lưu catheter 96h. đường kính trong, ngoài- chiều dài - tốc độ dòng chảy: Kim 18G: 0,9mm - 1,3x45mm - 80ml/phút. Kim 22G: 0,6mm- 0,9x25mm - 33ml/phút.Kim 24G: 0,5mm- 0,7x19mm - 20ml/phút Không chứa mủ cao su | H74: 1000 cái/thùng 100 cái/hộp | I74: Bio Med - Ấn Độ | J74: Cái | K74: 12200 | M74: 3500 | N74: Công ty cổ phẩn thiết bị vật tư y tế Thanh Hóa | O74: =K74*M74 -> 42700000 | P74: BM0016 | Q74: N03.02.070.260.000007 | AK74: 500 | AN74: 3900 | AW74: 4800 | BB74: 3000
A75: =IF(L75="","",COUNTA($L$8:$L75)) -> 37 | B75: K37 | C75: K47 | D75: N03.03.080 | E75: Kim lọc thận | F75: Kim lọc thận 16G | G75: Thành kim làm bằng thép không gỉ siêu mỏng Chiều dài kim 25mm (1 inch), chiều dài dây dẫn : 300 mm, đường kính 16G, có mắt, có kẹp, có cánh xoay được hoặc cố định. Kim tráng sillicone Dây gắn với kim làm bằng nguyên liệu nhự tổng hợp PVC dùng trong y tế. | H75: 500 cái/thùng | I75: Baihe, Trung Quốc | J75: Cái | K75: 30000 | L75: 30000 | M75: 5200 | N75: Viện Trang thiết bị và Công trình y tế | O75: =K75*M75 -> 156000000 | P75: FN-1612ZS | Q75: 0 | R75: 30000
A76: =IF(L76="","",COUNTA($L$8:$L76)) | E76: 3.6 Găng tay
A77: =IF(L77="","",COUNTA($L$8:$L77)) -> 38 | B77: K45 | C77: K56 | D77: N03.06.030 | E77: Găng tay khám, xét nghiệm các số | F77: Găng tay cao su y tế có bột các cỡ | G77: Găng tay có bột chưa tiệt trùng, được sản xuất từ cao su thiên nhiên, bề mặt nhẵn mịn. Độ dày ngón tay: tối thiểu 0.08mm, lòng bàn tay: tối thiểu 0.08mm, chiều dài 240mm. Sức căn cơ trước già hóa: tối thiểu 18Mpa Sức căng cơ sau già hóa: tối thiểu 14Mpa Độ giãn dài trước già hóa: tối thiểu 650% Độ giãn dài sau già hóa: tối thiểu 500% Hàm lượng Protein: tối đa 200µg/dm2 Hàm lượng bột: tối đa 10µg/dm2 Kích thước chiều rộng: size XS 70 ± 10mm; size S 80 ± 10mm; size M 95 ± 10mm; size L 111 ± 10mm | H77: Hộp 50 đôi | I77: Sri trang/ Thái Lan | J77: Đôi | K77: 5315200 | L77: 5315200 | M77: 2180 | N77: Công ty cổ phẩn thiết bị y tế và thương mại Hoa Cẩm Chướng | O77: =K77*M77 -> 11587136000 | P77: Latex Powdered Examination Gloves | Q77: 0 | R77: 1500000 | T77: 35000 | U77: 75000 | V77: 100000 | W77: 10000 | X77: 146900 | Y77: 1000000 | Z77: 30000 | AA77: 60000 | AB77: 190000 | AC77: 130000 | AD77: 100000 | AE77: 100000 | AF77: 18000 | AG77: 45000 | AH77: 130000 | AI77: 100000 | AJ77: 30000 | AK77: 20000 | AL77: 25000 | AM77: 100000 | AN77: 26000 | AO77: 50000 | AP77: 86500 | AQ77: 150000 | AR77: 20000 | AT77: 55000 | AU77: 250000 | AV77: 200000 | AW77: 48000 | AX77: 50000 | AY77: 25000 | AZ77: 80000 | BA77: 100000 | BB77: 30000 | BC77: 20000 | BE77: 26000 | BF77: 30000 | BI77: 10000 | BJ77: 100 | BK77: 2400 | BL77: 1800 | BM77: 1200 | BN77: 300 | BO77: 2100 | BP77: 300 | BQ77: 2000 | BR77: 35000 | BS77: 1800 | BT77: 10600 | BU77: 1800 | BV77: 1200 | BW77: 10000 | BY77: 900 | BZ77: 2700 | CA77: 12000 | CB77: 10000 | CC77: 1200 | CD77: 900 | CE77: 6000 | CF77: 900 | CG77: 8600
A78: =IF(L78="","",COUNTA($L$8:$L78)) | E78: 3.7 Túi, lọ và vật tư bao gói khác
A79: =IF(L79="","",COUNTA($L$8:$L79)) -> 39 | B79: K51 | C79: K64 | E79: Túi lấy máu ba 250 ml | F79: Túi máu ba 250 ml: Karmi Blood Bag Triple 250ml | G79: Túi máu ba 250 ml, túi máu ba gồm 3 túi máu đơn được kết nối với nhau thành một hệ thống vô trùng. - Túi 1 có dung tích 250 ml chứa 35 ml dung dịch chống đông CPD; Bảo quản được bạch cầu và hồng cầu trong vòng 21 ngày. Kích thước của túi (Rộng x Dài): 130 x 170 (mm). Chiều dài dây dẫn máu từ kim lấy máu tới túi: 1036 mm - Túi 2 có dung tích 250 ml, kích thước của túi (Rộng x Dài): 130 x 170 (mm). - Túi 3 có dung tích 250 ml chứa 56 ml dung dịch chống đông SAG-M. Bảo quản tế bào hồng cầu trong vòng 42 ngày. Kích thước của túi (Rộng x Dài): 130 x 170 (mm). - Chiều dài dây nối giữa các túi: 296 mm; - Kim lấy máu có phủ silicone 2 lớp, siêu nhẵn - Góc túi tròn, có các lỗ rìa túi để treo túi. | H79: 40 túi/thùng | I79: Kawasumi/ Thái Lan | J79: Túi | K79: 30075 | L79: 30075 | M79: 110000 | N79: Công ty TNHH thiết bị y tế dược phẩm An Phúc | O79: =K79*M79 -> 3308250000 | P79: KBT-250CSM6P | Q79: 0 | R79: 30000 | AI79: 15 | AU79: 50 | AW79: 10
A80: =IF(L80="","",COUNTA($L$8:$L80)) -> 40 | B80: K52 | C80: K65 | E80: Túi lấy máu ba 350 ml có túi chân không lấy mẫu | F80: Túi máu ba 350 ml: Karmi Blood Bag Triple 350ml | G80: Túi máu ba 350 ml, túi máu ba gồm 3 túi máu đơn được kết nối với nhau - Có túi lấy mẫu chân không - Túi 1 có dung tích 350 ml chứa 49 ml dung dịch chống đông CPD. Bảo quản được bạch cầu và hồng cầu trong vòng 21 ngày. Kích thước của túi (Rộng x Dài): 130 x 190 (mm). Chiều dài dây dẫn máu từ kim lấy máu tới túi: 1036 mm, - Túi 2 có dung tích 300 ml, kích thước của túi (Rộng x Dài): 130 x 170 (mm). - Túi 3 có dung tích 300 ml chứa 78 ml dung dịch chống đông SAG-M. Bảo quản tế bào hồng cầu trong vòng 42 ngày. Kích thước của túi (Rộng x Dài): 130x170 (mm) - Chiều dài dây nối giữa các túi: 296 mm; - Kim lấy máu có phủ silicone 2 lớp, siêu nhẵn - Góc túi tròn, có các lỗ rìa túi để treo túi. | H80: 32 túi/thùng | I80: Kawasumi/ Thái Lan | J80: Túi | K80: 11200 | L80: 11200 | M80: 120000 | N80: Công ty TNHH thiết bị y tế dược phẩm An Phúc | O80: =K80*M80 -> 1344000000 | P80: KBT-350CSM6PZ | Q80: 0 | R80: 11200
A81: =IF(L81="","",COUNTA($L$8:$L81)) | E81: Nhóm 4. Ống thông, ống dẫn lưu, ống nối, dây nối, chạc nối, catheter
A82: =IF(L82="","",COUNTA($L$8:$L82)) | E82: 4.1 Ống thông
A83: =IF(L83="","",COUNTA($L$8:$L83)) -> 41 | B83: K57 | C83: K70 + K72 | D83: N04.01.030 | E83: Ống đặt nội khí quản có bóng | F83: Ống đặt nội khí quản có bóng các cỡ | G83: Ống đặt nội khí quản có bóng, làm bằng chất liệu nhựa PVC, có tia cản quang dọc thân ống. Sản phẩm được tiệt trùng 100% bằng khí EO. Các cỡ 3.0; 3.5; 4.0; 4.5; 5.0; 5.5; 6.0; 6.5; 7.0; 7.5; 8.0; 8.5 | H83: Túi 1 cái | I83: Guangdong Ecan Medical Co., Ltd/ Trung Quốc | J83: Cái | L83: 44612 | M83: 9500 | N83: Liên danh nhà thầu Bình Minh
A84: =IF(L84="","",COUNTA($L$8:$L84)) | B84: K57.1 | E84: Ống đặt nội khí quản có bóng ( số 3.0) | F84: Ống đặt nội khí quản có bóng các cỡ | G84: Ống đặt nội khí quản có bóng, làm bằng chất liệu nhựa PVC, có tia cản quang dọc thân ống. Sản phẩm được tiệt trùng 100% bằng khí EO. Các cỡ 3.0; 3.5; 4.0; 4.5; 5.0; 5.5; 6.0; 6.5; 7.0; 7.5; 8.0; 8.5 | H84: Túi 1 cái | I84: Guangdong Ecan Medical Co., Ltd/ Trung Quốc | J84: Cái | K84: 791 | M84: 9500 | N84: Liên danh nhà thầu Bình Minh | O84: =K84*M84 -> 7514500 | P84: EC110130HC | Q84: 0 | X84: 260 | Z84: 40 | AC84: 50 | AE84: 20 | AF84: 20 | AH84: 20 | AI84: 10 | AJ84: 30 | AK84: 15 | AL84: 12 | AM84: 13 | AN84: 7 | AO84: 100 | AQ84: 10 | AR84: 5 | AS84: 15 | AU84: 20 | AW84: 4 | AY84: 20 | AZ84: 20 | BA84: 20 | BB84: 20 | BC84: 60
A85: =IF(L85="","",COUNTA($L$8:$L85)) | B85: K57.2 | E85: Ống đặt nội khí quản có bóng ( số 3.5) | F85: Ống đặt nội khí quản có bóng các cỡ | G85: Ống đặt nội khí quản có bóng, làm bằng chất liệu nhựa PVC, có tia cản quang dọc thân ống. Sản phẩm được tiệt trùng 100% bằng khí EO. Các cỡ 3.0; 3.5; 4.0; 4.5; 5.0; 5.5; 6.0; 6.5; 7.0; 7.5; 8.0; 8.5 | H85: Túi 1 cái | I85: Guangdong Ecan Medical Co., Ltd/ Trung Quốc | J85: Cái | K85: 366 | M85: 9500 | N85: Liên danh nhà thầu Bình Minh | O85: =K85*M85 -> 3477000 | P85: EC110135HC | Q85: 0 | AC85: 50 | AE85: 30 | AF85: 20 | AH85: 15 | AI85: 10 | AJ85: 50 | AK85: 15 | AL85: 12 | AN85: 7 | AQ85: 10 | AR85: 5 | AS85: 10 | AW85: 2 | AY85: 10 | AZ85: 20 | BA85: 20 | BB85: 20 | BC85: 60
A86: =IF(L86="","",COUNTA($L$8:$L86)) | B86: K57.3 | E86: Ống đặt nội khí quản có bóng ( số 4.0) | F86: Ống đặt nội khí quản có bóng các cỡ | G86: Ống đặt nội khí quản có bóng, làm bằng chất liệu nhựa PVC, có tia cản quang dọc thân ống. Sản phẩm được tiệt trùng 100% bằng khí EO. Các cỡ 3.0; 3.5; 4.0; 4.5; 5.0; 5.5; 6.0; 6.5; 7.0; 7.5; 8.0; 8.5 | H86: Túi 1 cái | I86: Guangdong Ecan Medical Co., Ltd/ Trung Quốc | J86: Cái | K86: 1319 | M86: 9500 | N86: Liên danh nhà thầu Bình Minh | O86: =K86*M86 -> 12530500 | P86: EC110140HC | Q86: 0 | R86: 300 | V86: 500 | AC86: 50 | AE86: 30 | AF86: 20 | AH86: 15 | AI86: 10 | AJ86: 50 | AK86: 15 | AL86: 12 | AM86: 13 | AN86: 7 | AO86: 100 | AQ86: 20 | AR86: 5 | AU86: 20 | AW86: 2 | AX86: 30 | AY86: 10 | AZ86: 20 | BA86: 10 | BB86: 20 | BC86: 60
A87: =IF(L87="","",COUNTA($L$8:$L87)) | B87: K57.4 | E87: Ống đặt nội khí quản có bóng ( số 4.5) | F87: Ống đặt nội khí quản có bóng các cỡ | G87: Ống đặt nội khí quản có bóng, làm bằng chất liệu nhựa PVC, có tia cản quang dọc thân ống. Sản phẩm được tiệt trùng 100% bằng khí EO. Các cỡ 3.0; 3.5; 4.0; 4.5; 5.0; 5.5; 6.0; 6.5; 7.0; 7.5; 8.0; 8.5 | H87: Túi 1 cái | I87: Guangdong Ecan Medical Co., Ltd/ Trung Quốc | J87: Cái | K87: 1412 | M87: 9500 | N87: Liên danh nhà thầu Bình Minh | O87: =K87*M87 -> 13414000 | P87: EC110145HC | Q87: 0 | R87: 50 | V87: 800 | AC87: 70 | AE87: 40 | AF87: 50 | AH87: 25 | AI87: 20 | AJ87: 50 | AK87: 20 | AL87: 22 | AN87: 13 | AO87: 50 | AQ87: 50 | AW87: 2 | AX87: 30 | AY87: 10 | AZ87: 20 | BA87: 10 | BB87: 20 | BC87: 60
A88: =IF(L88="","",COUNTA($L$8:$L88)) | B88: K57.5 | E88: Ống đặt nội khí quản có bóng ( số 5.0) | F88: Ống đặt nội khí quản có bóng các cỡ | G88: Ống đặt nội khí quản có bóng, làm bằng chất liệu nhựa PVC, có tia cản quang dọc thân ống. Sản phẩm được tiệt trùng 100% bằng khí EO. Các cỡ 3.0; 3.5; 4.0; 4.5; 5.0; 5.5; 6.0; 6.5; 7.0; 7.5; 8.0; 8.5 | H88: Túi 1 cái | I88: Guangdong Ecan Medical Co., Ltd/ Trung Quốc | J88: Cái | K88: 1010 | M88: 9500 | N88: Liên danh nhà thầu Bình Minh | O88: =K88*M88 -> 9595000 | P88: EC110150HC | Q88: 0 | V88: 500 | AE88: 30 | AF88: 60 | AH88: 20 | AI88: 10 | AJ88: 50 | AK88: 10 | AL88: 22 | AM88: 13 | AN88: 26 | AO88: 50 | AP88: 50 | AS88: 20 | AT88: 5 | AW88: 4 | AX88: 30 | AY88: 10 | AZ88: 20 | BA88: 10 | BB88: 10 | BC88: 60
A89: =IF(L89="","",COUNTA($L$8:$L89)) | B89: K57.6 | E89: Ống đặt nội khí quản có bóng ( số 6.0) | F89: Ống đặt nội khí quản có bóng các cỡ | G89: Ống đặt nội khí quản có bóng, làm bằng chất liệu nhựa PVC, có tia cản quang dọc thân ống. Sản phẩm được tiệt trùng 100% bằng khí EO. Các cỡ 3.0; 3.5; 4.0; 4.5; 5.0; 5.5; 6.0; 6.5; 7.0; 7.5; 8.0; 8.5 | H89: Túi 1 cái | I89: Guangdong Ecan Medical Co., Ltd/ Trung Quốc | J89: Cái | K89: 2450 | M89: 9500 | N89: Liên danh nhà thầu Bình Minh | O89: =K89*M89 -> 23275000 | P89: EC110160HC | Q89: 0 | V89: 300 | AB89: 200 | AC89: 130 | AD89: 100 | AE89: 180 | AF89: 60 | AH89: 25 | AI89: 80 | AJ89: 70 | AK89: 20 | AL89: 22 | AM89: 26 | AN89: 39 | AO89: 100 | AQ89: 30 | AR89: 5 | AS89: 15 | AU89: 150 | AV89: 150 | AW89: 8 | AX89: 30 | AY89: 30 | AZ89: 20 | BA89: 150 | BB89: 10 | BC89: 500
A90: =IF(L90="","",COUNTA($L$8:$L90)) | B90: K57.7 | E90: Ống đặt nội khí quản có bóng ( số 6.5) | F90: Ống đặt nội khí quản có bóng các cỡ | G90: Ống đặt nội khí quản có bóng, làm bằng chất liệu nhựa PVC, có tia cản quang dọc thân ống. Sản phẩm được tiệt trùng 100% bằng khí EO. Các cỡ 3.0; 3.5; 4.0; 4.5; 5.0; 5.5; 6.0; 6.5; 7.0; 7.5; 8.0; 8.5 | H90: Túi 1 cái | I90: Guangdong Ecan Medical Co., Ltd/ Trung Quốc | J90: Cái | K90: 6731 | M90: 9500 | N90: Liên danh nhà thầu Bình Minh | O90: =K90*M90 -> 63944500 | P90: EC110165HC | Q90: 0 | R90: 1000 | U90: 2000 | V90: 200 | AC90: 600 | AD90: 300 | AE90: 240 | AF90: 150 | AH90: 70 | AI90: 120 | AJ90: 70 | AK90: 40 | AL90: 22 | AM90: 65 | AN90: 39 | AQ90: 30 | AR90: 5 | AS90: 60 | AU90: 300 | AV90: 150 | AW90: 90 | AX90: 90 | AY90: 100 | AZ90: 20 | BA90: 150 | BB90: 20 | BC90: 800
A91: =IF(L91="","",COUNTA($L$8:$L91)) | B91: K57.8 | E91: Ống đặt nội khí quản có bóng ( số 7.0) | F91: Ống đặt nội khí quản có bóng các cỡ | G91: Ống đặt nội khí quản có bóng, làm bằng chất liệu nhựa PVC, có tia cản quang dọc thân ống. Sản phẩm được tiệt trùng 100% bằng khí EO. Các cỡ 3.0; 3.5; 4.0; 4.5; 5.0; 5.5; 6.0; 6.5; 7.0; 7.5; 8.0; 8.5 | H91: Túi 1 cái | I91: Guangdong Ecan Medical Co., Ltd/ Trung Quốc | J91: Cái | K91: 14791 | M91: 9500 | N91: Liên danh nhà thầu Bình Minh | O91: =K91*M91 -> 140514500 | P91: EC110170HC | Q91: 0 | R91: 3000 | U91: 600 | V91: 200 | Y91: 2500 | AB91: 2000 | AC91: 600 | AD91: 150 | AE91: 370 | AF91: 350 | AG91: 50 | AH91: 500 | AI91: 40 | AJ91: 300 | AK91: 120 | AL91: 110 | AM91: 300 | AN91: 91 | AO91: 200 | AP91: 250 | AQ91: 450 | AR91: 40 | AS91: 180 | AT91: 10 | AU91: 500 | AV91: 150 | AW91: 180 | AX91: 600 | AY91: 200 | AZ91: 100 | BB91: 150 | BC91: 500
A92: =IF(L92="","",COUNTA($L$8:$L92)) | B92: K57.9 | E92: Ống đặt nội khí quản có bóng ( số 7.5) | F92: Ống đặt nội khí quản có bóng các cỡ | G92: Ống đặt nội khí quản có bóng, làm bằng chất liệu nhựa PVC, có tia cản quang dọc thân ống. Sản phẩm được tiệt trùng 100% bằng khí EO. Các cỡ 3.0; 3.5; 4.0; 4.5; 5.0; 5.5; 6.0; 6.5; 7.0; 7.5; 8.0; 8.5 | H92: Túi 1 cái | I92: Guangdong Ecan Medical Co., Ltd/ Trung Quốc | J92: Cái | K92: 8618 | M92: 9500 | N92: Liên danh nhà thầu Bình Minh | O92: =K92*M92 -> 81871000 | P92: EC110175HC | Q92: 0 | R92: 6000 | V92: 100 | X92: 65 | AB92: 200 | AC92: 600 | AE92: 180 | AF92: 350 | AH92: 90 | AJ92: 300 | AK92: 40 | AL92: 22 | AN92: 26 | AQ92: 30 | AR92: 5 | AW92: 130 | AX92: 120 | AY92: 50 | AZ92: 50 | BB92: 10 | BC92: 250
A93: =IF(L93="","",COUNTA($L$8:$L93)) | B93: K57.10 | E93: Ống đặt nội khí quản có bóng ( số 8.0) | F93: Ống đặt nội khí quản có bóng các cỡ | G93: Ống đặt nội khí quản có bóng, làm bằng chất liệu nhựa PVC, có tia cản quang dọc thân ống. Sản phẩm được tiệt trùng 100% bằng khí EO. Các cỡ 3.0; 3.5; 4.0; 4.5; 5.0; 5.5; 6.0; 6.5; 7.0; 7.5; 8.0; 8.5 | H93: Túi 1 cái | I93: Guangdong Ecan Medical Co., Ltd/ Trung Quốc | J93: Cái | K93: 4945 | M93: 9500 | N93: Liên danh nhà thầu Bình Minh | O93: =K93*M93 -> 46977500 | P93: EC110180HC | Q93: 0 | R93: 4000 | X93: 195 | AC93: 600 | AF93: 150
A94: =IF(L94="","",COUNTA($L$8:$L94)) | B94: K57.11 | E94: Ống đặt nội khí quản có bóng ( số 8.5) | F94: Ống đặt nội khí quản có bóng các cỡ | G94: Ống đặt nội khí quản có bóng, làm bằng chất liệu nhựa PVC, có tia cản quang dọc thân ống. Sản phẩm được tiệt trùng 100% bằng khí EO. Các cỡ 3.0; 3.5; 4.0; 4.5; 5.0; 5.5; 6.0; 6.5; 7.0; 7.5; 8.0; 8.5 | H94: Túi 1 cái | I94: Guangdong Ecan Medical Co., Ltd/ Trung Quốc | J94: Cái | K94: 500 | M94: 9500 | N94: Liên danh nhà thầu Bình Minh | O94: =K94*M94 -> 4750000 | P94: EC110185HC | Q94: 0 | R94: 500
A95: =IF(L95="","",COUNTA($L$8:$L95)) | B95: K57.12 | E95: Ống đặt nội khí quản có bóng ( số 5.5) | F95: Ống đặt nội khí quản có bóng các cỡ | G95: Ống đặt nội khí quản có bóng, làm bằng chất liệu nhựa PVC, có tia cản quang dọc thân ống. Sản phẩm được tiệt trùng 100% bằng khí EO. Các cỡ 3.0; 3.5; 4.0; 4.5; 5.0; 5.5; 6.0; 6.5; 7.0; 7.5; 8.0; 8.5 | H95: Túi 1 cái | I95: Guangdong Ecan Medical Co., Ltd/ Trung Quốc | J95: Cái | K95: 1679 | M95: 9500 | N95: Liên danh nhà thầu Bình Minh | O95: =K95*M95 -> 15950500 | P95: EC110155HC | Q95: 0 | R95: 600 | V95: 600 | AE95: 40 | AH95: 5 | AI95: 20 | AJ95: 50 | AK95: 20 | AQ95: 20 | AW95: 24 | AX95: 50 | BA95: 10 | BB95: 10 | BC95: 230
A96: =IF(L96="","",COUNTA($L$8:$L96)) | E96: 4.2 Ống dẫn lưu, ống hút
A97: =IF(L97="","",COUNTA($L$8:$L97)) -> 42 | B97: K66 | C97: K83 | D97: N04.02.030 | E97: Dẫn lưu kín vết mổ | F97: Bình dẫn lưu vết thương 200ml, 400ml | G97: Bao gồm: Bình áp lực 3 lò xo dung tích 200 ml, 400ml dây PVC, kết nối chữ Y, dây xả và trocar. - Bình áp lực 3 lò xo được thiết kế chống xẹp tối thiểu. Sản phẩm được đóng gói đảm bảo vô khuẩn khi dùng trong phòng mổ. | H97: Túi 1 cái | I97: Hitec Medical Co., Ltd/ Trung Quốc | J97: Cái | L97: 520 | M97: 73500 | N97: Liên danh nhà thầu Bình Minh
A98: =IF(L98="","",COUNTA($L$8:$L98)) | B98: K66.1 | D98: N04.02.030 | E98: Dẫn lưu kín vết mổ 200ml | G98: Bao gồm: Bình áp lực 3 lò xo dung tích 200 ml, 400ml dây PVC, kết nối chữ Y, dây xả và trocar. - Bình áp lực 3 lò xo được thiết kế chống xẹp tối thiểu. Sản phẩm được đóng gói đảm bảo vô khuẩn khi dùng trong phòng mổ. | H98: Túi 1 cái | I98: Hitec Medical Co., Ltd/ Trung Quốc | J98: Cái | K98: 320 | M98: 73500 | N98: Liên danh nhà thầu Bình Minh | O98: =K98*M98 -> 23520000 | P98: HTP0012 | Q98: 0 | AB98: 100 | AT98: 20 | AW98: 200
A99: =IF(L99="","",COUNTA($L$8:$L99)) | B99: K66.2 | D99: N04.02.030 | E99: Dẫn lưu kín vết mổ 400ml | G99: Bao gồm: Bình áp lực 3 lò xo dung tích 200 ml, 400ml dây PVC, kết nối chữ Y, dây xả và trocar. - Bình áp lực 3 lò xo được thiết kế chống xẹp tối thiểu. Sản phẩm được đóng gói đảm bảo vô khuẩn khi dùng trong phòng mổ. | H99: Túi 1 cái | I99: Hitec Medical Co., Ltd/ Trung Quốc | J99: Cái | K99: 200 | M99: 73500 | N99: Liên danh nhà thầu Bình Minh | O99: =K99*M99 -> 14700000 | P99: HTP1012 | Q99: 0 | AB99: 200
A100: =IF(L100="","",COUNTA($L$8:$L100)) -> 43 | B100: K67 | C100: K85 | D100: N04.01.090 | E100: Dây hút nhớt loại có kiểm soát | F100: Dây hút nhớt loại có kiểm soát các số | G100: . Các số/ đường kính trong: 5 (1.67mm), 6 (2.00mm), 8 (2.67mm), 10 (3.33mm), 12 (4.00mm), 14 (4.67mm), 16 (5.33mm) Phân biệt kích cỡ bằng màu sắc. Chất liệu nhựa y tế PVC mềm dẻo. Có van kiểm soát. Bề mặt được thiết kế Tạo nhám trở lực thấp, chống dính vào thành ống, chịu được áp lực cao và không bị bẹp khi hút. Ống dài 50 cm, có 2 mắt phụ. | H100: Túi 1 cái | I100: Hitec Medical Co., Ltd/ Trung Quốc | J100: Cái | L100: 26624 | M100: 2800 | N100: Liên danh nhà thầu Bình Minh
A101: =IF(L101="","",COUNTA($L$8:$L101)) | B101: K67.1 | E101: Dây hút nhớt loại có kiểm soát số 5 Fr | G101: . Các số/ đường kính trong: 5 (1.67mm), 6 (2.00mm), 8 (2.67mm), 10 (3.33mm), 12 (4.00mm), 14 (4.67mm), 16 (5.33mm) Phân biệt kích cỡ bằng màu sắc. Chất liệu nhựa y tế PVC mềm dẻo. Có van kiểm soát. Bề mặt được thiết kế Tạo nhám trở lực thấp, chống dính vào thành ống, chịu được áp lực cao và không bị bẹp khi hút. Ống dài 50 cm, có 2 mắt phụ. | H101: Túi 1 cái | I101: Hitec Medical Co., Ltd/ Trung Quốc | J101: Cái | K101: 1325 | M101: 2800 | N101: Liên danh nhà thầu Bình Minh | O101: =K101*M101 -> 3710000 | P101: HTD0505 | Q101: 0 | V101: 1000 | Z101: 100 | AK101: 50 | AR101: 15 | AW101: 160
A102: =IF(L102="","",COUNTA($L$8:$L102)) | B102: K67.2 | E102: Dây hút nhớt loại có kiểm soát số 6 Fr | G102: . Các số/ đường kính trong: 5 (1.67mm), 6 (2.00mm), 8 (2.67mm), 10 (3.33mm), 12 (4.00mm), 14 (4.67mm), 16 (5.33mm) Phân biệt kích cỡ bằng màu sắc. Chất liệu nhựa y tế PVC mềm dẻo. Có van kiểm soát. Bề mặt được thiết kế Tạo nhám trở lực thấp, chống dính vào thành ống, chịu được áp lực cao và không bị bẹp khi hút. Ống dài 50 cm, có 2 mắt phụ. | H102: Túi 1 cái | I102: Hitec Medical Co., Ltd/ Trung Quốc | J102: Cái | K102: 2420 | M102: 2800 | N102: Liên danh nhà thầu Bình Minh | O102: =K102*M102 -> 6776000 | P102: HTD0506 | Q102: 0 | V102: 2000 | AK102: 50 | AL102: 15 | AQ102: 20 | AR102: 15 | AV102: 20 | AY102: 300
...

Sheet Nhóm 3 chi tiết
A2: DANH MỤC VẬT TƯ Y TẾ TRÚNG THẦU VỚI SỐ LƯỢNG CHI TIẾT NĂM 2022 ĐẠT TIÊU CHUẨN KỸ THUẬT NHÓM 3 THEO THÔNG TƯ SỐ 14/2020/TT-BYT NGÀY 10/7/2020.
A4: STT | B4: Mã hàng hóa 2021 | C4: Mã hàng hóa 2021 (Cũ) | D4: Mã TT 04/2017 | E4: Tên vật tư y tế mời thầu | F4: Tên vật tư y tế trúng thầu | G4: Yêu cầu kỹ thuật | H4: Quy tắc đóng gói | I4: Hãng/nước sản xuất | J4: ĐVT | K4: Số lượng dự kiến 17/10/2021 đến 16/10/2022 (chi tiết) | L4: Số lượng dự kiến 17/10/2021 đến 16/10/2022 (Tổng cộng) | M4: Giá trúng thầu | N4: Nhà thầu trúng thầu | O4: Mã hiệu VTYT | P4: Mã dùng chung (nếu có) | Q4: Khối Bệnh viện | BC4: Khối Trung tâm Y tế
A5: 1 | B5: 2 | D5: 3 | E5: 4 | G5: 5 | J5: 6 | K5: 7 | L5: 8 | Q5: Đa khoa tỉnh | R5: Da Liễu | S5: Mắt | T5: Nội Tiết | U5: Nhi | V5: PHCN | W5: Phổi | X5: Phụ Sản | Y5: Tâm Thần | Z5: YDCT | AA5: Ung Bướu | AB5: Ngọc Lặc | AC5: Bá Thước | AD5: Bỉm Sơn | AE5: Cẩm Thủy | AF5: Đông Sơn | AG5: Hà Trung | AH5: Hoằng Hóa | AI5: Hậu Lộc | AJ5: Lang Chánh | AK5: Mường Lát | AL5: Nông Cống | AM5: Như Thanh | AN5: Như Xuân | AO5: Nga Sơn | AP5: Quảng Xương | AQ5: Quan Hóa | AR5: Quan Sơn | AS5: Sầm Sơn | AT5: Thạch Thành | AU5: Thành Phố | AV5: Thọ Xuân | AW5: Nghi Sơn | AX5: Thiệu Hóa | AY5: Thường Xuân | AZ5: Triệu Sơn | BA5: Vĩnh Lộc | BB5: Yên Định | BC5: Ban BV sức khỏe | BD5: CDC | BE5: PK GTVT | BF5: TTGĐ Y khoa | BG5: TT pháp Y | BH5: TTYT Bá Thước | BI5: TTYT Bỉm Sơn | BJ5: TTYT Cẩm Thủy | BK5: TTYT Đông Sơn | BL5: TTYT Hà Trung | BM5: TTYT Hậu Lộc | BN5: TTYT Hoằng Hóa | BO5: TTYT Lang chánh | BP5: TTYT Mường Lát | BQ5: TTYT Nông cống | BR5: TTYT Nga Sơn | BS5: TTYT Ngọc Lặc | BT5: TTYT Như xuân | BU5: TTYT Như Thanh | BV5: TTYT Quảng Xương | BW5: TTYT Quan Hóa | BX5: TTYT Sầm Sơn | BY5: TTYT Nghi Sơn | BZ5: TTYT Thạch Thành | CA5: TTYT Thành Phố | CB5: TTYT Thiệu hóa | CC5: TTYT Thường xuân | CD5: TTYT Triệu Sơn | CE5: TTYT Vĩnh Lộc | CF5: TTYT Yên Định
E6: Nhóm 1. Bông, dung dịch sát khuẩn, rửa vết thương
E7: 2.4 Vật liệu cầm máu, điều trị các vết thương
A8: =IF(L8="","",COUNTA($L$8:$L8)) -> 1 | B8: G17 | C8: G16 | D8: N02.04.040 | E8: Miếng cầm máu tại mũi | F8: Miếng cầm máu tại mũi 22-60402 | G8: Thành phần: Hydroxilated Poly-Vinyl Acetate. kích thước 8 cm x 1,5 cm x 2 cm. - Khả năng thấm hút tốt: Lên tới 21 lần trọng lượng ban đầu khi ở trong chất lỏng. - Kích thước lỗ nhỏ. | H8: 10 Miếng/hộp | I8: Invotec/ Mỹ | J8: Miếng | K8: 1246 | L8: 1246 | M8: 94500 | N8: Viện Trang thiết bị và Công trình Y tế | O8: 22-60402 | P8: 0 | Q8: 800 | U8: 80 | AC8: 10 | AE8: 20 | AG8: 100 | AI8: 20 | AL8: 50 | AO8: 10 | AV8: 24 | BA8: 2 | BB8: 50 | BH8: 20 | BI8: 50 | CF8: 10
A9: =IF(L9="","",COUNTA($L$8:$L9)) | E9: Nhóm 3. Bơm, kim tiêm, dây truyền, găng tay và vật tư y tế sử dụng trong chăm sóc người bệnh
A10: =IF(L10="","",COUNTA($L$8:$L10)) | E10: 3.2 Kim tiêm và Các loại kim khác
A11: =IF(L11="","",COUNTA($L$8:$L11)) -> 2 | B11: G31 | C11: G36 | D11: N03.03.010 | E11: Kim chọc dò và gây tê tủy sống số 22 (Spinocan G22) | F11: Kim chọc dò và gây tê tủy sống số 22 | G11: Thành phần: Hydroxilated Poly-Vinyl Acetate. kích thước 8 cm x 1,5 cm x 2 cm. - Khả năng thấm hút tốt: Lên tới 21 lần trọng lượng ban đầu khi ở trong chất lỏng. - Kích thước lỗ nhỏ. | H11: 25 cái/hộp | I11: Nipro Corporation/ Nhật Bản | J11: Cái | K11: 2160 | L11: 2160 | M11: 22300 | N11: Công ty TNHH thương mại đầu tư Việt Nam | O11: 0403002404 | P11: N03.03.010.174. 000004 | Q11: 500 | U11: 200 | AD11: 500 | AI11: 390 | AJ11: 100 | AL11: 100 | AS11: 100 | AV11: 150 | BA11: 20 | BB11: 100
A12: =IF(L12="","",COUNTA($L$8:$L12)) -> 3 | B12: G32 | C12: G37 | D12: N03.03.010 | E12: Kim chọc dò và gây tê tủy sống số 25 (Spinocan G25) | F12: Kim chọc dò và gây tê tủy sống số 25 | G12: Thành phần: Hydroxilated Poly-Vinyl Acetate. kích thước 8 cm x 1,5 cm x 2 cm. - Khả năng thấm hút tốt: Lên tới 21 lần trọng lượng ban đầu khi ở trong chất lỏng. - Kích thước lỗ nhỏ. | H12: 25 cái/hộp | I12: Nipro Corporation/ Nhật Bản | J12: Cái | K12: 15320 | L12: 15320 | M12: 22300 | N12: Công ty TNHH thương mại đầu tư Việt Nam | O12: 0403003204 | P12: N03.03.010.174. 000005 | Q12: 9300 | U12: 100 | AA12: 500 | AB12: 650 | AC12: 200 | AD12: 300 | AG12: 1200 | AI12: 390 | AJ12: 200 | AL12: 100 | AM12: 390 | AN12: 200 | AR12: 200 | AV12: 250 | AW12: 500 | AX12: 240 | BA12: 100 | BB12: 500
A13: =IF(L13="","",COUNTA($L$8:$L13)) | E13: 4.2 Ống dẫn lưu, ống hút
A14: =IF(L14="","",COUNTA($L$8:$L14)) -> 4 | B14: G65 | C14: G76 | D14: N04.02.040 | E14: Ống dẫn lưu đường mật qua da có khóa | F14: Ống dẫn lưu đường mật qua da có khóa HS General Purpose | G14: Thành phần: Hydroxilated Poly-Vinyl Acetate. kích thước 8 cm x 1,5 cm x 2 cm. - Khả năng thấm hút tốt: Lên tới 21 lần trọng lượng ban đầu khi ở trong chất lỏng. - Kích thước lỗ nhỏ. | H14: 01 cái/ túi | I14: HS Hospital Service/Ý | J14: Cái | K14: 50 | L14: 50 | M14: 1800000 | N14: Công ty cổ phẩn thiết bị vật tư y tế Thanh Hóa | O14: HSGPLXXXX | P14: N04.02.030.633.ZZZZZZ | AA14: 50
A15: =IF(L15="","",COUNTA($L$8:$L15)) | E15: 4.3 Ống nối, dây nối, chạc nối
A16: =IF(L16="","",COUNTA($L$8:$L16)) -> 5 | B16: G70 | C16: G83 | D16: N04.03.100 | E16: Bộ kết nối 3 cổng | F16: Manifolds 3 cổng Medk | G16: Thành phần: Hydroxilated Poly-Vinyl Acetate. kích thước 8 cm x 1,5 cm x 2 cm. - Khả năng thấm hút tốt: Lên tới 21 lần trọng lượng ban đầu khi ở trong chất lỏng. - Kích thước lỗ nhỏ. | H16: 1 cái/ túi | I16: Medk GmbH /Đức | J16: Cái | L16: 200 | M16: 170000 | N16: Công ty cổ phẩn thiết bị vật tư y tế Thanh Hóa
A17: =IF(L17="","",COUNTA($L$8:$L17)) | B17: G70.1 | E17: Bộ phận kết nối 3 cổng right hand, off màu trắng | G17: Thành phần: Hydroxilated Poly-Vinyl Acetate. kích thước 8 cm x 1,5 cm x 2 cm. - Khả năng thấm hút tốt: Lên tới 21 lần trọng lượng ban đầu khi ở trong chất lỏng. - Kích thước lỗ nhỏ. | H17: 1 cái/ túi | I17: Medk GmbH /Đức | J17: Cái | K17: 50 | M17: 170000 | N17: Công ty cổ phẩn thiết bị vật tư y tế Thanh Hóa | O17: 9823253RH2821 | P17: N04.03.100.572.000003 | Q17: 50
A18: =IF(L18="","",COUNTA($L$8:$L18)) | B18: G70.2 | E18: Bộ phận kết nối 3 cổng right hand, off màu xanh | G18: Thành phần: Hydroxilated Poly-Vinyl Acetate. kích thước 8 cm x 1,5 cm x 2 cm. - Khả năng thấm hút tốt: Lên tới 21 lần trọng lượng ban đầu khi ở trong chất lỏng. - Kích thước lỗ nhỏ. | H18: 1 cái/ túi | I18: Medk GmbH /Đức | J18: Cái | K18: 50 | M18: 170000 | N18: Công ty cổ phẩn thiết bị vật tư y tế Thanh Hóa | O18: 9823253RH1641 | P18: N04.03.100.572.ZZZZZZ | Q18: 50
A19: =IF(L19="","",COUNTA($L$8:$L19)) | B19: G70.3 | E19: Bộ phận kết nối 3 cổng right hand, on màu trắng | G19: Thành phần: Hydroxilated Poly-Vinyl Acetate. kích thước 8 cm x 1,5 cm x 2 cm. - Khả năng thấm hút tốt: Lên tới 21 lần trọng lượng ban đầu khi ở trong chất lỏng. - Kích thước lỗ nhỏ. | H19: 1 cái/ túi | I19: Medk GmbH /Đức | J19: Cái | K19: 50 | M19: 170000 | N19: Công ty cổ phẩn thiết bị vật tư y tế Thanh Hóa | O19: 9823253RH2921 | P19: N04.03.100.572.000007 | Q19: 50
A20: =IF(L20="","",COUNTA($L$8:$L20)) | B20: G70.4 | E20: Bộ phận kết nối 3 cổng right hand, on màu xanh | G20: Thành phần: Hydroxilated Poly-Vinyl Acetate. kích thước 8 cm x 1,5 cm x 2 cm. - Khả năng thấm hút tốt: Lên tới 21 lần trọng lượng ban đầu khi ở trong chất lỏng. - Kích thước lỗ nhỏ. | H20: 1 cái/ túi | I20: Medk GmbH /Đức | J20: Cái | K20: 50 | M20: 170000 | N20: Công ty cổ phẩn thiết bị vật tư y tế Thanh Hóa | O20: 9823253RH2911 | P20: N04.03.100.572.000008 | Q20: 50
A21: =IF(L21="","",COUNTA($L$8:$L21)) | E21: 4.4 Catheter
A22: =IF(L22="","",COUNTA($L$8:$L22)) -> 6 | B22: G75 | C22: G88 | D22: N04.04.010 | E22: Ống thông (catheter) hỗ trợ can thiệp ngoại biên ái nước | F22: Ống thông (catheter) chụp mạch ngoại biên Radifocus Glidecath | G22: Thành phần: Hydroxilated Poly-Vinyl Acetate. kích thước 8 cm x 1,5 cm x 2 cm. - Khả năng thấm hút tốt: Lên tới 21 lần trọng lượng ban đầu khi ở trong chất lỏng. - Kích thước lỗ nhỏ. | H22: Hộp/ 3 cái | I22: Ashitaka Factory of Terumo Corporation/ Nhật Bản | J22: Cái | L22: 558 | M22: 950000 | N22: Công ty cổ phẩn thiết bị vật tư y tế Thanh Hóa
A23: =IF(L23="","",COUNTA($L$8:$L23)) | B23: G75.1 | E23: Ống thông (catheter) chụp mạch ngoại biên Radifocus Glidecath Cobra 5F: 80cm (hoặc tương đương) | G23: Thành phần: Hydroxilated Poly-Vinyl Acetate. kích thước 8 cm x 1,5 cm x 2 cm. - Khả năng thấm hút tốt: Lên tới 21 lần trọng lượng ban đầu khi ở trong chất lỏng. - Kích thước lỗ nhỏ. | H23: Hộp/ 3 cái | I23: Ashitaka Factory of Terumo Corporation/ Nhật Bản | J23: Cái | K23: 50 | M23: 950000 | N23: Công ty cổ phẩn thiết bị vật tư y tế Thanh Hóa | O23: RF*XB45108M | P23: N04.04.010.230.000050 | Q23: 20 | AA23: 30
A24: =IF(L24="","",COUNTA($L$8:$L24)) | B24: G75.2 | E24: Ống thông ( catheter ) chụp mạch não Radifocus Glidecath (Mani) (hoặc tương đương) | G24: Thành phần: Hydroxilated Poly-Vinyl Acetate. kích thước 8 cm x 1,5 cm x 2 cm. - Khả năng thấm hút tốt: Lên tới 21 lần trọng lượng ban đầu khi ở trong chất lỏng. - Kích thước lỗ nhỏ. | H24: Hộp/ 3 cái | I24: Ashitaka Factory of Terumo Corporation/ Nhật Bản | J24: Cái | K24: 103 | M24: 950000 | N24: Công ty cổ phẩn thiết bị vật tư y tế Thanh Hóa | O24: RF*YG15110M | P24: N04.04.010.230.000006 | Q24: 100 | AA24: 3
A25: =IF(L25="","",COUNTA($L$8:$L25)) | B25: G75.3 | E25: Ống thông (catheter) chụp mạch ngoại biên Radifocus Glidecath (Yashiro) 5F: 70cm (hoặc tương đương) | G25: Thành phần: Hydroxilated Poly-Vinyl Acetate. kích thước 8 cm x 1,5 cm x 2 cm. - Khả năng thấm hút tốt: Lên tới 21 lần trọng lượng ban đầu khi ở trong chất lỏng. - Kích thước lỗ nhỏ. | H25: Hộp/ 3 cái | I25: Ashitaka Factory of Terumo Corporation/ Nhật Bản | J25: Cái | K25: 280 | M25: 950000 | N25: Công ty cổ phẩn thiết bị vật tư y tế Thanh Hóa | O25: RF*XG95107M | P25: N04.04.010.230.000051 | Q25: 100 | AA25: 180
A26: =IF(L26="","",COUNTA($L$8:$L26)) | B26: G75.4 | E26: Ống thông (catheter) hỗ trợ can thiệp ngoại biên ái nước, Radifocus Glidecath 5Fr Cobra 65cm (hoặc tương đương) | G26: Thành phần: Hydroxilated Poly-Vinyl Acetate. kích thước 8 cm x 1,5 cm x 2 cm. - Khả năng thấm hút tốt: Lên tới 21 lần trọng lượng ban đầu khi ở trong chất lỏng. - Kích thước lỗ nhỏ. | H26: Hộp/ 3 cái | I26: Ashitaka Factory of Terumo Corporation/ Nhật Bản | J26: Cái | K26: 20 | M26: 950000 | N26: Công ty cổ phẩn thiết bị vật tư y tế Thanh Hóa | O26: RF*XB4510GM | P26: N04.04.010.230.000055 | Q26: 20
A27: =IF(L27="","",COUNTA($L$8:$L27)) | B27: G75.5 | E27: Ống thông (catheter) hỗ trợ can thiệp ngoại biên ái nước, Radifocus Glidecath 5Fr Cobra C2 80cm (hoặc tương đương) | G27: Thành phần: Hydroxilated Poly-Vinyl Acetate. kích thước 8 cm x 1,5 cm x 2 cm. - Khả năng thấm hút tốt: Lên tới 21 lần trọng lượng ban đầu khi ở trong chất lỏng. - Kích thước lỗ nhỏ. | H27: Hộp/ 3 cái | I27: Ashitaka Factory of Terumo Corporation/ Nhật Bản | J27: Cái | K27: 40 | M27: 950000 | N27: Công ty cổ phẩn thiết bị vật tư y tế Thanh Hóa | O27: RF*XB55108M | P27: N04.04.010.230.000056 | Q27: 20 | AA27: 20
A28: =IF(L28="","",COUNTA($L$8:$L28)) | B28: G75.6 | E28: Ống thông (catheter) hỗ trợ can thiệp ngoại biên ái nước, Radifocus Glidecath 5Fr Yashiro 100cm (hoặc tương đương) | G28: Thành phần: Hydroxilated Poly-Vinyl Acetate. kích thước 8 cm x 1,5 cm x 2 cm. - Khả năng thấm hút tốt: Lên tới 21 lần trọng lượng ban đầu khi ở trong chất lỏng. - Kích thước lỗ nhỏ. | H28: Hộp/ 3 cái | I28: Ashitaka Factory of Terumo Corporation/ Nhật Bản | J28: Cái | K28: 65 | M28: 950000 | N28: Công ty cổ phẩn thiết bị vật tư y tế Thanh Hóa | O28: RF*XG95110M | P28: N04.04.010.230.000057 | Q28: 50 | AA28: 15
A29: =IF(L29="","",COUNTA($L$8:$L29)) -> 7 | B29: G77 | C29: G90 | D29: N04.04.010 | E29: Catheter trợ giúp can thiệp | F29: Ống thông can thiệp FalconTM Coronary Guiding Catheter | G29: Thành phần: Hydroxilated Poly-Vinyl Acetate. kích thước 8 cm x 1,5 cm x 2 cm. - Khả năng thấm hút tốt: Lên tới 21 lần trọng lượng ban đầu khi ở trong chất lỏng. - Kích thước lỗ nhỏ. | H29: Hộp 1 cái | I29: Umbra Medical products, Inc/ Mỹ | J29: Cái | L29: 200 | M29: 1980000 | N29: Công ty cổ phẩn thiết bị vật tư y tế Thanh Hóa
A30: =IF(L30="","",COUNTA($L$8:$L30)) | B30: G77.1 | E30: Catheter trợ giúp can thiệp cỡ 6F EBU 3.75 | G30: Thành phần: Hydroxilated Poly-Vinyl Acetate. kích thước 8 cm x 1,5 cm x 2 cm. - Khả năng thấm hút tốt: Lên tới 21 lần trọng lượng ban đầu khi ở trong chất lỏng. - Kích thước lỗ nhỏ. | H30: Hộp 1 cái | I30: Umbra Medical products, Inc/ Mỹ | J30: Cái | K30: 30 | M30: 1980000 | N30: Công ty cổ phẩn thiết bị vật tư y tế Thanh Hóa | O30: 7838-50 | P30: N04.04.010.241.000066 | Q30: 30
A31: =IF(L31="","",COUNTA($L$8:$L31)) | B31: G77.2 | E31: Catheter trợ giúp can thiệp cỡ 6F JR4 | G31: Thành phần: Hydroxilated Poly-Vinyl Acetate. kích thước 8 cm x 1,5 cm x 2 cm. - Khả năng thấm hút tốt: Lên tới 21 lần trọng lượng ban đầu khi ở trong chất lỏng. - Kích thước lỗ nhỏ. | H31: Hộp 1 cái | I31: Umbra Medical products, Inc/ Mỹ | J31: Cái | K31: 70 | M31: 1980000 | N31: Công ty cổ phẩn thiết bị vật tư y tế Thanh Hóa | O31: 7874-20 | P31: N04.04.010.241.000046 | Q31: 70
A32: =IF(L32="","",COUNTA($L$8:$L32)) | B32: G77.3 | E32: Catheter trợ giúp can thiệp cỡ 6F EBU 3.5 | G32: Thành phần: Hydroxilated Poly-Vinyl Acetate. kích thước 8 cm x 1,5 cm x 2 cm. - Khả năng thấm hút tốt: Lên tới 21 lần trọng lượng ban đầu khi ở trong chất lỏng. - Kích thước lỗ nhỏ. | H32: Hộp 1 cái | I32: Umbra Medical products, Inc/ Mỹ | J32: Cái | K32: 30 | M32: 1980000 | N32: Công ty cổ phẩn thiết bị vật tư y tế Thanh Hóa | O32: 7833-H0 | P32: N04.04.010.241.000062 | Q32: 30
A33: =IF(L33="","",COUNTA($L$8:$L33)) | B33: G77.4 | E33: Catheter trợ giúp can thiệp cỡ 6F JL4 | G33: Thành phần: Hydroxilated Poly-Vinyl Acetate. kích thước 8 cm x 1,5 cm x 2 cm. - Khả năng thấm hút tốt: Lên tới 21 lần trọng lượng ban đầu khi ở trong chất lỏng. - Kích thước lỗ nhỏ. | H33: Hộp 1 cái | I33: Umbra Medical products, Inc/ Mỹ | J33: Cái | K33: 70 | M33: 1980000 | N33: Công ty cổ phẩn thiết bị vật tư y tế Thanh Hóa | O33: 7875-20 | P33: N04.04.010.241.000030 | Q33: 70
A34: =IF(L34="","",COUNTA($L$8:$L34)) -> 8 | B34: G80 | C34: G93 | D34: N04.04.010 | E34: Catheter trợ giúp can thiệp | F34: Ống thông can thiệp FalconTM Coronary Guiding Catheter | G34: Thành phần: Hydroxilated Poly-Vinyl Acetate. kích thước 8 cm x 1,5 cm x 2 cm. - Khả năng thấm hút tốt: Lên tới 21 lần trọng lượng ban đầu khi ở trong chất lỏng. - Kích thước lỗ nhỏ. | H34: 01 cái/hộp | I34: Umbra Medical products, Inc/ Mỹ | J34: Cái | L34: 100 | M34: 1980000 | N34: Công ty cổ phẩn thiết bị vật tư y tế Thanh Hóa
A35: =IF(L35="","",COUNTA($L$8:$L35)) | B35: G80.1 | E35: Ống thông can thiệp cỡ Judkin Right 4.0 6F | F35: Ống thông can thiệp FalconTM Coronary Guiding Catheter | G35: Thành phần: Hydroxilated Poly-Vinyl Acetate. kích thước 8 cm x 1,5 cm x 2 cm. - Khả năng thấm hút tốt: Lên tới 21 lần trọng lượng ban đầu khi ở trong chất lỏng. - Kích thước lỗ nhỏ. | H35: 01 cái/hộp | I35: Umbra Medical products, Inc/ Mỹ | J35: Cái | K35: 100 | M35: 1980000 | N35: Công ty cổ phẩn thiết bị vật tư y tế Thanh Hóa | O35: 7874-20 | P35: N04.04.010.241.000046 | Q35: 100
A36: =IF(L36="","",COUNTA($L$8:$L36)) | E36: Nhóm 5. Kim khâu, chỉ khâu, dao phẫu thuật
A37: =IF(L37="","",COUNTA($L$8:$L37)) | E37: 5.2 Chỉ khâu
A38: =IF(L38="","",COUNTA($L$8:$L38)) -> 9 | B38: G109 | C38: G127 | D38: N05.02.040 | E38: Chỉ tiêu tổng hợp số 1 | F38: Marlin Violet số 1 | G38: Thành phần: Hydroxilated Poly-Vinyl Acetate. kích thước 8 cm x 1,5 cm x 2 cm. - Khả năng thấm hút tốt: Lên tới 21 lần trọng lượng ban đầu khi ở trong chất lỏng. - Kích thước lỗ nhỏ. | H38: Hộp 24 sợi | I38: Catgut GmbH/ Đức | J38: Sợi | K38: 23455 | L38: 23455 | M38: 81000 | N38: Công ty cổ phần đầu tư và phát triển y tế Việt Anh SM | O38: 17241349 | U38: 480 | X38: 12000 | AB38: 1500 | AD38: 120 | AE38: 720 | AI38: 600 | AJ38: 280 | AL38: 600 | AM38: 195 | AO38: 100 | AP38: 500 | AQ38: 400 | AS38: 100 | AT38: 1500 | AV38: 800 | AW38: 500 | AX38: 1200 | AY38: 180 | AZ38: 480 | BA38: 700 | BB38: 500
A39: =IF(L39="","",COUNTA($L$8:$L39)) -> 10 | B39: G111 | C39: G129 | D39: N05.02.040 | E39: Chỉ tiêu tổng hợp sợi bện số 2/0 | F39: Marlin Violet số 2/0 | G39: Thành phần: Hydroxilated Poly-Vinyl Acetate. kích thước 8 cm x 1,5 cm x 2 cm. - Khả năng thấm hút tốt: Lên tới 21 lần trọng lượng ban đầu khi ở trong chất lỏng. - Kích thước lỗ nhỏ. | H39: Hộp 24 sợi | I39: Catgut GmbH/ Đức | J39: Sợi | K39: 3078 | L39: 3078 | M39: 81500 | N39: Công ty cổ phần đầu tư và phát triển y tế Việt Anh SM | O39: 17241209 | U39: 120 | AE39: 240 | AG39: 400 | AI39: 80 | AJ39: 160 | AM39: 78 | AO39: 200 | AQ39: 400 | AS39: 80 | AV39: 800 | AX39: 300 | AY39: 120 | BB39: 100
A40: =IF(L40="","",COUNTA($L$8:$L40)) -> 11 | B40: G113 | C40: G131 | D40: N05.02.040 | E40: Chỉ tiêu tổng hợp số 4/0 | F40: Marlin Violet số 4/0 | G40: Thành phần: Hydroxilated Poly-Vinyl Acetate. kích thước 8 cm x 1,5 cm x 2 cm. - Khả năng thấm hút tốt: Lên tới 21 lần trọng lượng ban đầu khi ở trong chất lỏng. - Kích thước lỗ nhỏ. | H40: Hộp 24 sợi | I40: Catgut GmbH/ Đức | J40: Sợi | K40: 11080 | L40: 11080 | M40: 81500 | N40: Công ty cổ phần đầu tư và phát triển y tế Việt Anh SM | O40: 17241135 | Q40: 9000 | R40: 36 | U40: 600 | AB40: 170 | AC40: 30 | AD40: 200 | AG40: 50 | AI40: 100 | AJ40: 140 | AL40: 100 | AM40: 78 | AO40: 100 | AV40: 80 | AX40: 240 | AY40: 120 | AZ40: 36
A41: =IF(L41="","",COUNTA($L$8:$L41)) | E41: Nhóm 6. Vật liệu thay thế, vật liệu cấy ghép nhân tạo
A42: =IF(L42="","",COUNTA($L$8:$L42)) | E42: 6.3 Thủy tinh thể nhân tạo
A43: =IF(L43="","",COUNTA($L$8:$L43)) -> 12 | B43: G145 | C43: G166 | D43: N06.03.010 | E43: Thủy tinh thể mềm một mảnh | F43: Thủy tinh thể mềm Sensar 1 | G43: Thành phần: Hydroxilated Poly-Vinyl Acetate. kích thước 8 cm x 1,5 cm x 2 cm. - Khả năng thấm hút tốt: Lên tới 21 lần trọng lượng ban đầu khi ở trong chất lỏng. - Kích thước lỗ nhỏ. | H43: Hộp 1 cái | I43: AMO/Mỹ Hãng chủ sở hữu: Johnson & Johnson/ Mỹ | J43: Cái | K43: 130 | L43: 130 | M43: 2990000 | N43: Công ty cổ phẩn thiết bị vật tư y tế Thanh Hóa | O43: AAB00 | P43: N06.03.010.004.000006 | Q43: 100 | AG43: 2 | AI43: 3 | AL43: 5 | AU43: 20
A44: =IF(L44="","",COUNTA($L$8:$L44)) | E44: 6.4 Xương, sụn, khớp, gân nhân tạo
A45: =IF(L45="","",COUNTA($L$8:$L45)) -> 13 | B45: G158 | C45: G184 | D45: N06.04.053 | E45: Bộ khớp gối toàn phần có xi măng | F45: Bộ khớp gối toàn phần có xi măng | G45: Thành phần: Hydroxilated Poly-Vinyl Acetate. kích thước 8 cm x 1,5 cm x 2 cm. - Khả năng thấm hút tốt: Lên tới 21 lần trọng lượng ban đầu khi ở trong chất lỏng. - Kích thước lỗ nhỏ. | H45: 1 Bộ / Hộp | I45: Biomet Orthopedics - Mỹ/ Biomet France SARL - Pháp | J45: Bộ | K45: 12 | L45: 12 | M45: 63000000 | N45: Công ty TNHH thương mại và tổng hợp Vinatrading | O45: 0 | P45: N06.04.053.294.000001 | Q45: 10 | AP45: 2
A46: =IF(L46="","",COUNTA($L$8:$L46)) -> 14 | B46: G163 | C46: G189 | D46: N06.04.051 | E46: Khớp háng toàn phần không xi măng phủ HA kích thích tạo xương Ceramic on PE | F46: Khớp háng toàn phần không xi măng chuôi filler phủ HA Ceramic on PE | G46: Thành phần: Hydroxilated Poly-Vinyl Acetate. kích thước 8 cm x 1,5 cm x 2 cm. - Khả năng thấm hút tốt: Lên tới 21 lần trọng lượng ban đầu khi ở trong chất lỏng. - Kích thước lỗ nhỏ. | H46: Bộ/ Hộp | I46: Biotechni/ Pháp | J46: Bộ | K46: 29 | L46: 29 | M46: 65500000 | N46: Công ty cổ phẩn thiết bị vật tư y tế Thanh Hóa | O46: FI040xx; MU-Txx; MUDB28-xx; MU-VISxx; CER285-xx | P46: N06.04.051.465.000001 | Q46: 20 | AB46: 4 | AH46: 3 | AP46: 2
A47: =IF(L47="","",COUNTA($L$8:$L47)) -> 15 | B47: G174 | C47: G200 | D47: N06.04.051 | E47: Khớp háng toàn phần không xi măng, chỏm Ceramic | F47: Khớp háng toàn phần không xi măng SL X-pore/Ceramic | G47: Thành phần: Hydroxilated Poly-Vinyl Acetate. kích thước 8 cm x 1,5 cm x 2 cm. - Khả năng thấm hút tốt: Lên tới 21 lần trọng lượng ban đầu khi ở trong chất lỏng. - Kích thước lỗ nhỏ. | H47: Bộ/ Hộp | I47: Permedica/ Ý | J47: Bộ | K47: 30 | L47: 30 | M47: 70000000 | N47: Công ty cổ phẩn thiết bị vật tư y tế Thanh Hóa | O47: 352xx 363xx 367xx 202xx 157xx | P47: N06.04.051.596.000002 | Q47: 30
A48: =IF(L48="","",COUNTA($L$8:$L48)) -> 16 | B48: G179 | C48: G205 | D48: N06.04.051 | E48: Khớp háng toàn phần không xi măng di động kép Apogee Dual mobility hai trục linh động ceramic on pe | F48: Khớp háng toàn phần không xi măng hai trục linh động Apogee Dual Mobility Ceramic on PE | G48: Thành phần: Hydroxilated Poly-Vinyl Acetate. kích thước 8 cm x 1,5 cm x 2 cm. - Khả năng thấm hút tốt: Lên tới 21 lần trọng lượng ban đầu khi ở trong chất lỏng. - Kích thước lỗ nhỏ. | H48: Bộ/ Hộp | I48: Biotechni/ Pháp | J48: Bộ | K48: 15 | L48: 15 | M48: 68000000 | N48: Công ty cổ phẩn thiết bị vật tư y tế Thanh Hóa | O48: FI040xx; CAPxx; IDM28-xx+; CER285-xx | P48: N06.04.051.465.zzzzzz | Q48: 15
A49: =IF(L49="","",COUNTA($L$8:$L49)) -> 17 | B49: G239 | C49: G281 | D49: N07.01.110 | E49: Bộ dụng cụ mở đường vào mạch máu (động mạch quay) | F49: Bộ mở đường vào động mạch quay ái nước Radifocus Introducer II M Coat | G49: Thành phần: Hydroxilated Poly-Vinyl Acetate. kích thước 8 cm x 1,5 cm x 2 cm. - Khả năng thấm hút tốt: Lên tới 21 lần trọng lượng ban đầu khi ở trong chất lỏng. - Kích thước lỗ nhỏ. | H49: Hộp/ 5 cái | I49: Ashitaka Factory of Terumo Corporation/ Nhật Bản | J49: Cái | L49: 600 | M49: 710000 | N49: Công ty cổ phẩn thiết bị vật tư y tế Thanh Hóa
A50: =IF(L50="","",COUNTA($L$8:$L50)) | B50: G239.1 | E50: Bộ mở đường vào động mạch quay ái nước 6Fr | F50: Bộ mở đường vào động mạch quay ái nước Radifocus Introducer II M Coat | G50: Thành phần: Hydroxilated Poly-Vinyl Acetate. kích thước 8 cm x 1,5 cm x 2 cm. - Khả năng thấm hút tốt: Lên tới 21 lần trọng lượng ban đầu khi ở trong chất lỏng. - Kích thước lỗ nhỏ. | H50: Hộp/ 5 cái | I50: Ashitaka Factory of Terumo Corporation/ Nhật Bản | J50: Cái | K50: 600 | M50: 710000 | N50: Công ty cổ phẩn thiết bị vật tư y tế Thanh Hóa | O50: RM*AF6J10SQW | P50: N07.01.110.230.000007 | Q50: 600
A51: =IF(L51="","",COUNTA($L$8:$L51)) | B51: GB325 | E51: Bộ bơm xi măng tạo hình thân đốt sống có bóng nong (Gồm 02 kim chọc dò cuống sống + 01 bộ kim và mũi khoan đốt sống + 02 bóng nong thân đốt sống + 01 xi lanh bơm phồng + 01 xi măng sinh học + 01 bộ trộn xi măng + 04 dụng cụ đưa xi măng vào đốt sống + 01 Bộ kim sinh thiết đốt sống) | J51: Bộ | N51: Công ty TNHH thiết bị y tế Tràng Thi
A52: =IF(L52="","",COUNTA($L$8:$L52)) -> 18 | B52: GB325.1 | C52: GB414.1 | D52: N07.06.030 | E52: Kim chọc dò cuống sống | F52: KYPHON- Kim chọc dò cuống sống | G52: Thành phần: Hydroxilated Poly-Vinyl Acetate. kích thước 8 cm x 1,5 cm x 2 cm. - Khả năng thấm hút tốt: Lên tới 21 lần trọng lượng ban đầu khi ở trong chất lỏng. - Kích thước lỗ nhỏ. | H52: 1 cái/1 gói | I52: Argon/ Mỹ | J52: Cái | K52: 40 | L52: 40 | M52: 1700000 | N52: Công ty TNHH thiết bị y tế Tràng Thi | O52: A02A | P52: N07.06.030.157.000003 | Q52: 20 | AB52: 20
A53: =IF(L53="","",COUNTA($L$8:$L53)) -> 19 | B53: GB325.2 | C53: GB414.2 | D53: N07.06.030 | E53: Bộ kim và mũi khoan đốt sống | F53: KYPHON_Bộ kim và mũi khoan đốt sống | G53: Thành phần: Hydroxilated Poly-Vinyl Acetate. kích thước 8 cm x 1,5 cm x 2 cm. - Khả năng thấm hút tốt: Lên tới 21 lần trọng lượng ban đầu khi ở trong chất lỏng. - Kích thước lỗ nhỏ. | H53: 1 cái/1 gói | I53: Medtronic/ Mexico | J53: Cái | K53: 20 | L53: 20 | M53: 4000000 | N53: Công ty TNHH thiết bị y tế Tràng Thi | O53: T15D | P53: N07.06.030.157.000001 | Q53: 10 | AB53: 10
A54: =IF(L54="","",COUNTA($L$8:$L54)) -> 20 | B54: GB325.3 | C54: GB414.3 | D54: N07.06.030 | E54: Bóng nong thân đốt sống các cỡ. | F54: KYPHON - Bóng nong thân đốt sống | G54: Thành phần: Hydroxilated Poly-Vinyl Acetate. kích thước 8 cm x 1,5 cm x 2 cm. - Khả năng thấm hút tốt: Lên tới 21 lần trọng lượng ban đầu khi ở trong chất lỏng. - Kích thước lỗ nhỏ. | H54: 1 cái/1 gói | I54: Medtronic/ Mexico | J54: Cái | K54: 40 | L54: 40 | M54: 10950000 | N54: Công ty TNHH thiết bị y tế Tràng Thi | O54: K09A | P54: N07.06.030.157.000008 | Q54: 20 | AB54: 20
A55: =IF(L55="","",COUNTA($L$8:$L55)) -> 21 | B55: GB325.4 | C55: GB414.4 | D55: N07.06.030 | E55: Xilanh bơm phồng bóng có đồng hồ đo áp lực bóng | F55: KYPHON-Xi lanh bơm phồng bóng có đồng hồ đo áp lực | G55: Thành phần: Hydroxilated Poly-Vinyl Acetate. kích thước 8 cm x 1,5 cm x 2 cm. - Khả năng thấm hút tốt: Lên tới 21 lần trọng lượng ban đầu khi ở trong chất lỏng. - Kích thước lỗ nhỏ. | H55: 1 cái/1 gói | I55: Merit/Mỹ | J55: Cái | K55: 20 | L55: 20 | M55: 7950000 | N55: Công ty TNHH thiết bị y tế Tràng Thi | O55: A08A | P55: N07.06.030.157.000004 | Q55: 10 | AB55: 10
A56: =IF(L56="","",COUNTA($L$8:$L56)) -> 22 | B56: GB325.5 | C56: GB414.5 | D56: N07.06.030 | E56: Xi măng sinh học, kèm dung dịch pha | F56: KYPHON- Xi măng ngoại khoa | G56: Thành phần: Hydroxilated Poly-Vinyl Acetate. kích thước 8 cm x 1,5 cm x 2 cm. - Khả năng thấm hút tốt: Lên tới 21 lần trọng lượng ban đầu khi ở trong chất lỏng. - Kích thước lỗ nhỏ. | H56: 1 cái/1 gói | I56: Tecres Spa/Italy | J56: Cái | K56: 20 | L56: 20 | M56: 7500000 | N56: Công ty TNHH thiết bị y tế Tràng Thi | O56: C01A | P56: N07.06.030.157.000005 | Q56: 10 | AB56: 10
A57: =IF(L57="","",COUNTA($L$8:$L57)) -> 23 | B57: GB325.6 | C57: GB414.6 | D57: N07.06.030 | E57: Bộ trộn và phân phối xi măng | F57: KYPHON Mixer - Bộ trộn và phân phối xi măng gắn xương | G57: Thành phần: Hydroxilated Poly-Vinyl Acetate. kích thước 8 cm x 1,5 cm x 2 cm. - Khả năng thấm hút tốt: Lên tới 21 lần trọng lượng ban đầu khi ở trong chất lỏng. - Kích thước lỗ nhỏ. | H57: 1 cái/1 gói | I57: Medtronic/ Mỹ | J57: Cái | K57: 20 | L57: 20 | M57: 3950000 | N57: Công ty TNHH thiết bị y tế Tràng Thi | O57: A07A | P57: N07.06.030.157.000002 | Q57: 10 | AB57: 10
A58: =IF(L58="","",COUNTA($L$8:$L58)) -> 24 | B58: GB325.7 | C58: GB414.7 | D58: N07.06.030 | E58: Dụng cụ đưa xi măng vào đốt sống | F58: KYPHON- Dụng cụ đưa xi măng vào thân đốt sống size 3 | G58: Thành phần: Hydroxilated Poly-Vinyl Acetate. kích thước 8 cm x 1,5 cm x 2 cm. - Khả năng thấm hút tốt: Lên tới 21 lần trọng lượng ban đầu khi ở trong chất lỏng. - Kích thước lỗ nhỏ. | H58: 1 cái/1 gói | I58: Medtronic/ Mexico | J58: Cái | K58: 80 | L58: 80 | M58: 1950000 | N58: Công ty TNHH thiết bị y tế Tràng Thi | O58: F04B | P58: N07.06.030.157.000007 | Q58: 40 | AB58: 40
A59: =IF(L59="","",COUNTA($L$8:$L59)) -> 25 | B59: GB325.8 | C59: GB414.8 | D59: N07.06.030 | E59: Bộ kim sinh thiết đốt sống | F59: KYPHON- Kim chọc dò đốt sống | G59: Thành phần: Hydroxilated Poly-Vinyl Acetate. kích thước 8 cm x 1,5 cm x 2 cm. - Khả năng thấm hút tốt: Lên tới 21 lần trọng lượng ban đầu khi ở trong chất lỏng. - Kích thước lỗ nhỏ. | H59: 1 cái/1 gói | I59: Medtronic/ Mexico | J59: Cái | K59: 10 | L59: 10 | M59: 2450000 | N59: Công ty TNHH thiết bị y tế Tràng Thi | O59: F05A | P59: 0 | Q59: 10
A60: =IF(L60="","",COUNTA($L$8:$L60)) -> 26 | B60: G339 | C60: G419 | D60: N07.06.030 | E60: Bộ bơm xi măng không bóng tạo hình thân đốt sống | F60: Bộ bơm xi măng không bóng tạo hình thân đốt sống | G60: Thành phần: Hydroxilated Poly-Vinyl Acetate. kích thước 8 cm x 1,5 cm x 2 cm. - Khả năng thấm hút tốt: Lên tới 21 lần trọng lượng ban đầu khi ở trong chất lỏng. - Kích thước lỗ nhỏ. | H60: 01 bộ/hộp | I60: Teknimed/ Pháp | J60: Chiếc | K60: 50 | L60: 50 | M60: 21000000 | N60: Công ty TNHH thiết bị y tế và dược phẩm An Phúc | O60: T040320Z T060430/ T060431 T060406 | P60: 0 | Q60: 50
A61: =IF(L61="","",COUNTA($L$8:$L61)) | E61: Nhóm 8. Vật tư y tế sử dụng trong chẩn đoán, điều trị khác
A62: =IF(L62="","",COUNTA($L$8:$L62)) -> 27 | B62: G346 | C62: G427 | D62: N08.00.250 | E62: Điện cực tim | F62: Điện cực tim | G62: Thành phần: Hydroxilated Poly-Vinyl Acetate. kích thước 8 cm x 1,5 cm x 2 cm. - Khả năng thấm hút tốt: Lên tới 21 lần trọng lượng ban đầu khi ở trong chất lỏng. - Kích thước lỗ nhỏ. | H62: Túi 50 cái | I62: EF Medica SRL/ Italy | J62: Cái | K62: 227104 | L62: 227104 | M62: 1250 | N62: Liên danh nhà thầu Bình Minh | O62: F 3240 SG | P62: 0 | Q62: 120000 | T62: 25000 | U62: 6000 | V62: 50 | W62: 1824 | Y62: 25000 | Z62: 2000 | AA62: 15000 | AB62: 6000 | AD62: 2500 | AE62: 500 | AF62: 6000 | AG62: 500 | AH62: 3000 | AJ62: 3000 | AL62: 100 | AO62: 200 | AQ62: 200 | AV62: 1000 | AW62: 2900 | AX62: 4000 | AY62: 480 | AZ62: 200 | BA62: 1000 | BB62: 600 | BF62: 50

Sheet Nhóm 5 chi tiết
A2: DANH MỤC VẬT TƯ Y TẾ TRÚNG THẦU VỚI SỐ LƯỢNG CHI TIẾT NĂM 2022 ĐẠT TIÊU CHUẨN KỸ THUẬT NHÓM 5 THEO THÔNG TƯ SỐ 14/2020/TT-BYT NGÀY 10/7/2020.
A4: STT | B4: Mã hàng hóa 2021 | C4: Mã hàng hóa 2021 (Cũ) | D4: Mã TT 04/2017 | E4: Tên vật tư y tế mời thầu | F4: Tên vật tư y tế trúng thầu | G4: Yêu cầu kỹ thuật | H4: Quy tắc đóng gói | I4: Hãng/nước sản xuất | J4: ĐVT | K4: Số lượng dự kiến 17/10/2021 đến 16/10/2022 (chi tiết) | L4: Số lượng dự kiến 17/10/2021 đến 16/10/2022 (Tổng cộng) | M4: Giá trúng thầu | N4: Nhà thầu trúng thầu | O4: Mã hiệu VTYT | P4: Mã dùng chung (nếu có) | Q4: Khối Bệnh viện | BC4: Khối Trung tâm Y tế
A5: 1 | B5: 2 | D5: 3 | E5: 4 | G5: 5 | J5: 6 | K5: 7 | L5: 8 | Q5: ĐK tỉnh | R5: Da Liễu | S5: Mắt | T5: Nội Tiết | U5: Nhi | V5: PHCN | W5: Phổi | X5: Phụ Sản | Y5: Tâm Thần | Z5: YDCT | AA5: Ung Bướu | AB5: Ngọc Lặc | AC5: Bá Thước | AD5: Bỉm Sơn | AE5: Cẩm Thủy | AF5: Đông Sơn | AG5: Hà Trung | AH5: Hoằng Hóa | AI5: Hậu Lộc | AJ5: Lang Chánh | AK5: Mường Lát | AL5: Nông Cống | AM5: Như Thanh | AN5: Như Xuân | AO5: Nga Sơn | AP5: Quảng Xương | AQ5: Quan Hóa | AR5: Quan Sơn | AS5: Sầm Sơn | AT5: Thạch Thành | AU5: Thành Phố | AV5: Thọ Xuân | AW5: Nghi Sơn | AX5: Thiệu Hóa | AY5: Thường Xuân | AZ5: Triệu Sơn | BA5: Vĩnh Lộc | BB5: Yên Định | BC5: Ban BV sức khỏe | BD5: CDC | BE5: PK GTVT | BF5: TTGĐ Y khoa | BG5: TT pháp Y | BH5: TTYT Bá Thước | BI5: TTYT Bỉm Sơn | BJ5: TTYT Cẩm Thủy | BK5: TTYT Đông Sơn | BL5: TTYT Hà Trung | BM5: TTYT Hậu Lộc | BN5: TTYT Hoằng Hóa | BO5: TTYT Lang chánh | BP5: TTYT Mường Lát | BQ5: TTYT Nông cống | BR5: TTYT Nga Sơn | BS5: TTYT Ngọc Lặc | BT5: TTYT Như Xuân | BU5: TTYT Như Thanh | BV5: TTYT Quảng Xương | BW5: TTYT Quan Hóa | BX5: TTYT Sầm Sơn | BY5: TTYT Nghi Sơn | BZ5: TTYT Thạch Thành | CA5: TTYT Thành Phố | CB5: TTYT Thiệu hóa | CC5: TTYT Thường xuân | CD5: TTYT Triệu sơn | CE5: TTYT Vĩnh Lộc | CF5: TTYT Yên Định
E6: Nhóm 3. Bơm, kim tiêm, dây truyền, găng tay và vật tư y tế sử dụng trong chăm sóc người bệnh
E7: 3.2 Kim tiêm
A8: =IF(L8="","",COUNTA($L$8:$L8)) -> 1 | B8: V48 | C8: V57 | D8: N03.02.070 | E8: Kim luồn tĩnh mạch kèm băng dính | F8: Kim luồn tĩnh mạch số 18G, 20G, 22G, 24G, (HEALCATH cannula) (dạng bút) | G8: Kim làm bằng thép không gỉ, đầu kim có 3 mặt vát, sắc bén - Kim có ống chụp bảo vệ khi chưa sử dụng - Ống catheter có 2 vạch cản quang làm từ chất liệu PTFE nhựa y tế có tính đàn hồi, chống xoắn-gập. Đầu ống catheter hình vát nón ôm sát kim - Kim không cánh không của bơm thuốc. - Khoang báo máu thiết kế trong suốt với màng thoát khí không thấm nước - khử trùng bằng khí EO( Ethylene Oxide). - Thời gian lưu kim 96 giờ. - 18G; Ø (1,3 x 45) mm; Flow/ Rate 85ml/ min. - 20G; Ø (1,1 x 33) mm; Flow/ Rate 55ml/ min. - 22G; Ø (0,9 x 25) mm; Flow/ Rate 33ml/ min. - 24G; Ø (0,7 x 19) mm; Flow/ Rate 18ml/ min. | H8: 50 cái/ 1 hộp 500 cái/ 1 kiện | I8: HARSORIA - ẤN ĐỘ | J8: Cái | L8: 30700 | M8: 5800 | N8: Công ty cổ phẩn thiết bị vật tư y tế Thanh Hóa | O8: =VLOOKUP(B8,'DM trúng thầu chi tiết (full)'!$B$6:$Q$203,15,0) -> 0 | P8: =VLOOKUP(B8,'DM trúng thầu chi tiết (full)'!$B$6:$Q$203,16,0) -> 0
A9: =IF(L9="","",COUNTA($L$8:$L9)) | B9: V48.1 | E9: Kim luồn tĩnh mạch kèm băng dính (băng dính kích thước 6x7cm, kim luồn 18G) | G9: Kim luồn tĩnh mạch kèm băng dính (băng dính kích thước 6x7cm, kim luồn 18G).Kim làm bằng thép không gỉ, đầu kim có 3 mặt vát, sắc bén - Kim có ống chụp bảo vệ khi chưa sử dụng - Ống catheter có 2 vạch cản quang làm từ chất liệu PTFE nhựa y tế có tính đàn hồi, chống xoắn-gập. Đầu ống catheter hình vát nón ôm sát kim - Kim không cánh không của bơm thuốc. - Khoang báo máu thiết kế trong suốt với màng thoát khí không thấm nước - khử trùng bằng khí EO( Ethylene Oxide). - Thời gian lưu kim 96 giờ. - 18G; Ø (1,3 x 45) mm; Flow/ Rate 85ml/ min. - 20G; Ø (1,1 x 33) mm; Flow/ Rate 55ml/ min. - 22G; Ø (0,9 x 25) mm; Flow/ Rate 33ml/ min. - 24G; Ø (0,7 x 19) mm; Flow/ Rate 18ml/ min. | H9: 50 cái/ 1 hộp 500 cái/ 1 kiện | I9: HARSORIA - ẤN ĐỘ | J9: Cái | K9: 10600 | M9: 5800 | N9: Công ty cổ phẩn thiết bị vật tư y tế Thanh Hóa | O9: =VLOOKUP(B9,'DM trúng thầu chi tiết (full)'!$B$6:$Q$203,15,0) -> 03183470E7 | P9: =VLOOKUP(B9,'DM trúng thầu chi tiết (full)'!$B$6:$Q$203,16,0) -> N03.02.070.104.zzzzzz | Y9: 1200 | AB9: 3500 | AG9: 3000 | AO9: 900 | BB9: 2000
A10: =IF(L10="","",COUNTA($L$8:$L10)) | B10: V48.2 | E10: Kim luồn tĩnh mạch kèm băng dính (băng dính kích thước 6x7cm, kim luồn 20G) | G10: Kim luồn tĩnh mạch kèm băng dính (băng dính kích thước 6x7cm, kim luồn 20G).Kim làm bằng thép không gỉ, đầu kim có 3 mặt vát, sắc bén - Kim có ống chụp bảo vệ khi chưa sử dụng - Ống catheter có 2 vạch cản quang làm từ chất liệu PTFE nhựa y tế có tính đàn hồi, chống xoắn-gập. Đầu ống catheter hình vát nón ôm sát kim - Kim không cánh không của bơm thuốc. - Khoang báo máu thiết kế trong suốt với màng thoát khí không thấm nước - khử trùng bằng khí EO( Ethylene Oxide). - Thời gian lưu kim 96 giờ. - 18G; Ø (1,3 x 45) mm; Flow/ Rate 85ml/ min. - 20G; Ø (1,1 x 33) mm; Flow/ Rate 55ml/ min. - 22G; Ø (0,9 x 25) mm; Flow/ Rate 33ml/ min. - 24G; Ø (0,7 x 19) mm; Flow/ Rate 18ml/ min. | H10: 50 cái/ 1 hộp 500 cái/ 1 kiện | I10: HARSORIA - ẤN ĐỘ | J10: Cái | K10: 3000 | M10: 5800 | N10: Công ty cổ phẩn thiết bị vật tư y tế Thanh Hóa | O10: =VLOOKUP(B10,'DM trúng thầu chi tiết (full)'!$B$6:$Q$203,15,0) -> 03203470E7 | P10: =VLOOKUP(B10,'DM trúng thầu chi tiết (full)'!$B$6:$Q$203,16,0) -> N03.02.070.104.zzzzzz | AG10: 3000
A11: =IF(L11="","",COUNTA($L$8:$L11)) | B11: V48.3 | E11: Kim luồn tĩnh mạch kèm băng dính (băng dính kích thước 6x7cm, kim luồn 22G) | G11: Kim luồn tĩnh mạch kèm băng dính (băng dính kích thước 6x7cm, kim luồn 22G).Kim làm bằng thép không gỉ, đầu kim có 3 mặt vát, sắc bén - Kim có ống chụp bảo vệ khi chưa sử dụng - Ống catheter có 2 vạch cản quang làm từ chất liệu PTFE nhựa y tế có tính đàn hồi, chống xoắn-gập. Đầu ống catheter hình vát nón ôm sát kim - Kim không cánh không của bơm thuốc. - Khoang báo máu thiết kế trong suốt với màng thoát khí không thấm nước - khử trùng bằng khí EO( Ethylene Oxide). - Thời gian lưu kim 96 giờ. - 18G; Ø (1,3 x 45) mm; Flow/ Rate 85ml/ min. - 20G; Ø (1,1 x 33) mm; Flow/ Rate 55ml/ min. - 22G; Ø (0,9 x 25) mm; Flow/ Rate 33ml/ min. - 24G; Ø (0,7 x 19) mm; Flow/ Rate 18ml/ min. | H11: 50 cái/ 1 hộp 500 cái/ 1 kiện | I11: HARSORIA - ẤN ĐỘ | J11: Cái | K11: 3000 | M11: 5800 | N11: Công ty cổ phẩn thiết bị vật tư y tế Thanh Hóa | O11: =VLOOKUP(B11,'DM trúng thầu chi tiết (full)'!$B$6:$Q$203,15,0) -> 03223470E7 | P11: =VLOOKUP(B11,'DM trúng thầu chi tiết (full)'!$B$6:$Q$203,16,0) -> N03.02.070.104.zzzzzz | AG11: 3000
A12: =IF(L12="","",COUNTA($L$8:$L12)) | B12: V48.4 | E12: Kim luồn tĩnh mạch kèm băng dính (băng dính kích thước 6x7cm, kim luồn 24G) | G12: Kim luồn tĩnh mạch kèm băng dính (băng dính kích thước 6x7cm, kim luồn 24G).Kim làm bằng thép không gỉ, đầu kim có 3 mặt vát, sắc bén - Kim có ống chụp bảo vệ khi chưa sử dụng - Ống catheter có 2 vạch cản quang làm từ chất liệu PTFE nhựa y tế có tính đàn hồi, chống xoắn-gập. Đầu ống catheter hình vát nón ôm sát kim - Kim không cánh không của bơm thuốc. - Khoang báo máu thiết kế trong suốt với màng thoát khí không thấm nước - khử trùng bằng khí EO( Ethylene Oxide). - Thời gian lưu kim 96 giờ. - 18G; Ø (1,3 x 45) mm; Flow/ Rate 85ml/ min. - 20G; Ø (1,1 x 33) mm; Flow/ Rate 55ml/ min. - 22G; Ø (0,9 x 25) mm; Flow/ Rate 33ml/ min. - 24G; Ø (0,7 x 19) mm; Flow/ Rate 18ml/ min. | H12: 50 cái/ 1 hộp 500 cái/ 1 kiện | I12: HARSORIA - ẤN ĐỘ | J12: Cái | K12: 9500 | M12: 5800 | N12: Công ty cổ phẩn thiết bị vật tư y tế Thanh Hóa | O12: =VLOOKUP(B12,'DM trúng thầu chi tiết (full)'!$B$6:$Q$203,15,0) -> 03243470E7 | P12: =VLOOKUP(B12,'DM trúng thầu chi tiết (full)'!$B$6:$Q$203,16,0) -> N03.02.070.104.zzzzzz | AB12: 3500 | AG12: 5000 | AO12: 1000
A13: =IF(L13="","",COUNTA($L$8:$L13)) | B13: V48.5 | E13: Kim luồn tĩnh mạch kèm băng dính (băng dính kích thước 6x8cm, kim luồn 24G) | G13: Kim luồn tĩnh mạch kèm băng dính (băng dính kích thước 6x8cm, kim luồn 24G).Kim làm bằng thép không gỉ, đầu kim có 3 mặt vát, sắc bén - Kim có ống chụp bảo vệ khi chưa sử dụng - Ống catheter có 2 vạch cản quang làm từ chất liệu PTFE nhựa y tế có tính đàn hồi, chống xoắn-gập. Đầu ống catheter hình vát nón ôm sát kim - Kim không cánh không của bơm thuốc. - Khoang báo máu thiết kế trong suốt với màng thoát khí không thấm nước - khử trùng bằng khí EO( Ethylene Oxide). - Thời gian lưu kim 96 giờ. - 18G; Ø (1,3 x 45) mm; Flow/ Rate 85ml/ min. - 20G; Ø (1,1 x 33) mm; Flow/ Rate 55ml/ min. - 22G; Ø (0,9 x 25) mm; Flow/ Rate 33ml/ min. - 24G; Ø (0,7 x 19) mm; Flow/ Rate 18ml/ min. | H13: 50 cái/ 1 hộp 500 cái/ 1 kiện | I13: HARSORIA - ẤN ĐỘ | J13: Cái | K13: 4600 | M13: 5800 | N13: Công ty cổ phẩn thiết bị vật tư y tế Thanh Hóa | O13: =VLOOKUP(B13,'DM trúng thầu chi tiết (full)'!$B$6:$Q$203,15,0) -> 03243470E7 | P13: =VLOOKUP(B13,'DM trúng thầu chi tiết (full)'!$B$6:$Q$203,16,0) -> N03.02.070.104.zzzzzz | AV13: 1600 | BB13: 3000
A14: =IF(L14="","",COUNTA($L$8:$L14)) -> 2 | B14: V49 | C14: V58 | D14: N03.03.080 | E14: Bộ kim chạy thận nhân tạo | F14: Kim chạy thận nhân tạo AVF | G14: Kim làm bằng thép không gỉ - Kim có cánh định vị cánh xoay (16G) đầu kim có 3 mặt vát, sắc bén, phủ silicon - Kim có ống chụp bảo vệ khi chưa sử dụng - Mặt sau có lỗ backeye - Cỡ: 16G [1.65x25mm]; 17G [1.47x25mm] - Chiều dài kim : 25 (mm) - Chiều dài dây gắn với kim: 300 (mm) - Đường kính ngoài O.D:5.5;đường kính trong I.D:3.5 - Tốc độ dòng chảy: 200ml/min - Có khóa chặn dòng tức thì - khử trùng bằng khí EO ( Ethylene Oxide) | H14: 100 cái/hộp | I14: Perfect/ Việt Nam | J14: Kim | K14: 22500 | L14: 22500 | M14: 6200 | N14: Công ty TNHH thiết bị y tế và dược phẩm An Phúc | O14: =VLOOKUP(B14,'DM trúng thầu chi tiết (full)'!$B$6:$Q$203,15,0) -> A30-E09642 | P14: =VLOOKUP(B14,'DM trúng thầu chi tiết (full)'!$B$6:$Q$203,16,0) -> 0 | Q14: 1500 | AD14: 18000 | AV14: 3000
A15: =IF(L15="","",COUNTA($L$8:$L15)) | E15: Nhóm 5. Kim khâu, chỉ khâu, dao phẫu thuật
A16: =IF(L16="","",COUNTA($L$8:$L16)) | E16: 5.2 Chỉ khâu
A17: =IF(L17="","",COUNTA($L$8:$L17)) -> 3 | B17: V86 | C17: V97 | D17: N05.02.040 | E17: Chỉ tiêu đa sợi số 1 | F17: Chỉ Caresorb Plus (Polyglactin 910 có kháng khuẩn) số 1 | G17: Polyglactin 910 có kháng khuẩn Chlorhexidine Diacetate. Lớp bao phủ Poly (glycolide-co-lactide) (30:70) - Glacomer 370, calcium stearate và Chlorhexidine Diacetate ≤ 60μg/m. Kim thép không rỉ, phủ silicon. Chỉ số 1, dài 90 cm, kim tròn 1/2c, dài 40 mm. Tiêu hoàn toàn trong khoảng thời gian 56-70 ngày; Sức căng còn 75% sau 2 tuần, 50% sau 3 tuần Giữ vết khâu tốt trong vòng 30 ngày. | H17: H / 36 Sợi (tép) | I17: CPT/ Việt Nam | J17: Lá | K17: 6252 | L17: 6252 | M17: 65000 | N17: Công ty cổ phẩn thiết bị vật tư y tế Thanh Hóa | O17: =VLOOKUP(B17,'DM trúng thầu chi tiết (full)'!$B$6:$Q$203,15,0) -> GTA40A40L90 | P17: =VLOOKUP(B17,'DM trúng thầu chi tiết (full)'!$B$6:$Q$203,16,0) -> N05.02.040.057.000025 | AC17: 1000 | AD17: 120 | AE17: 1100 | AH17: 360 | AK17: 22 | AM17: 910 | AP17: 800 | AU17: 360 | AV17: 400 | AY17: 180 | AZ17: 1000
A18: =IF(L18="","",COUNTA($L$8:$L18)) -> 4 | B18: V87 | C18: V98 | D18: N05.02.040 | E18: Chỉ tiêu đa sợi số 2/0 | F18: Chỉ Caresorb số 2/0 | G18: Chỉ tiêu tổng hợp đa sợi Polyglactin 910 số 2/0, dài 75 cm, kim tròn 1/2c, dài 26 mm, Chất liệu 90% glycolide và 10% L-lactide, cấu trúc đa sợi bện, lớp bao phủ Poly(glycolide-co-lactide)(30:70) và Calcium stearate, duy trì sức căng 75% sau 2 tuần và 50% sau 3 tuần, độ tan 56-70 ngày. Kim thép không rỉ phủ silicon . | H18: H / 36 Sợi (tép) | I18: CPT/ Việt Nam | J18: Lá | K18: 5748 | L18: 5748 | M18: 57000 | N18: Công ty cổ phẩn thiết bị vật tư y tế Thanh Hóa | O18: =VLOOKUP(B18,'DM trúng thầu chi tiết (full)'!$B$6:$Q$203,15,0) -> GT30A26 | P18: =VLOOKUP(B18,'DM trúng thầu chi tiết (full)'!$B$6:$Q$203,16,0) -> N05.02.040.057.000019 | Z18: 200 | AC18: 600 | AD18: 120 | AE18: 1200 | AH18: 240 | AK18: 32 | AP18: 1800 | AR18: 120 | AU18: 144 | AV18: 800 | AY18: 240 | AZ18: 252
A19: =IF(L19="","",COUNTA($L$8:$L19)) -> 5 | B19: V88 | C19: V99 + V100 | D19: N05.02.040 | E19: Chỉ tiêu đa sợi số 3/0 | F19: Chỉ Caresorb số 3/0 | G19: Chỉ tiêu tổng hợp đa sợi Polyglactin 910 số 3/0, dài 75 cm, kim tròn 1/2c, dài 26 mm, Chất liệu 90% glycolide và 10% L-lactide, cấu trúc đa sợi bện, lớp bao phủ Poly(glycolide-co-lactide)(30:70) và Calcium stearate, duy trì sức căng 75% sau 2 tuần và 50% sau 3 tuần, độ tan 56-70 ngày. Kim thép không rỉ phủ silicon. | H19: H / 36 (tép) | I19: CPT/ Việt Nam | J19: Lá | K19: 3738 | L19: 3738 | M19: 57000 | N19: Công ty cổ phẩn thiết bị vật tư y tế Thanh Hóa | O19: =VLOOKUP(B19,'DM trúng thầu chi tiết (full)'!$B$6:$Q$203,15,0) -> GT20A26 | P19: =VLOOKUP(B19,'DM trúng thầu chi tiết (full)'!$B$6:$Q$203,16,0) -> N05.02.040.057.000018 | AC19: 50 | AD19: 120 | AE19: 1350 | AH19: 360 | AM19: 910 | AP19: 60 | AU19: 180 | AV19: 400 | AY19: 200 | AZ19: 108
A20: =IF(L20="","",COUNTA($L$8:$L20)) | E20: Nhóm 8. Vật tư y tế sử dụng trong chẩn đoán, điều trị khác
A21: =IF(L21="","",COUNTA($L$8:$L21)) -> 6 | B21: V102 | C21: V124 | E21: Gen siêu âm | F21: Gen siêu âm STAR SONOG | G21: Gel sử dụng trong siêu âm, Không có formaldehyde, Vô khuẩn, không phát hiện vi khuẩn Staphyloccus, Pseudomonas aeruginosa, Tổng số vi sinh vật khi hiếu <10 CFU/g, tổng số nấm <10 CFU/g. gel trong, tan hoàn toàn trong nước, độ PH trong khoảng 6.5-7.5. | H21: Can 5L | I21: CT CP DP và TBYT An Phú/ Việt Nam | J21: Lít | K21: 9258 | L21: 9258 | M21: 15750 | N21: Công ty cổ phẩn thiết bị vật tư y tế Thanh Hóa | O21: =VLOOKUP(B21,'DM trúng thầu chi tiết (full)'!$B$6:$Q$203,15,0) -> STAR SONOG | P21: =VLOOKUP(B21,'DM trúng thầu chi tiết (full)'!$B$6:$Q$203,16,0) -> 0 | Q21: 1000 | R21: 10 | S21: 5 | T21: 200 | U21: 240 | V21: 80 | W21: 78 | X21: 1000 | Y21: 120 | Z21: 350 | AA21: 1000 | AB21: 210 | AC21: 130 | AD21: 65 | AE21: 260 | AF21: 80 | AG21: 275 | AH21: 200 | AI21: 325 | AJ21: 150 | AK21: 23 | AL21: 156 | AM21: 234 | AN21: 100 | AO21: 70 | AP21: 100 | AQ21: 40 | AR21: 30 | AS21: 25 | AT21: 280 | AU21: 250 | AV21: 320 | AW21: 40 | AX21: 240 | AY21: 150 | AZ21: 300 | BA21: 200 | BB21: 150 | BC21: 80 | BD21: 30 | BE21: 70 | BF21: 70 | BH21: 20 | BJ21: 12 | BK21: 10 | BL21: 10 | BM21: 5 | BN21: 15 | BO21: 5 | BP21: 20 | BQ21: 15 | BR21: 10 | BS21: 50 | BT21: 15 | BU21: 10 | BV21: 60 | BX21: 5 | BY21: 20 | BZ21: 70 | CA21: 15 | CB21: 10 | CC21: 10 | CD21: 50 | CE21: 5 | CF21: 80

Sheet Nhóm 6 chi tiết
A2: DANH MỤC VẬT TƯ Y TẾ TRÚNG THẦU VỚI SỐ LƯỢNG CHI TIẾT NĂM 2022 ĐẠT TIÊU CHUẨN KỸ THUẬT NHÓM 6 THEO THÔNG TƯ SỐ 14/2020/TT-BYT NGÀY 10/7/2020.
A4: STT | B4: Mã hàng hóa 2021 | C4: Mã hàng hóa 2021 (Cũ) | D4: Mã TT 04/2017 | E4: Tên vật tư y tế mời thầu | F4: Tên vật tư y tế trúng thầu | G4: Yêu cầu kỹ thuật | H4: Quy tắc đóng gói | I4: Hãng/nước sản xuất | J4: ĐVT | K4: Số lượng dự kiến 17/10/2021 đến 16/10/2022 (chi tiết) | L4: Số lượng dự kiến 17/10/2021 đến 16/10/2022 (Tổng cộng) | M4: Giá trúng thầu | N4: Nhà thầu trúng thầu | O4: Mã hiệu VTYT | P4: Mã dùng chung (nếu có) | Q4: Khối Bệnh viện | BC4: Khối Trung tâm Y tế
Q5: ĐK tỉnh | R5: Da Liễu | S5: Mắt | T5: Nội Tiết | U5: Nhi | V5: PHCN | W5: Phổi | X5: Phụ Sản | Y5: Tâm Thần | Z5: YDCT | AA5: Ung Bướu | AB5: Ngọc Lặc | AC5: Bá Thước | AD5: Bỉm Sơn | AE5: Cẩm Thủy | AF5: Đông Sơn | AG5: Hà Trung | AH5: Hoằng Hóa | AI5: Hậu Lộc | AJ5: Lang Chánh | AK5: Mường Lát | AL5: Nông Cống | AM5: Như Thanh | AN5: Như Xuân | AO5: Nga Sơn | AP5: Quảng Xương | AQ5: Quan Hóa | AR5: Quan Sơn | AS5: Sầm Sơn | AT5: Thạch Thành | AU5: Thành Phố | AV5: Thọ Xuân | AW5: Nghi Sơn | AX5: Thiệu Hóa | AY5: Thường Xuân | AZ5: Triệu Sơn | BA5: Vĩnh Lộc | BB5: Yên Định | BC5: Ban BV sức khỏe | BD5: CDC | BE5: PK GTVT | BF5: TTGĐ Y khoa | BG5: TT pháp Y | BH5: TTYT Bá Thước | BI5: TTYT Bỉm Sơn | BJ5: TTYT Cẩm Thủy | BK5: TTYT Đông Sơn | BL5: TTYT Hà Trung | BM5: TTYT Hậu Lộc | BN5: TTYT Hoằng Hóa | BO5: TTYT Lang chánh | BP5: TTYT Mường Lát | BQ5: TTYT Nông cống | BR5: TTYT Nga Sơn | BS5: TTYT Ngọc Lặc | BT5: TTYT Như Xuân | BU5: TTYT Như Thanh | BV5: TTYT Quảng Xương | BW5: TTYT Quan Hóa | BX5: TTYT Sầm Sơn | BY5: TTYT Nghi Sơn | BZ5: TTYT Thạch Thành | CA5: TTYT Thành Phố | CB5: TTYT Thiệu hóa | CC5: TTYT Thường xuân | CD5: TTYT Triệu Sơn | CE5: TTYT Vĩnh Lộc | CF5: TTYT Yên Định
E6: Nhóm 1. Bông, dung dịch sát khuẩn, rửa vết thương
E7: 1.2 Dung dịch sát khuẩn, rửa vết thương
A8: =IF(L8="","",COUNTA($L$8:$L8)) -> 1 | B8: K6 | C8: K6 | D8: N01.02.010 | E8: Dung dịch rửa tay sát khuẩn 2% | F8: Dung dịch rửa tay sát khuẩn 2% CHLORHEX | G8: Thành phần: Chlohexidine Gluconate 2% ( 20mg/ml), Nonoxinol 15, Acid Acetic, Hydroxyethylcellulose, Dihydroxyethyl Cocamine oxide, chất tạo màu Tartrazine và Brilliant FCF. Diệt khuẩn nhanh, phổ rộng, tác động diệt khuẩn duy trì kéo dài trong 4 giờ, chất làm mềm, dưỡng ẩm. pH=5,5 - Kháng khuẩn trên phạm vi rộng trong vòng 30 giây - Vệ sinh theo tiêu chuẩn EN 1500; 3 ml/ 30 giây - Khử trùng phẫu thuật theo tiêu chuẩn EN 12791; 2x3 ml / 1,50 phút | H8: Chai 1 lít | I8: GBL, Thổ Nhĩ Kỳ | J8: Lít | K8: 752 | L8: 752 | M8: 210000 | N8: Viện Trang thiết bị và Công trình y tế | O8: 6162 | P8: 0 | Q8: 50 | T8: 30 | U8: 300 | X8: 50 | AG8: 50 | AL8: 50 | AM8: 52 | AP8: 100 | AV8: 40 | BD8: 20 | BI8: 10
A9: =IF(L9="","",COUNTA($L$8:$L9)) -> 2 | B9: K7 | C9: K7 | D9: N01.02.010 | E9: Dung dịch rửa tay sát khuẩn 4% | F9: Dung dịch rửa tay sát khuẩn 4% HANDIFAST CH | G9: Thành phần: Chlohexidine Gluconate 4% ( 40mg/ml), Nonoxinol 15, Carmoisine, Hydroxyethylcellulose, Acid Acetic, Isopropyl alcohol. Diệt khuẩn nhanh, phổ rộng, tác động diệt khuẩn duy trì kéo dài trong 4 giờ, chất làm mềm, dưỡng ầm. pH= 5,3 - Diệt các Vi khuẩn, khuẩn lao, thuốc diệt nấm và vi-rút - Vệ sinh tay theo tiêu chuẩn EN 1499; 3ml/ 1 phút (2 muỗng 3ml) - Rửa tay phẫu thuật theo tiêu chuẩn EN 12791; 2x3ml / 5 phút. | H9: Chai 1 lít | I9: GBL, Thổ Nhĩ Kỳ | J9: Lít | K9: 397 | L9: 397 | M9: 250000 | N9: Viện Trang thiết bị và Công trình y tế | O9: 6163 | P9: 0 | Q9: 50 | T9: 40 | X9: 50 | AC9: 15 | AD9: 70 | AG9: 50 | AZ9: 120 | BI9: 2
A10: =IF(L10="","",COUNTA($L$8:$L10)) | E10: Nhóm 2. Băng, gạc, vật liệu cầm máu, điều trị vết thương
A11: =IF(L11="","",COUNTA($L$8:$L11)) | E11: 2.2 Băng dính
A12: =IF(L12="","",COUNTA($L$8:$L12)) -> 3 | B12: K13 | C12: K15 | D12: N02.02.020 | E12: Băng dính cuộn vải lụa y tế 2,5cm x 5m | F12: Băng dính lụa 2,5cm x 5m | G12: Băng bằng vải lụa phủ keo, màu trắng. 100 % sợi cellulose acetate đánh thành cuộn. Keo oxyd kẽm; kích thước : 2,5cm x 5m. | H12: Hộp 1 cuộn | I12: Zhejiang Bangli Medical Products Co., Ltd/ Trung Quốc | J12: Cuộn | K12: 7280 | L12: 7280 | M12: 8800 | N12: Liên danh nhà thầu Bình Minh | O12: EGM 2.5 | P12: 0 | Q12: 60 | AE12: 2400 | AG12: 1000 | AI12: 100 | AJ12: 200 | AL12: 200 | AM12: 910 | AN12: 200 | AP12: 1500 | AR12: 120 | AV12: 80 | AX12: 180 | BA12: 150 | BB12: 150 | BI12: 10 | CF12: 20
A13: =IF(L13="","",COUNTA($L$8:$L13)) -> 4 | B13: K14 | C13: K16 | D13: N02.02.020 | E13: Băng dính cuộn vải lụa y tế 5cm x 5m | F13: Băng dính lụa 5cm x 5m | G13: Băng bằng vải lụa phủ keo, màu trắng. 100 % sợi cellulose acetate đánh thành cuộn. Keo: oxyd kẽm; kích thước: 5cm x 5m. | H13: Hộp 1 cuộn | I13: Zhejiang Bangli Medical Products Co., Ltd/ Trung Quốc | J13: Cuộn | K13: 1606 | L13: 1606 | M13: 15500 | N13: Liên danh nhà thầu Bình Minh | O13: EGM 5 | P13: 0 | Q13: 200 | S13: 250 | AG13: 350 | AH13: 500 | AI13: 130 | AJ13: 36 | AV13: 80 | BA13: 50 | BI13: 10
A14: =IF(L14="","",COUNTA($L$8:$L14)) | E14: Nhóm 3. Bơm, kim tiêm, dây truyền, găng tay và vật tư y tế sử dụng trong chăm sóc người bệnh
A15: =IF(L15="","",COUNTA($L$8:$L15)) | E15: 3.2 Kim tiêm
A16: =IF(L16="","",COUNTA($L$8:$L16)) -> 5 | B16: K26 | C16: K32 | D16: N03.02.070 | E16: Kim luồn tĩnh mạch có cánh có cửa | F16: Kim luồn tĩnh mạch có cánh có cổng tiêm | G16: Vô trùng. Sử dụng một lần. Có cánh, có cổng tiêm thuốc. Không pyrogenic. Kim được làm bằng thép không gỉ. Kim có ba điểm để chèn không gây đau đớn .Chất liệu ống thông bằng PTFE(Teflon)/FEP/PUR, trong suốt được phủ kín. Có vạch cản quang ẩn. Khả năng lưu catheter 96h. đường kính trong, ngoài- chiều dài - tốc độ dòng chảy: Kim 18G: 0,9mm - 1,3x45mm - 80ml/phút. Kim 22G: 0,6mm- 0,9x25mm - 33ml/phút.Kim 24G: 0,5mm- 0,7x19mm - 20ml/phút Không chứa mủ cao su | H16: 1000 cái/thùng 100 cái/hộp | I16: Bio Med - Ấn Độ | J16: Cái | L16: 17600 | M16: 3500 | N16: Công ty cổ phẩn thiết bị vật tư y tế Thanh Hóa
A17: =IF(L17="","",COUNTA($L$8:$L17)) | B17: K26.1 | E17: Kim luồn tĩnh mạch có cánh có cửa 18G | G17: Vô trùng. Sử dụng một lần. Có cánh, có cổng tiêm thuốc. Không pyrogenic. Kim được làm bằng thép không gỉ. Kim có ba điểm để chèn không gây đau đớn .Chất liệu ống thông bằng PTFE(Teflon)/FEP/PUR, trong suốt được phủ kín. Có vạch cản quang ẩn. Khả năng lưu catheter 96h. đường kính trong, ngoài- chiều dài - tốc độ dòng chảy: Kim 18G: 0,9mm - 1,3x45mm - 80ml/phút. Kim 22G: 0,6mm- 0,9x25mm - 33ml/phút.Kim 24G: 0,5mm- 0,7x19mm - 20ml/phút Không chứa mủ cao su | H17: 1000 cái/thùng 100 cái/hộp | I17: Bio Med - Ấn Độ | J17: Cái | K17: 4400 | M17: 3500 | N17: Công ty cổ phẩn thiết bị vật tư y tế Thanh Hóa | O17: BM0013 | P17: N03.02.070.260.000004 | AJ17: 500 | AM17: 2600 | AV17: 800 | BA17: 500
A18: =IF(L18="","",COUNTA($L$8:$L18)) | B18: K26.2 | E18: Kim luồn tĩnh mạch có cánh có cửa 22G | G18: Vô trùng. Sử dụng một lần. Có cánh, có cổng tiêm thuốc. Không pyrogenic. Kim được làm bằng thép không gỉ. Kim có ba điểm để chèn không gây đau đớn .Chất liệu ống thông bằng PTFE(Teflon)/FEP/PUR, trong suốt được phủ kín. Có vạch cản quang ẩn. Khả năng lưu catheter 96h. đường kính trong, ngoài- chiều dài - tốc độ dòng chảy: Kim 18G: 0,9mm - 1,3x45mm - 80ml/phút. Kim 22G: 0,6mm- 0,9x25mm - 33ml/phút.Kim 24G: 0,5mm- 0,7x19mm - 20ml/phút Không chứa mủ cao su | H18: 1000 cái/thùng 100 cái/hộp | I18: Bio Med - Ấn Độ | J18: Cái | K18: 1000 | M18: 3500 | N18: Công ty cổ phẩn thiết bị vật tư y tế Thanh Hóa | O18: BM0015 | P18: N03.02.070.260.000006 | BA18: 1000
A19: =IF(L19="","",COUNTA($L$8:$L19)) | B19: K26.3 | E19: Kim luồn tĩnh mạch có cánh có cửa 24G | G19: Vô trùng. Sử dụng một lần. Có cánh, có cổng tiêm thuốc. Không pyrogenic. Kim được làm bằng thép không gỉ. Kim có ba điểm để chèn không gây đau đớn .Chất liệu ống thông bằng PTFE(Teflon)/FEP/PUR, trong suốt được phủ kín. Có vạch cản quang ẩn. Khả năng lưu catheter 96h. đường kính trong, ngoài- chiều dài - tốc độ dòng chảy: Kim 18G: 0,9mm - 1,3x45mm - 80ml/phút. Kim 22G: 0,6mm- 0,9x25mm - 33ml/phút.Kim 24G: 0,5mm- 0,7x19mm - 20ml/phút Không chứa mủ cao su | H19: 1000 cái/thùng 100 cái/hộp | I19: Bio Med - Ấn Độ | J19: Cái | K19: 12200 | M19: 3500 | N19: Công ty cổ phẩn thiết bị vật tư y tế Thanh Hóa | O19: BM0016 | P19: N03.02.070.260.000007 | AJ19: 500 | AM19: 3900 | AV19: 4800 | BA19: 3000
A20: =IF(L20="","",COUNTA($L$8:$L20)) -> 6 | B20: K37 | C20: K47 | D20: N03.03.080 | E20: Kim lọc thận | F20: Kim lọc thận 16G | G20: Thành kim làm bằng thép không gỉ siêu mỏng Chiều dài kim 25mm (1 inch), chiều dài dây dẫn : 300 mm, đường kính 16G, có mắt, có kẹp, có cánh xoay được hoặc cố định. Kim tráng sillicone Dây gắn với kim làm bằng nguyên liệu nhự tổng hợp PVC dùng trong y tế. | H20: 500 cái/thùng | I20: Baihe, Trung Quốc | J20: Cái | K20: 30000 | L20: 30000 | M20: 5200 | N20: Viện Trang thiết bị và Công trình y tế | O20: FN-1612ZS | P20: 0 | Q20: 30000
A21: =IF(L21="","",COUNTA($L$8:$L21)) | E21: 3.6 Găng tay
A22: =IF(L22="","",COUNTA($L$8:$L22)) -> 7 | B22: K45 | C22: K56 | D22: N03.06.030 | E22: Găng tay khám, xét nghiệm các số | F22: Găng tay cao su y tế có bột các cỡ | G22: Găng tay có bột chưa tiệt trùng, được sản xuất từ cao su thiên nhiên, bề mặt nhẵn mịn. Độ dày ngón tay: tối thiểu 0.08mm, lòng bàn tay: tối thiểu 0.08mm, chiều dài 240mm. Sức căn cơ trước già hóa: tối thiểu 18Mpa Sức căng cơ sau già hóa: tối thiểu 14Mpa Độ giãn dài trước già hóa: tối thiểu 650% Độ giãn dài sau già hóa: tối thiểu 500% Hàm lượng Protein: tối đa 200µg/dm2 Hàm lượng bột: tối đa 10µg/dm2 Kích thước chiều rộng: size XS 70 ± 10mm; size S 80 ± 10mm; size M 95 ± 10mm; size L 111 ± 10mm | H22: Hộp 50 đôi | I22: Sri trang/ Thái Lan | J22: Đôi | K22: 5315200 | L22: 5315200 | M22: 2180 | N22: Công ty cổ phẩn thiết bị y tế và thương mại Hoa Cẩm Chướng | O22: Latex Powdered Examination Gloves | P22: 0 | Q22: 1500000 | S22: 35000 | T22: 75000 | U22: 100000 | V22: 10000 | W22: 146900 | X22: 1000000 | Y22: 30000 | Z22: 60000 | AA22: 190000 | AB22: 130000 | AC22: 100000 | AD22: 100000 | AE22: 18000 | AF22: 45000 | AG22: 130000 | AH22: 100000 | AI22: 30000 | AJ22: 20000 | AK22: 25000 | AL22: 100000 | AM22: 26000 | AN22: 50000 | AO22: 86500 | AP22: 150000 | AQ22: 20000 | AS22: 55000 | AT22: 250000 | AU22: 200000 | AV22: 48000 | AW22: 50000 | AX22: 25000 | AY22: 80000 | AZ22: 100000 | BA22: 30000 | BB22: 20000 | BD22: 26000 | BE22: 30000 | BH22: 10000 | BI22: 100 | BJ22: 2400 | BK22: 1800 | BL22: 1200 | BM22: 300 | BN22: 2100 | BO22: 300 | BP22: 2000 | BQ22: 35000 | BR22: 1800 | BS22: 10600 | BT22: 1800 | BU22: 1200 | BV22: 10000 | BX22: 900 | BY22: 2700 | BZ22: 12000 | CA22: 10000 | CB22: 1200 | CC22: 900 | CD22: 6000 | CE22: 900 | CF22: 8600
A23: =IF(L23="","",COUNTA($L$8:$L23)) | E23: 3.7 Túi, lọ và vật tư bao gói khác
A24: =IF(L24="","",COUNTA($L$8:$L24)) -> 8 | B24: K51 | C24: K64 | E24: Túi lấy máu ba 250 ml | F24: Túi máu ba 250 ml: Karmi Blood Bag Triple 250ml | G24: Túi máu ba 250 ml, túi máu ba gồm 3 túi máu đơn được kết nối với nhau thành một hệ thống vô trùng. - Túi 1 có dung tích 250 ml chứa 35 ml dung dịch chống đông CPD; Bảo quản được bạch cầu và hồng cầu trong vòng 21 ngày. Kích thước của túi (Rộng x Dài): 130 x 170 (mm). Chiều dài dây dẫn máu từ kim lấy máu tới túi: 1036 mm - Túi 2 có dung tích 250 ml, kích thước của túi (Rộng x Dài): 130 x 170 (mm). - Túi 3 có dung tích 250 ml chứa 56 ml dung dịch chống đông SAG-M. Bảo quản tế bào hồng cầu trong vòng 42 ngày. Kích thước của túi (Rộng x Dài): 130 x 170 (mm). - Chiều dài dây nối giữa các túi: 296 mm; - Kim lấy máu có phủ silicone 2 lớp, siêu nhẵn - Góc túi tròn, có các lỗ rìa túi để treo túi. | H24: 40 túi/thùng | I24: Kawasumi/ Thái Lan | J24: Túi | K24: 30075 | L24: 30075 | M24: 110000 | N24: Công ty TNHH thiết bị y tế dược phẩm An Phúc | O24: KBT-250CSM6P | P24: 0 | Q24: 30000 | AH24: 15 | AT24: 50 | AV24: 10
A25: =IF(L25="","",COUNTA($L$8:$L25)) -> 9 | B25: K52 | C25: K65 | E25: Túi lấy máu ba 350 ml có túi chân không lấy mẫu | F25: Túi máu ba 350 ml: Karmi Blood Bag Triple 350ml | G25: Túi máu ba 350 ml, túi máu ba gồm 3 túi máu đơn được kết nối với nhau - Có túi lấy mẫu chân không - Túi 1 có dung tích 350 ml chứa 49 ml dung dịch chống đông CPD. Bảo quản được bạch cầu và hồng cầu trong vòng 21 ngày. Kích thước của túi (Rộng x Dài): 130 x 190 (mm). Chiều dài dây dẫn máu từ kim lấy máu tới túi: 1036 mm, - Túi 2 có dung tích 300 ml, kích thước của túi (Rộng x Dài): 130 x 170 (mm). - Túi 3 có dung tích 300 ml chứa 78 ml dung dịch chống đông SAG-M. Bảo quản tế bào hồng cầu trong vòng 42 ngày. Kích thước của túi (Rộng x Dài): 130x170 (mm) - Chiều dài dây nối giữa các túi: 296 mm; - Kim lấy máu có phủ silicone 2 lớp, siêu nhẵn - Góc túi tròn, có các lỗ rìa túi để treo túi. | H25: 32 túi/thùng | I25: Kawasumi/ Thái Lan | J25: Túi | K25: 11200 | L25: 11200 | M25: 120000 | N25: Công ty TNHH thiết bị y tế dược phẩm An Phúc | O25: KBT-350CSM6PZ | P25: 0 | Q25: 11200
A26: =IF(L26="","",COUNTA($L$8:$L26)) | E26: Nhóm 4. Ống thông, ống dẫn lưu, ống nối, dây nối, chạc nối, catheter
A27: =IF(L27="","",COUNTA($L$8:$L27)) | E27: 4.1 Ống thông
A28: =IF(L28="","",COUNTA($L$8:$L28)) -> 10 | B28: K57 | C28: K70 + K72 | D28: N04.01.030 | E28: Ống đặt nội khí quản có bóng | F28: Ống đặt nội khí quản có bóng các cỡ | G28: Ống đặt nội khí quản có bóng, làm bằng chất liệu nhựa PVC, có tia cản quang dọc thân ống. Sản phẩm được tiệt trùng 100% bằng khí EO. Các cỡ 3.0; 3.5; 4.0; 4.5; 5.0; 5.5; 6.0; 6.5; 7.0; 7.5; 8.0; 8.5 | H28: Túi 1 cái | I28: Guangdong Ecan Medical Co., Ltd/ Trung Quốc | J28: Cái | L28: 44612 | M28: 9500 | N28: Liên danh nhà thầu Bình Minh
A29: =IF(L29="","",COUNTA($L$8:$L29)) | B29: K57.1 | E29: Ống đặt nội khí quản có bóng ( số 3.0) | F29: Ống đặt nội khí quản có bóng các cỡ | G29: Ống đặt nội khí quản có bóng, làm bằng chất liệu nhựa PVC, có tia cản quang dọc thân ống. Sản phẩm được tiệt trùng 100% bằng khí EO. Các cỡ 3.0; 3.5; 4.0; 4.5; 5.0; 5.5; 6.0; 6.5; 7.0; 7.5; 8.0; 8.5 | H29: Túi 1 cái | I29: Guangdong Ecan Medical Co., Ltd/ Trung Quốc | J29: Cái | K29: 791 | M29: 9500 | N29: Liên danh nhà thầu Bình Minh | O29: EC110130HC | P29: 0 | W29: 260 | Y29: 40 | AB29: 50 | AD29: 20 | AE29: 20 | AG29: 20 | AH29: 10 | AI29: 30 | AJ29: 15 | AK29: 12 | AL29: 13 | AM29: 7 | AN29: 100 | AP29: 10 | AQ29: 5 | AR29: 15 | AT29: 20 | AV29: 4 | AX29: 20 | AY29: 20 | AZ29: 20 | BA29: 20 | BB29: 60
A30: =IF(L30="","",COUNTA($L$8:$L30)) | B30: K57.2 | E30: Ống đặt nội khí quản có bóng ( số 3.5) | F30: Ống đặt nội khí quản có bóng các cỡ | G30: Ống đặt nội khí quản có bóng, làm bằng chất liệu nhựa PVC, có tia cản quang dọc thân ống. Sản phẩm được tiệt trùng 100% bằng khí EO. Các cỡ 3.0; 3.5; 4.0; 4.5; 5.0; 5.5; 6.0; 6.5; 7.0; 7.5; 8.0; 8.5 | H30: Túi 1 cái | I30: Guangdong Ecan Medical Co., Ltd/ Trung Quốc | J30: Cái | K30: 366 | M30: 9500 | N30: Liên danh nhà thầu Bình Minh | O30: EC110135HC | P30: 0 | AB30: 50 | AD30: 30 | AE30: 20 | AG30: 15 | AH30: 10 | AI30: 50 | AJ30: 15 | AK30: 12 | AM30: 7 | AP30: 10 | AQ30: 5 | AR30: 10 | AV30: 2 | AX30: 10 | AY30: 20 | AZ30: 20 | BA30: 20 | BB30: 60
A31: =IF(L31="","",COUNTA($L$8:$L31)) | B31: K57.3 | E31: Ống đặt nội khí quản có bóng ( số 4.0) | F31: Ống đặt nội khí quản có bóng các cỡ | G31: Ống đặt nội khí quản có bóng, làm bằng chất liệu nhựa PVC, có tia cản quang dọc thân ống. Sản phẩm được tiệt trùng 100% bằng khí EO. Các cỡ 3.0; 3.5; 4.0; 4.5; 5.0; 5.5; 6.0; 6.5; 7.0; 7.5; 8.0; 8.5 | H31: Túi 1 cái | I31: Guangdong Ecan Medical Co., Ltd/ Trung Quốc | J31: Cái | K31: 1319 | M31: 9500 | N31: Liên danh nhà thầu Bình Minh | O31: EC110140HC | P31: 0 | Q31: 300 | U31: 500 | AB31: 50 | AD31: 30 | AE31: 20 | AG31: 15 | AH31: 10 | AI31: 50 | AJ31: 15 | AK31: 12 | AL31: 13 | AM31: 7 | AN31: 100 | AP31: 20 | AQ31: 5 | AT31: 20 | AV31: 2 | AW31: 30 | AX31: 10 | AY31: 20 | AZ31: 10 | BA31: 20 | BB31: 60
A32: =IF(L32="","",COUNTA($L$8:$L32)) | B32: K57.4 | E32: Ống đặt nội khí quản có bóng ( số 4.5) | F32: Ống đặt nội khí quản có bóng các cỡ | G32: Ống đặt nội khí quản có bóng, làm bằng chất liệu nhựa PVC, có tia cản quang dọc thân ống. Sản phẩm được tiệt trùng 100% bằng khí EO. Các cỡ 3.0; 3.5; 4.0; 4.5; 5.0; 5.5; 6.0; 6.5; 7.0; 7.5; 8.0; 8.5 | H32: Túi 1 cái | I32: Guangdong Ecan Medical Co., Ltd/ Trung Quốc | J32: Cái | K32: 1412 | M32: 9500 | N32: Liên danh nhà thầu Bình Minh | O32: EC110145HC | P32: 0 | Q32: 50 | U32: 800 | AB32: 70 | AD32: 40 | AE32: 50 | AG32: 25 | AH32: 20 | AI32: 50 | AJ32: 20 | AK32: 22 | AM32: 13 | AN32: 50 | AP32: 50 | AV32: 2 | AW32: 30 | AX32: 10 | AY32: 20 | AZ32: 10 | BA32: 20 | BB32: 60
A33: =IF(L33="","",COUNTA($L$8:$L33)) | B33: K57.5 | E33: Ống đặt nội khí quản có bóng ( số 5.0) | F33: Ống đặt nội khí quản có bóng các cỡ | G33: Ống đặt nội khí quản có bóng, làm bằng chất liệu nhựa PVC, có tia cản quang dọc thân ống. Sản phẩm được tiệt trùng 100% bằng khí EO. Các cỡ 3.0; 3.5; 4.0; 4.5; 5.0; 5.5; 6.0; 6.5; 7.0; 7.5; 8.0; 8.5 | H33: Túi 1 cái | I33: Guangdong Ecan Medical Co., Ltd/ Trung Quốc | J33: Cái | K33: 1010 | M33: 9500 | N33: Liên danh nhà thầu Bình Minh | O33: EC110150HC | P33: 0 | U33: 500 | AD33: 30 | AE33: 60 | AG33: 20 | AH33: 10 | AI33: 50 | AJ33: 10 | AK33: 22 | AL33: 13 | AM33: 26 | AN33: 50 | AO33: 50 | AR33: 20 | AS33: 5 | AV33: 4 | AW33: 30 | AX33: 10 | AY33: 20 | AZ33: 10 | BA33: 10 | BB33: 60
A34: =IF(L34="","",COUNTA($L$8:$L34)) | B34: K57.6 | E34: Ống đặt nội khí quản có bóng ( số 6.0) | F34: Ống đặt nội khí quản có bóng các cỡ | G34: Ống đặt nội khí quản có bóng, làm bằng chất liệu nhựa PVC, có tia cản quang dọc thân ống. Sản phẩm được tiệt trùng 100% bằng khí EO. Các cỡ 3.0; 3.5; 4.0; 4.5; 5.0; 5.5; 6.0; 6.5; 7.0; 7.5; 8.0; 8.5 | H34: Túi 1 cái | I34: Guangdong Ecan Medical Co., Ltd/ Trung Quốc | J34: Cái | K34: 2450 | M34: 9500 | N34: Liên danh nhà thầu Bình Minh | O34: EC110160HC | P34: 0 | U34: 300 | AA34: 200 | AB34: 130 | AC34: 100 | AD34: 180 | AE34: 60 | AG34: 25 | AH34: 80 | AI34: 70 | AJ34: 20 | AK34: 22 | AL34: 26 | AM34: 39 | AN34: 100 | AP34: 30 | AQ34: 5 | AR34: 15 | AT34: 150 | AU34: 150 | AV34: 8 | AW34: 30 | AX34: 30 | AY34: 20 | AZ34: 150 | BA34: 10 | BB34: 500
A35: =IF(L35="","",COUNTA($L$8:$L35)) | B35: K57.7 | E35: Ống đặt nội khí quản có bóng ( số 6.5) | F35: Ống đặt nội khí quản có bóng các cỡ | G35: Ống đặt nội khí quản có bóng, làm bằng chất liệu nhựa PVC, có tia cản quang dọc thân ống. Sản phẩm được tiệt trùng 100% bằng khí EO. Các cỡ 3.0; 3.5; 4.0; 4.5; 5.0; 5.5; 6.0; 6.5; 7.0; 7.5; 8.0; 8.5 | H35: Túi 1 cái | I35: Guangdong Ecan Medical Co., Ltd/ Trung Quốc | J35: Cái | K35: 6731 | M35: 9500 | N35: Liên danh nhà thầu Bình Minh | O35: EC110165HC | P35: 0 | Q35: 1000 | T35: 2000 | U35: 200 | AB35: 600 | AC35: 300 | AD35: 240 | AE35: 150 | AG35: 70 | AH35: 120 | AI35: 70 | AJ35: 40 | AK35: 22 | AL35: 65 | AM35: 39 | AP35: 30 | AQ35: 5 | AR35: 60 | AT35: 300 | AU35: 150 | AV35: 90 | AW35: 90 | AX35: 100 | AY35: 20 | AZ35: 150 | BA35: 20 | BB35: 800
A36: =IF(L36="","",COUNTA($L$8:$L36)) | B36: K57.8 | E36: Ống đặt nội khí quản có bóng ( số 7.0) | F36: Ống đặt nội khí quản có bóng các cỡ | G36: Ống đặt nội khí quản có bóng, làm bằng chất liệu nhựa PVC, có tia cản quang dọc thân ống. Sản phẩm được tiệt trùng 100% bằng khí EO. Các cỡ 3.0; 3.5; 4.0; 4.5; 5.0; 5.5; 6.0; 6.5; 7.0; 7.5; 8.0; 8.5 | H36: Túi 1 cái | I36: Guangdong Ecan Medical Co., Ltd/ Trung Quốc | J36: Cái | K36: 14791 | M36: 9500 | N36: Liên danh nhà thầu Bình Minh | O36: EC110170HC | P36: 0 | Q36: 3000 | T36: 600 | U36: 200 | X36: 2500 | AA36: 2000 | AB36: 600 | AC36: 150 | AD36: 370 | AE36: 350 | AF36: 50 | AG36: 500 | AH36: 40 | AI36: 300 | AJ36: 120 | AK36: 110 | AL36: 300 | AM36: 91 | AN36: 200 | AO36: 250 | AP36: 450 | AQ36: 40 | AR36: 180 | AS36: 10 | AT36: 500 | AU36: 150 | AV36: 180 | AW36: 600 | AX36: 200 | AY36: 100 | BA36: 150 | BB36: 500
A37: =IF(L37="","",COUNTA($L$8:$L37)) | B37: K57.9 | E37: Ống đặt nội khí quản có bóng ( số 7.5) | F37: Ống đặt nội khí quản có bóng các cỡ | G37: Ống đặt nội khí quản có bóng, làm bằng chất liệu nhựa PVC, có tia cản quang dọc thân ống. Sản phẩm được tiệt trùng 100% bằng khí EO. Các cỡ 3.0; 3.5; 4.0; 4.5; 5.0; 5.5; 6.0; 6.5; 7.0; 7.5; 8.0; 8.5 | H37: Túi 1 cái | I37: Guangdong Ecan Medical Co., Ltd/ Trung Quốc | J37: Cái | K37: 8618 | M37: 9500 | N37: Liên danh nhà thầu Bình Minh | O37: EC110175HC | P37: 0 | Q37: 6000 | U37: 100 | W37: 65 | AA37: 200 | AB37: 600 | AD37: 180 | AE37: 350 | AG37: 90 | AI37: 300 | AJ37: 40 | AK37: 22 | AM37: 26 | AP37: 30 | AQ37: 5 | AV37: 130 | AW37: 120 | AX37: 50 | AY37: 50 | BA37: 10 | BB37: 250
A38: =IF(L38="","",COUNTA($L$8:$L38)) | B38: K57.10 | E38: Ống đặt nội khí quản có bóng ( số 8.0) | F38: Ống đặt nội khí quản có bóng các cỡ | G38: Ống đặt nội khí quản có bóng, làm bằng chất liệu nhựa PVC, có tia cản quang dọc thân ống. Sản phẩm được tiệt trùng 100% bằng khí EO. Các cỡ 3.0; 3.5; 4.0; 4.5; 5.0; 5.5; 6.0; 6.5; 7.0; 7.5; 8.0; 8.5 | H38: Túi 1 cái | I38: Guangdong Ecan Medical Co., Ltd/ Trung Quốc | J38: Cái | K38: 4945 | M38: 9500 | N38: Liên danh nhà thầu Bình Minh | O38: EC110180HC | P38: 0 | Q38: 4000 | W38: 195 | AB38: 600 | AE38: 150
A39: =IF(L39="","",COUNTA($L$8:$L39)) | B39: K57.11 | E39: Ống đặt nội khí quản có bóng ( số 8.5) | F39: Ống đặt nội khí quản có bóng các cỡ | G39: Ống đặt nội khí quản có bóng, làm bằng chất liệu nhựa PVC, có tia cản quang dọc thân ống. Sản phẩm được tiệt trùng 100% bằng khí EO. Các cỡ 3.0; 3.5; 4.0; 4.5; 5.0; 5.5; 6.0; 6.5; 7.0; 7.5; 8.0; 8.5 | H39: Túi 1 cái | I39: Guangdong Ecan Medical Co., Ltd/ Trung Quốc | J39: Cái | K39: 500 | M39: 9500 | N39: Liên danh nhà thầu Bình Minh | O39: EC110185HC | P39: 0 | Q39: 500
A40: =IF(L40="","",COUNTA($L$8:$L40)) | B40: K57.12 | E40: Ống đặt nội khí quản có bóng ( số 5.5) | F40: Ống đặt nội khí quản có bóng các cỡ | G40: Ống đặt nội khí quản có bóng, làm bằng chất liệu nhựa PVC, có tia cản quang dọc thân ống. Sản phẩm được tiệt trùng 100% bằng khí EO. Các cỡ 3.0; 3.5; 4.0; 4.5; 5.0; 5.5; 6.0; 6.5; 7.0; 7.5; 8.0; 8.5 | H40: Túi 1 cái | I40: Guangdong Ecan Medical Co., Ltd/ Trung Quốc | J40: Cái | K40: 1679 | M40: 9500 | N40: Liên danh nhà thầu Bình Minh | O40: EC110155HC | P40: 0 | Q40: 600 | U40: 600 | AD40: 40 | AG40: 5 | AH40: 20 | AI40: 50 | AJ40: 20 | AP40: 20 | AV40: 24 | AW40: 50 | AZ40: 10 | BA40: 10 | BB40: 230
A41: =IF(L41="","",COUNTA($L$8:$L41)) | E41: 4.2 Ống dẫn lưu, ống hút
A42: =IF(L42="","",COUNTA($L$8:$L42)) -> 11 | B42: K66 | C42: K83 | D42: N04.02.030 | E42: Dẫn lưu kín vết mổ | F42: Bình dẫn lưu vết thương 200ml, 400ml | G42: Bao gồm: Bình áp lực 3 lò xo dung tích 200 ml, 400ml dây PVC, kết nối chữ Y, dây xả và trocar. - Bình áp lực 3 lò xo được thiết kế chống xẹp tối thiểu. Sản phẩm được đóng gói đảm bảo vô khuẩn khi dùng trong phòng mổ. | H42: Túi 1 cái | I42: Hitec Medical Co., Ltd/ Trung Quốc | J42: Cái | L42: 520 | M42: 73500 | N42: Liên danh nhà thầu Bình Minh
A43: =IF(L43="","",COUNTA($L$8:$L43)) | B43: K66.1 | D43: N04.02.030 | E43: Dẫn lưu kín vết mổ 200ml | G43: Bao gồm: Bình áp lực 3 lò xo dung tích 200 ml, 400ml dây PVC, kết nối chữ Y, dây xả và trocar. - Bình áp lực 3 lò xo được thiết kế chống xẹp tối thiểu. Sản phẩm được đóng gói đảm bảo vô khuẩn khi dùng trong phòng mổ. | H43: Túi 1 cái | I43: Hitec Medical Co., Ltd/ Trung Quốc | J43: Cái | K43: 320 | M43: 73500 | N43: Liên danh nhà thầu Bình Minh | O43: HTP0012 | P43: 0 | AA43: 100 | AS43: 20 | AV43: 200
A44: =IF(L44="","",COUNTA($L$8:$L44)) | B44: K66.2 | D44: N04.02.030 | E44: Dẫn lưu kín vết mổ 400ml | G44: Bao gồm: Bình áp lực 3 lò xo dung tích 200 ml, 400ml dây PVC, kết nối chữ Y, dây xả và trocar. - Bình áp lực 3 lò xo được thiết kế chống xẹp tối thiểu. Sản phẩm được đóng gói đảm bảo vô khuẩn khi dùng trong phòng mổ. | H44: Túi 1 cái | I44: Hitec Medical Co., Ltd/ Trung Quốc | J44: Cái | K44: 200 | M44: 73500 | N44: Liên danh nhà thầu Bình Minh | O44: HTP1012 | P44: 0 | AA44: 200
A45: =IF(L45="","",COUNTA($L$8:$L45)) -> 12 | B45: K67 | C45: K85 | D45: N04.01.090 | E45: Dây hút nhớt loại có kiểm soát | F45: Dây hút nhớt loại có kiểm soát các số | G45: . Các số/ đường kính trong: 5 (1.67mm), 6 (2.00mm), 8 (2.67mm), 10 (3.33mm), 12 (4.00mm), 14 (4.67mm), 16 (5.33mm) Phân biệt kích cỡ bằng màu sắc. Chất liệu nhựa y tế PVC mềm dẻo. Có van kiểm soát. Bề mặt được thiết kế Tạo nhám trở lực thấp, chống dính vào thành ống, chịu được áp lực cao và không bị bẹp khi hút. Ống dài 50 cm, có 2 mắt phụ. | H45: Túi 1 cái | I45: Hitec Medical Co., Ltd/ Trung Quốc | J45: Cái | L45: 26624 | M45: 2800 | N45: Liên danh nhà thầu Bình Minh
A46: =IF(L46="","",COUNTA($L$8:$L46)) | B46: K67.1 | E46: Dây hút nhớt loại có kiểm soát số 5 Fr | G46: . Các số/ đường kính trong: 5 (1.67mm), 6 (2.00mm), 8 (2.67mm), 10 (3.33mm), 12 (4.00mm), 14 (4.67mm), 16 (5.33mm) Phân biệt kích cỡ bằng màu sắc. Chất liệu nhựa y tế PVC mềm dẻo. Có van kiểm soát. Bề mặt được thiết kế Tạo nhám trở lực thấp, chống dính vào thành ống, chịu được áp lực cao và không bị bẹp khi hút. Ống dài 50 cm, có 2 mắt phụ. | H46: Túi 1 cái | I46: Hitec Medical Co., Ltd/ Trung Quốc | J46: Cái | K46: 1325 | M46: 2800 | N46: Liên danh nhà thầu Bình Minh | O46: HTD0505 | P46: 0 | U46: 1000 | Y46: 100 | AJ46: 50 | AQ46: 15 | AV46: 160
A47: =IF(L47="","",COUNTA($L$8:$L47)) | B47: K67.2 | E47: Dây hút nhớt loại có kiểm soát số 6 Fr | G47: . Các số/ đường kính trong: 5 (1.67mm), 6 (2.00mm), 8 (2.67mm), 10 (3.33mm), 12 (4.00mm), 14 (4.67mm), 16 (5.33mm) Phân biệt kích cỡ bằng màu sắc. Chất liệu nhựa y tế PVC mềm dẻo. Có van kiểm soát. Bề mặt được thiết kế Tạo nhám trở lực thấp, chống dính vào thành ống, chịu được áp lực cao và không bị bẹp khi hút. Ống dài 50 cm, có 2 mắt phụ. | H47: Túi 1 cái | I47: Hitec Medical Co., Ltd/ Trung Quốc | J47: Cái | K47: 2420 | M47: 2800 | N47: Liên danh nhà thầu Bình Minh | O47: HTD0506 | P47: 0 | U47: 2000 | AJ47: 50 | AK47: 15 | AP47: 20 | AQ47: 15 | AU47: 20 | AX47: 300
A48: =IF(L48="","",COUNTA($L$8:$L48)) | B48: K67.3 | E48: Dây hút nhớt loại có kiểm soát số 8 Fr | G48: . Các số/ đường kính trong: 5 (1.67mm), 6 (2.00mm), 8 (2.67mm), 10 (3.33mm), 12 (4.00mm), 14 (4.67mm), 16 (5.33mm) Phân biệt kích cỡ bằng màu sắc. Chất liệu nhựa y tế PVC mềm dẻo. Có van kiểm soát. Bề mặt được thiết kế Tạo nhám trở lực thấp, chống dính vào thành ống, chịu được áp lực cao và không bị bẹp khi hút. Ống dài 50 cm, có 2 mắt phụ. | H48: Túi 1 cái | I48: Hitec Medical Co., Ltd/ Trung Quốc | J48: Cái | K48: 16455 | M48: 2800 | N48: Liên danh nhà thầu Bình Minh | O48: HTD0508 | P48: 0 | U48: 3000 | X48: 12000 | AH48: 100 | AJ48: 50 | AK48: 15 | AL48: 100 | AP48: 100 | AS48: 20 | AT48: 250 | AU48: 20 | AV48: 800
A49: =IF(L49="","",COUNTA($L$8:$L49)) | B49: K67.4 | E49: Dây hút nhớt loại có kiểm soát số 10 Fr | G49: . Các số/ đường kính trong: 5 (1.67mm), 6 (2.00mm), 8 (2.67mm), 10 (3.33mm), 12 (4.00mm), 14 (4.67mm), 16 (5.33mm) Phân biệt kích cỡ bằng màu sắc. Chất liệu nhựa y tế PVC mềm dẻo. Có van kiểm soát. Bề mặt được thiết kế Tạo nhám trở lực thấp, chống dính vào thành ống, chịu được áp lực cao và không bị bẹp khi hút. Ống dài 50 cm, có 2 mắt phụ. | H49: Túi 1 cái | I49: Hitec Medical Co., Ltd/ Trung Quốc | J49: Cái | K49: 2105 | M49: 2800 | N49: Liên danh nhà thầu Bình Minh | O49: HTD05010 | P49: 0 | U49: 2000 | AJ49: 50 | AK49: 15 | AP49: 20 | AU49: 20
A50: =IF(L50="","",COUNTA($L$8:$L50)) | B50: K67.5 | E50: Dây hút nhớt loại có kiểm soát số 12 Fr | G50: . Các số/ đường kính trong: 5 (1.67mm), 6 (2.00mm), 8 (2.67mm), 10 (3.33mm), 12 (4.00mm), 14 (4.67mm), 16 (5.33mm) Phân biệt kích cỡ bằng màu sắc. Chất liệu nhựa y tế PVC mềm dẻo. Có van kiểm soát. Bề mặt được thiết kế Tạo nhám trở lực thấp, chống dính vào thành ống, chịu được áp lực cao và không bị bẹp khi hút. Ống dài 50 cm, có 2 mắt phụ. | H50: Túi 1 cái | I50: Hitec Medical Co., Ltd/ Trung Quốc | J50: Cái | K50: 1255 | M50: 2800 | N50: Liên danh nhà thầu Bình Minh | O50: HTD05012 | P50: 0 | U50: 1000 | AH50: 100 | AJ50: 100 | AK50: 15 | AP50: 20 | AU50: 20
A51: =IF(L51="","",COUNTA($L$8:$L51)) | B51: K67.6 | E51: Dây hút nhớt loại có kiểm soát số 14 Fr | G51: . Các số/ đường kính trong: 5 (1.67mm), 6 (2.00mm), 8 (2.67mm), 10 (3.33mm), 12 (4.00mm), 14 (4.67mm), 16 (5.33mm) Phân biệt kích cỡ bằng màu sắc. Chất liệu nhựa y tế PVC mềm dẻo. Có van kiểm soát. Bề mặt được thiết kế Tạo nhám trở lực thấp, chống dính vào thành ống, chịu được áp lực cao và không bị bẹp khi hút. Ống dài 50 cm, có 2 mắt phụ. | H51: Túi 1 cái | I51: Hitec Medical Co., Ltd/ Trung Quốc | J51: Cái | K51: 2051 | M51: 2800 | N51: Liên danh nhà thầu Bình Minh | O51: HTD05014 | P51: 0 | U51: 500 | AG51: 300 | AH51: 100 | AJ51: 150 | AK51: 15 | AP51: 20 | AQ51: 10 | AS51: 20 | AT51: 700 | AU51: 20 | AV51: 16 | AX51: 200
A52: =IF(L52="","",COUNTA($L$8:$L52)) | B52: K67.7 | E52: Dây hút nhớt loại có kiểm soát số 16 Fr | G52: . Các số/ đường kính trong: 5 (1.67mm), 6 (2.00mm), 8 (2.67mm), 10 (3.33mm), 12 (4.00mm), 14 (4.67mm), 16 (5.33mm) Phân biệt kích cỡ bằng màu sắc. Chất liệu nhựa y tế PVC mềm dẻo. Có van kiểm soát. Bề mặt được thiết kế Tạo nhám trở lực thấp, chống dính vào thành ống, chịu được áp lực cao và không bị bẹp khi hút. Ống dài 50 cm, có 2 mắt phụ. | H52: Túi 1 cái | I52: Hitec Medical Co., Ltd/ Trung Quốc | J52: Cái | K52: 1013 | M52: 2800 | N52: Liên danh nhà thầu Bình Minh | O52: HTD05016 | P52: 0 | U52: 500 | AG52: 200 | AJ52: 150 | AK52: 12 | AP52: 100 | AQ52: 10 | AU52: 20 | AV52: 16 | BH52: 5
A53: =IF(L53="","",COUNTA($L$8:$L53)) | E53: 4.3 Ống nối, dây nối, chạc nối
A54: =IF(L54="","",COUNTA($L$8:$L54)) -> 13 | B54: K71 | C54: K90 | D54: N03.05.060 | E54: Khóa 3 chạc có dây | F54: Khóa 3 chạc có dây | G54: Làm bằng nhựa chất lượng cao dùng trong y tế PC , không gây độc, gây sốt, không gấy gập hoặc chảy nước - Chịu được áp lực cao 5 bar (72psi) - Khóa luer ở đầu khóa kết nối với các loại kim, gây truyền, bộ vi điều chỉnh... - không tương tác khi truyền với các loại nhũ dịch béo hay các loại thuốc - Dây nối dài theo kích cỡ đường kính ngoài O.D.4.1, đường kính trong I.D.3.0 - Thời gian sử dụng 96 giờ | H54: Túi 1 cái | I54: Hubei Fuxin Medical Equipment Co., Ltd/ Trung Quốc | J54: Cái | K54: 24224 | L54: 24224 | M54: 4400 | N54: Liên danh nhà thầu Bình Minh | Q54: 15000 | T54: 120 | AA54: 2500 | AB54: 1300 | AC54: 100 | AD54: 60 | AE54: 20 | AF54: 100 | AG54: 2700 | AH54: 20 | AI54: 300 | AJ54: 200 | AK54: 100 | AL54: 30 | AN54: 200 | AO54: 30 | AP54: 500 | AQ54: 30 | AT54: 50 | AU54: 60 | AV54: 4 | AW54: 200 | AX54: 300 | AZ54: 100 | BB54: 200
A55: =IF(L55="","",COUNTA($L$8:$L55)) | E55: 4.4 Catheter
A56: =IF(L56="","",COUNTA($L$8:$L56)) -> 14 | B56: K76 | C56: K96 | D56: N04.04.010 | E56: Catheter trợ giúp can thiệp | F56: Catheter trợ giúp can thiệp FalconTM Coronary Guiding Catheter | G56: Catheter trợ giúp can thiệp loại 6F JL 4.0 100cm; 6F JR 4.0 100cm Ống và đường viền với độ cứng của ống giảm dần đều từ đoạn gần tới đầu tip, trong đoạn mạch quanh co. - Đầu tip tròn, mềm dẻo (urethane) hiển thị tốt. Cấu trúc 3 đoạn uốn cong. - Tiết diện trong ống rộng 0.071” (size 6F) - Chiều dài khả dụng: 100cm | H56: 01 cái/hộp | I56: Umbra Medical products, Inc/ Mỹ | J56: Cái | L56: 100 | M56: 2300000 | N56: Công ty cổ phẩn thiết bị vật tư y tế Thanh Hóa
A57: =IF(L57="","",COUNTA($L$8:$L57)) | B57: K76.1 | E57: Catheter trợ giúp can thiệp loại 6F JL 4.0 100cm | G57: Catheter trợ giúp can thiệp loại 6F JL 4.0 100cm; 6F JR 4.0 100cm Ống và đường viền với độ cứng của ống giảm dần đều từ đoạn gần tới đầu tip, trong đoạn mạch quanh co. - Đầu tip tròn, mềm dẻo (urethane) hiển thị tốt. Cấu trúc 3 đoạn uốn cong. - Tiết diện trong ống rộng 0.071” (size 6F) - Chiều dài khả dụng: 100cm | H57: 01 cái/hộp | I57: Umbra Medical products, Inc/ Mỹ | J57: Cái | K57: 50 | M57: 2300000 | N57: Công ty cổ phẩn thiết bị vật tư y tế Thanh Hóa | O57: 7875-20 | P57: N04.04.010.241.000030 | Q57: 50
A58: =IF(L58="","",COUNTA($L$8:$L58)) | B58: K76.2 | E58: Catheter trợ giúp can thiệp loại 6F JR 4.0 100cm | G58: Catheter trợ giúp can thiệp loại 6F JL 4.0 100cm; 6F JR 4.0 100cm Ống và đường viền với độ cứng của ống giảm dần đều từ đoạn gần tới đầu tip, trong đoạn mạch quanh co. - Đầu tip tròn, mềm dẻo (urethane) hiển thị tốt. Cấu trúc 3 đoạn uốn cong. - Tiết diện trong ống rộng 0.071” (size 6F) - Chiều dài khả dụng: 100cm | H58: 01 cái/hộp | I58: Umbra Medical products, Inc/ Mỹ | J58: Cái | K58: 50 | M58: 2300000 | N58: Công ty cổ phẩn thiết bị vật tư y tế Thanh Hóa | O58: 7874-20 | P58: N04.04.010.241.000046 | Q58: 50
A59: =IF(L59="","",COUNTA($L$8:$L59)) | E59: Nhóm 5. Kim khâu, chỉ khâu, dao phẫu thuật
A60: =IF(L60="","",COUNTA($L$8:$L60)) | E60: 5.2 Chỉ khâu
A61: =IF(L61="","",COUNTA($L$8:$L61)) -> 15 | B61: K92 | C61: K124 | D61: N05.02.040 | E61: Chỉ phẫu thuật tự tiêu số 2/0 | F61: Chỉ phẫu thuật Oryl 910 số 2/0 | G61: Chỉ tiêu tổng hợp đa sợi Polyglactin 910 (Glycolide-co lactide) được bao phủ bởi Poly (30% glycolide acid và 70% lactide acid) và calcium stearate, số 2-0, dài 75CM. Kim được làm bằng thép không gỉ, kim tròn 26MM, kim 1/2. Duy trì 75% độ căng của chỉ sau 2 tuần, 50% sau 3 tuần, tiêu hoàn toàn trong khoảng từ 56 – 70 ngày. | H61: 12 sợi/ hộp | I61: Orion Sutures (India) Pvt Ltd/ Ấn Độ | J61: Sợi | K61: 1290 | L61: 1290 | M61: 36250 | N61: Công ty cổ phẩn thiết bị vật tư y tế Thanh Hóa | O61: 10D75DZ26 | P61: N05.02.040.YYY.ZZZZZZ | AA61: 100 | AH61: 240 | AJ61: 100 | AQ61: 100 | AS61: 150 | AV61: 600
A62: =IF(L62="","",COUNTA($L$8:$L62)) -> 16 | B62: K93 | C62: K125 | D62: N05.02.040 | E62: Chỉ phẫu thuật tự tiêu số 3/0 | F62: Chỉ phẫu thuật Oryl 910 số 3/0 | G62: Chỉ tiêu tổng hợp đa sợi Polyglactin 910 (Glycolide-co lactide) được bao phủ bởi Poly (30% glycolide acid và 70% lactide acid) và calcium stearate, số 3-0, dài 75CM. Kim được làm bằng thép không gỉ, kim tròn 26MM, kim1/2. Duy trì 75% độ căng của chỉ sau 2 tuần, 50% sau 3 tuần, tiêu hoàn toàn trong khoảng từ 56 – 70 ngày. | H62: 12 sợi/ hộp | I62: Orion Sutures (India) Pvt Ltd/ Ấn Độ | J62: Sợi | K62: 1756 | L62: 1756 | M62: 39520 | N62: Công ty cổ phẩn thiết bị vật tư y tế Thanh Hóa | O62: 10F75DZ26 | P62: N05.02.040.YYY.ZZZZZZ | AA62: 500 | AH62: 360 | AJ62: 36 | AP62: 60 | AS62: 150 | AV62: 600 | BA62: 50
A63: =IF(L63="","",COUNTA($L$8:$L63)) -> 17 | B63: K94 | C63: K126 | D63: N05.02.040 | E63: Chỉ phẫu thuật tự tiêu số 4/0 | F63: Chỉ phẫu thuật Oryl 910 số 4/0 | G63: Chỉ tiêu tổng hợp đa sợi Polyglactin 910 (Glycolide-co lactide) được bao phủ bởi Poly (30% glycolide acid và 70% lactide acid) và calcium stearate, số 4-0, dài 75CM. Kim được làm bằng thép không gỉ, kim tròn 17MM, kim 1/2. Duy trì 75% độ căng của chỉ sau 2 tuần, 50% sau 3 tuần, tiêu hoàn toàn trong khoảng từ 56 – 70 ngày. | H63: 12 sợi/ hộp | I63: Orion Sutures (India) Pvt Ltd/ Ấn Độ | J63: Sợi | K63: 4864 | L63: 4864 | M63: 39200 | N63: Công ty cổ phẩn thiết bị vật tư y tế Thanh Hóa | O63: 10G75DZ17 | P63: N05.02.040.YYY.ZZZZZZ | Q63: 3000 | T63: 1500 | AH63: 240 | AS63: 100 | AV63: 24
A64: =IF(L64="","",COUNTA($L$8:$L64)) | E64: 5.3 Dao phẫu thuật
A65: =IF(L65="","",COUNTA($L$8:$L65)) -> 18 | B65: K108 | C65: K145 + K143 | D65: N05.03.040 | E65: Tay dao mổ điện 3 giắc | F65: Tay dao mổ điện | G65: Lưỡi dao làm bằng thép không rỉ, chiều dài của dây 1000mm trở lên, các dao có 2 nốt ON và OF, phích cắm điện cực gồm 1 chân tiệt trùng bằng khí EO, dùng cho máy mổ điện cao tần 3 giắc. Sử dụng một lần | H65: Túi 1 cái | I65: Yueh Sheng - Đài Loan | J65: Cái | K65: 4115 | L65: 4115 | M65: 29980 | N65: Công ty TNHH thiết bị y tế và hóa chất Hoàng Phương | O65: 80307 | P65: 0 | Q65: 2000 | T65: 60 | U65: 240 | Z65: 115 | AB65: 100 | AD65: 120 | AF65: 50 | AG65: 200 | AI65: 10 | AJ65: 100 | AK65: 80 | AL65: 13 | AM65: 390 | AN65: 20 | AQ65: 10 | AR65: 6 | AS65: 300 | AV65: 8 | AX65: 40 | AY65: 3 | BA65: 50 | BB65: 200
A66: =IF(L66="","",COUNTA($L$8:$L66)) | E66: Nhóm 7. Vật tư y tế sử dụng trong một số chuyên khoa
A67: =IF(L67="","",COUNTA($L$8:$L67)) | E67: 7.5 Tiết niệu
A68: =IF(L68="","",COUNTA($L$8:$L68)) -> 19 | B68: K148 | C68: K195 + K197 | D68: N07.04.100 | E68: Rọ lấy sỏi niệu quản | F68: Rọ lấy sỏi Nitinol | G68: *Rọ lấy sỏi chất liệu Niinol *Có 2 loại: có đầu hoặc không đầu *Các cỡ: 1.9Fr x 90cm; 1.9Fr x 110cm; 2,2Fr x 90cm; 2,2Fr x 110cm; 3Fr x 90cm *Chiều dài rọ 22-28.5mm, đường kính rọ 13.5; 16; 17; 20 mm *Loại rọ: Helical. * tiệt trùng bằng EO. *Tay cầm có thể tháo dời | H68: 1 Cái/ 1 hộp | I68: Geotek medikal/ Thổ Nhĩ Kỳ | J68: Cái | L68: 130 | M68: 1945000 | N68: Công ty cổ phẩn thiết bị vật tư y tế Thanh Hóa | O68: GSBZ…/ GSBN… | P68: N07.04.100
A69: =IF(L69="","",COUNTA($L$8:$L69)) | B69: K148.1 | E69: Rọ lấy sỏi 1.9Fr x 90cm | F69: Rọ lấy sỏi Nitinol | G69: *Rọ lấy sỏi chất liệu Niinol *Có 2 loại: có đầu hoặc không đầu *Các cỡ: 1.9Fr x 90cm; 1.9Fr x 110cm; 2,2Fr x 90cm; 2,2Fr x 110cm; 3Fr x 90cm *Chiều dài rọ 22-28.5mm, đường kính rọ 13.5; 16; 17; 20 mm *Loại rọ: Helical. * tiệt trùng bằng EO. *Tay cầm có thể tháo dời | H69: 1 Cái/ 1 hộp | I69: Geotek medikal/ Thổ Nhĩ Kỳ | J69: Cái | K69: 26 | M69: 1945000 | N69: Công ty cổ phẩn thiết bị vật tư y tế Thanh Hóa | O69: GSBZ1990 GSBN1990 | P69: N07.04.100.300.000002 | Q69: 1 | AD69: 7 | AL69: 10 | AV69: 2 | AX69: 6
A70: =IF(L70="","",COUNTA($L$8:$L70)) | B70: K148.2 | E70: Rọ lấy sỏi 1.9Fr x 110cm | F70: Rọ lấy sỏi Nitinol | G70: *Rọ lấy sỏi chất liệu Niinol *Có 2 loại: có đầu hoặc không đầu *Các cỡ: 1.9Fr x 90cm; 1.9Fr x 110cm; 2,2Fr x 90cm; 2,2Fr x 110cm; 3Fr x 90cm *Chiều dài rọ 22-28.5mm, đường kính rọ 13.5; 16; 17; 20 mm *Loại rọ: Helical. * tiệt trùng bằng EO. *Tay cầm có thể tháo dời | H70: 1 Cái/ 1 hộp | I70: Geotek medikal/ Thổ Nhĩ Kỳ | J70: Cái | K70: 41 | M70: 1945000 | N70: Công ty cổ phẩn thiết bị vật tư y tế Thanh Hóa | O70: GSBZ19110 GSBN19110 | P70: N07.04.100.300.000003 | AD70: 1 | AE70: 20 | AP70: 20
A71: =IF(L71="","",COUNTA($L$8:$L71)) | B71: K148.3 | E71: Rọ lấy sỏi 2.2Fr x 90cm | F71: Rọ lấy sỏi Nitinol | G71: *Rọ lấy sỏi chất liệu Niinol *Có 2 loại: có đầu hoặc không đầu *Các cỡ: 1.9Fr x 90cm; 1.9Fr x 110cm; 2,2Fr x 90cm; 2,2Fr x 110cm; 3Fr x 90cm *Chiều dài rọ 22-28.5mm, đường kính rọ 13.5; 16; 17; 20 mm *Loại rọ: Helical. * tiệt trùng bằng EO. *Tay cầm có thể tháo dời | H71: 1 Cái/ 1 hộp | I71: Geotek medikal/ Thổ Nhĩ Kỳ | J71: Cái | K71: 16 | M71: 1945000 | N71: Công ty cổ phẩn thiết bị vật tư y tế Thanh Hóa | O71: GSBZ2290 GSBN2290 | P71: N07.04.100.300.000004 | AB71: 10 | AD71: 1 | AI71: 5
A72: =IF(L72="","",COUNTA($L$8:$L72)) | B72: K148.4 | E72: Rọ lấy sỏi 2.2Fr x 110cm | F72: Rọ lấy sỏi Nitinol | G72: *Rọ lấy sỏi chất liệu Niinol *Có 2 loại: có đầu hoặc không đầu *Các cỡ: 1.9Fr x 90cm; 1.9Fr x 110cm; 2,2Fr x 90cm; 2,2Fr x 110cm; 3Fr x 90cm *Chiều dài rọ 22-28.5mm, đường kính rọ 13.5; 16; 17; 20 mm *Loại rọ: Helical. * tiệt trùng bằng EO. *Tay cầm có thể tháo dời | H72: 1 Cái/ 1 hộp | I72: Geotek medikal/ Thổ Nhĩ Kỳ | J72: Cái | K72: 36 | M72: 1945000 | N72: Công ty cổ phẩn thiết bị vật tư y tế Thanh Hóa | O72: GSBZ22110 GSBN22110 | P72: N07.04.100.300.000005 | AB72: 15 | AD72: 1 | AE72: 20
A73: =IF(L73="","",COUNTA($L$8:$L73)) | B73: K148.5 | E73: Rọ lấy sỏi 3Fr x 90cm | F73: Rọ lấy sỏi Nitinol | G73: *Rọ lấy sỏi chất liệu Niinol *Có 2 loại: có đầu hoặc không đầu *Các cỡ: 1.9Fr x 90cm; 1.9Fr x 110cm; 2,2Fr x 90cm; 2,2Fr x 110cm; 3Fr x 90cm *Chiều dài rọ 22-28.5mm, đường kính rọ 13.5; 16; 17; 20 mm *Loại rọ: Helical. * tiệt trùng bằng EO. *Tay cầm có thể tháo dời | H73: 1 Cái/ 1 hộp | I73: Geotek medikal/ Thổ Nhĩ Kỳ | J73: Cái | K73: 11 | M73: 1945000 | N73: Công ty cổ phẩn thiết bị vật tư y tế Thanh Hóa | O73: GSBZ390 GSBN390 | P73: N07.04.100.300.000006 | AD73: 1 | AG73: 10
A74: =IF(L74="","",COUNTA($L$8:$L74)) | B74: KB161 | E74: Bộ nẹp vít khoá titan dùng cho xương đòn 6-10 lỗ (Gồm 01 Nẹp khóa + 08 vít khóa) | J74: Bộ | N74: Công ty cổ phẩn thiết bị vật tư y tế Thanh Hóa
A75: =IF(L75="","",COUNTA($L$8:$L75)) -> 20 | B75: KB161.1 | C75: KB210.1 | D75: N07.06.040 | E75: Nẹp khóa xương đòn chữ S trái, phải | F75: Nẹp khóa xương đòn chữ S trái, phải | G75: Rộng 10.4mm; dày 3.2mm; chiều dài của nẹp từ 88.25mm - 134mm; chỉ định dùng ở vị trí xương đòn - Số lỗ trên thân nẹp: từ 6; 7; 8 lỗ trái/ phải; 9 lỗ trái - chất liệu Titan | H75: 1 cái/túi | I75: XinrongBest Trung Quốc | J75: Cái | L75: 219 | M75: 3985000 | N75: Công ty cổ phẩn thiết bị vật tư y tế Thanh Hóa
A76: =IF(L76="","",COUNTA($L$8:$L76)) | B76: KB161.1.1 | E76: Nẹp khóa xương đòn chữ S (Ti) trái 6 lỗ | G76: Rộng 10.4mm; dày 3.2mm; chiều dài của nẹp từ 88.25mm - 134mm; chỉ định dùng ở vị trí xương đòn - Số lỗ trên thân nẹp: từ 6; 7; 8 lỗ trái/ phải; 9 lỗ trái - chất liệu Titan | H76: 1 cái/túi | I76: XinrongBest Trung Quốc | J76: Cái | K76: 57 | M76: 3985000 | N76: Công ty cổ phẩn thiết bị vật tư y tế Thanh Hóa | O76: 6123-3106 | P76: N07.06.040.485.ZZZZZZ | Q76: 50 | AI76: 2 | AP76: 3 | AY76: 2
A77: =IF(L77="","",COUNTA($L$8:$L77)) | B77: KB161.1.2 | E77: Nẹp khóa xương đòn chữ S (Ti) trái 7 lỗ | G77: Rộng 10.4mm; dày 3.2mm; chiều dài của nẹp từ 88.25mm - 134mm; chỉ định dùng ở vị trí xương đòn - Số lỗ trên thân nẹp: từ 6; 7; 8 lỗ trái/ phải; 9 lỗ trái - chất liệu Titan | H77: 1 cái/túi | I77: XinrongBest Trung Quốc | J77: Cái | K77: 9 | M77: 3985000 | N77: Công ty cổ phẩn thiết bị vật tư y tế Thanh Hóa | O77: 6123-3107 | P77: N07.06.040.485.ZZZZZZ | AI77: 2 | AL77: 4 | AP77: 3
A78: =IF(L78="","",COUNTA($L$8:$L78)) | B78: KB161.1.3 | E78: Nẹp khóa xương đòn chữ S (Ti) trái 8 lỗ | G78: Rộng 10.4mm; dày 3.2mm; chiều dài của nẹp từ 88.25mm - 134mm; chỉ định dùng ở vị trí xương đòn - Số lỗ trên thân nẹp: từ 6; 7; 8 lỗ trái/ phải; 9 lỗ trái - chất liệu Titan | H78: 1 cái/túi | I78: XinrongBest Trung Quốc | J78: Cái | K78: 41 | M78: 3985000 | N78: Công ty cổ phẩn thiết bị vật tư y tế Thanh Hóa | O78: 6123-3108 | P78: N07.06.040.485.ZZZZZZ | Q78: 30 | AH78: 2 | AI78: 2 | AP78: 5 | AU78: 2
A79: =IF(L79="","",COUNTA($L$8:$L79)) | B79: KB161.1.4 | E79: Nẹp khóa xương đòn chữ S (Ti) trái 9 lỗ | G79: Rộng 10.4mm; dày 3.2mm; chiều dài của nẹp từ 88.25mm - 134mm; chỉ định dùng ở vị trí xương đòn - Số lỗ trên thân nẹp: từ 6; 7; 8 lỗ trái/ phải; 9 lỗ trái - chất liệu Titan | H79: 1 cái/túi | I79: XinrongBest Trung Quốc | J79: Cái | K79: 50 | M79: 3985000 | N79: Công ty cổ phẩn thiết bị vật tư y tế Thanh Hóa | O79: 6123-3109 | P79: N07.06.040.485.ZZZZZZ | Q79: 50
A80: =IF(L80="","",COUNTA($L$8:$L80)) | B80: KB161.1.5 | E80: Nẹp khóa xương đòn chữ S (Ti) phải 6 lỗ | G80: Rộng 10.4mm; dày 3.2mm; chiều dài của nẹp từ 88.25mm - 134mm; chỉ định dùng ở vị trí xương đòn - Số lỗ trên thân nẹp: từ 6; 7; 8 lỗ trái/ phải; 9 lỗ trái - chất liệu Titan | H80: 1 cái/túi | I80: XinrongBest Trung Quốc | J80: Cái | K80: 39 | M80: 3985000 | N80: Công ty cổ phẩn thiết bị vật tư y tế Thanh Hóa | O80: 6123-3206 | P80: N07.06.040.485.ZZZZZZ | Q80: 30 | AI80: 2 | AP80: 5 | AY80: 2
A81: =IF(L81="","",COUNTA($L$8:$L81)) | B81: KB161.1.6 | E81: Nẹp khóa xương đòn chữ S (Ti) phải 7 lỗ | G81: Rộng 10.4mm; dày 3.2mm; chiều dài của nẹp từ 88.25mm - 134mm; chỉ định dùng ở vị trí xương đòn - Số lỗ trên thân nẹp: từ 6; 7; 8 lỗ trái/ phải; 9 lỗ trái - chất liệu Titan | H81: 1 cái/túi | I81: XinrongBest Trung Quốc | J81: Cái | K81: 9 | M81: 3985000 | N81: Công ty cổ phẩn thiết bị vật tư y tế Thanh Hóa | O81: 6123-3207 | P81: N07.06.040.485.ZZZZZZ | AI81: 2 | AL81: 4 | AP81: 3
A82: =IF(L82="","",COUNTA($L$8:$L82)) | B82: KB161.1.7 | E82: Nẹp khóa xương đòn chữ S (Ti) phải 8 lỗ | G82: Rộng 10.4mm; dày 3.2mm; chiều dài của nẹp từ 88.25mm - 134mm; chỉ định dùng ở vị trí xương đòn - Số lỗ trên thân nẹp: từ 6; 7; 8 lỗ trái/ phải; 9 lỗ trái - chất liệu Titan | H82: 1 cái/túi | I82: XinrongBest Trung Quốc | J82: Cái | K82: 14 | M82: 3985000 | N82: Công ty cổ phẩn thiết bị vật tư y tế Thanh Hóa | O82: 6123-3208 | P82: N07.06.040.485.ZZZZZZ | AH82: 2 | AI82: 2 | AP82: 8 | AU82: 2
A83: =IF(L83="","",COUNTA($L$8:$L83)) -> 21 | B83: KB161.2 | C83: KB210.2 | D83: N07.06.040 | E83: Vít khóa titan | F83: Vít khóa titan đường kính 3.5 mm | G83: kiểu vít tự taro chất liệu titan - đường kính ren 3.5mm; ren toàn phần - chiều dài 10mm; 12mm; 14mm; 16mm; 18mm; 20mm; 22mm; 24mm; 26mm; 28mm; 30mm; 32mm; 34mm - chất liệu Titan | H83: 1 cái/túi | I83: XinrongBest Trung Quốc | J83: Cái | L83: 1853 | M83: 252000 | N83: Công ty cổ phẩn thiết bị vật tư y tế Thanh Hóa
A84: =IF(L84="","",COUNTA($L$8:$L84)) | B84: KB161.2.1 | E84: Vít khóa (Ti) Ø 3.5mm, dài 10mm | G84: kiểu vít tự taro chất liệu titan - đường kính ren 3.5mm; ren toàn phần - chiều dài 10mm; 12mm; 14mm; 16mm; 18mm; 20mm; 22mm; 24mm; 26mm; 28mm; 30mm; 32mm; 34mm - chất liệu Titan | H84: 1 cái/túi | I84: XinrongBest Trung Quốc | J84: Cái | K84: 15 | M84: 252000 | N84: Công ty cổ phẩn thiết bị vật tư y tế Thanh Hóa | O84: 6511-2110 | P84: N07.06.040.485.ZZZZZZ | AP84: 15
A85: =IF(L85="","",COUNTA($L$8:$L85)) | B85: KB161.2.2 | E85: Vít khóa (Ti) Ø 3.5mm, dài 12mm | G85: kiểu vít tự taro chất liệu titan - đường kính ren 3.5mm; ren toàn phần - chiều dài 10mm; 12mm; 14mm; 16mm; 18mm; 20mm; 22mm; 24mm; 26mm; 28mm; 30mm; 32mm; 34mm - chất liệu Titan | H85: 1 cái/túi | I85: XinrongBest Trung Quốc | J85: Cái | K85: 35 | M85: 252000 | N85: Công ty cổ phẩn thiết bị vật tư y tế Thanh Hóa | O85: 6511-2112 | P85: N07.06.040.485.ZZZZZZ | AL85: 20 | AP85: 15
A86: =IF(L86="","",COUNTA($L$8:$L86)) | B86: KB161.2.3 | E86: Vít khóa (Ti) Ø 3.5mm, dài 14mm | G86: kiểu vít tự taro chất liệu titan - đường kính ren 3.5mm; ren toàn phần - chiều dài 10mm; 12mm; 14mm; 16mm; 18mm; 20mm; 22mm; 24mm; 26mm; 28mm; 30mm; 32mm; 34mm - chất liệu Titan | H86: 1 cái/túi | I86: XinrongBest Trung Quốc | J86: Cái | K86: 35 | M86: 252000 | N86: Công ty cổ phẩn thiết bị vật tư y tế Thanh Hóa | O86: 6511-2114 | P86: N07.06.040.485.ZZZZZZ | AL86: 20 | AP86: 15
A87: =IF(L87="","",COUNTA($L$8:$L87)) | B87: KB161.2.4 | E87: Vít khóa (Ti) Ø 3.5mm, dài 16mm | G87: kiểu vít tự taro chất liệu titan - đường kính ren 3.5mm; ren toàn phần - chiều dài 10mm; 12mm; 14mm; 16mm; 18mm; 20mm; 22mm; 24mm; 26mm; 28mm; 30mm; 32mm; 34mm - chất liệu Titan | H87: 1 cái/túi | I87: XinrongBest Trung Quốc | J87: Cái | K87: 39 | M87: 252000 | N87: Công ty cổ phẩn thiết bị vật tư y tế Thanh Hóa | O87: 6511-2116 | P87: N07.06.040.485.000202 | AP87: 15 | AY87: 24
A88: =IF(L88="","",COUNTA($L$8:$L88)) | B88: KB161.2.5 | E88: Vít khóa (Ti) Ø 3.5mm, dài 18mm | G88: kiểu vít tự taro chất liệu titan - đường kính ren 3.5mm; ren toàn phần - chiều dài 10mm; 12mm; 14mm; 16mm; 18mm; 20mm; 22mm; 24mm; 26mm; 28mm; 30mm; 32mm; 34mm - chất liệu Titan | H88: 1 cái/túi | I88: XinrongBest Trung Quốc | J88: Cái | K88: 947 | M88: 252000 | N88: Công ty cổ phẩn thiết bị vật tư y tế Thanh Hóa | O88: 6511-2118 | P88: N07.06.040.485.000203 | Q88: 880 | AP88: 15 | AU88: 40 | AY88: 12
A89: =IF(L89="","",COUNTA($L$8:$L89)) | B89: KB161.2.6 | E89: Vít khóa (Ti) Ø 3.5mm, dài 20mm | G89: kiểu vít tự taro chất liệu titan - đường kính ren 3.5mm; ren toàn phần - chiều dài 10mm; 12mm; 14mm; 16mm; 18mm; 20mm; 22mm; 24mm; 26mm; 28mm; 30mm; 32mm; 34mm - chất liệu Titan | H89: 1 cái/túi | I89: XinrongBest Trung Quốc | J89: Cái | K89: 610 | M89: 252000 | N89: Công ty cổ phẩn thiết bị vật tư y tế Thanh Hóa | O89: 6511-2120 | P89: N07.06.040.485.000204 | Q89: 600 | AP89: 10
A90: =IF(L90="","",COUNTA($L$8:$L90)) | B90: KB161.2.7 | E90: Vít khóa (Ti) Ø 3.5mm, dài 22mm | G90: kiểu vít tự taro chất liệu titan - đường kính ren 3.5mm; ren toàn phần - chiều dài 10mm; 12mm; 14mm; 16mm; 18mm; 20mm; 22mm; 24mm; 26mm; 28mm; 30mm; 32mm; 34mm - chất liệu Titan | H90: 1 cái/túi | I90: XinrongBest Trung Quốc | J90: Cái | K90: 30 | M90: 252000 | N90: Công ty cổ phẩn thiết bị vật tư y tế Thanh Hóa | O90: 6511-2122 | P90: N07.06.040.485.000205 | AI90: 20 | AP90: 10
A91: =IF(L91="","",COUNTA($L$8:$L91)) | B91: KB161.2.8 | E91: Vít khóa (Ti) Ø 3.5mm, dài 24mm | G91: kiểu vít tự taro chất liệu titan - đường kính ren 3.5mm; ren toàn phần - chiều dài 10mm; 12mm; 14mm; 16mm; 18mm; 20mm; 22mm; 24mm; 26mm; 28mm; 30mm; 32mm; 34mm - chất liệu Titan | H91: 1 cái/túi | I91: XinrongBest Trung Quốc | J91: Cái | K91: 36 | M91: 252000 | N91: Công ty cổ phẩn thiết bị vật tư y tế Thanh Hóa | O91: 6511-2124 | P91: N07.06.040.485.000206 | AH91: 16 | AI91: 20
A92: =IF(L92="","",COUNTA($L$8:$L92)) | B92: KB161.2.9 | E92: Vít khóa (Ti) Ø 3.5mm, dài 26mm | G92: kiểu vít tự taro chất liệu titan - đường kính ren 3.5mm; ren toàn phần - chiều dài 10mm; 12mm; 14mm; 16mm; 18mm; 20mm; 22mm; 24mm; 26mm; 28mm; 30mm; 32mm; 34mm - chất liệu Titan | H92: 1 cái/túi | I92: XinrongBest Trung Quốc | J92: Cái | K92: 20 | M92: 252000 | N92: Công ty cổ phẩn thiết bị vật tư y tế Thanh Hóa | O92: 6511-2126 | P92: N07.06.040.485.000207 | AI92: 20
A93: =IF(L93="","",COUNTA($L$8:$L93)) | B93: KB161.2.10 | E93: Vít khóa (Ti) Ø 3.5mm, dài 28mm | G93: kiểu vít tự taro chất liệu titan - đường kính ren 3.5mm; ren toàn phần - chiều dài 10mm; 12mm; 14mm; 16mm; 18mm; 20mm; 22mm; 24mm; 26mm; 28mm; 30mm; 32mm; 34mm - chất liệu Titan | H93: 1 cái/túi | I93: XinrongBest Trung Quốc | J93: Cái | K93: 36 | M93: 252000 | N93: Công ty cổ phẩn thiết bị vật tư y tế Thanh Hóa | O93: 6511-2128 | P93: N07.06.040.485.000208 | AH93: 16 | AI93: 20
A94: =IF(L94="","",COUNTA($L$8:$L94)) | B94: KB161.2.11 | E94: Vít khóa (Ti) Ø 3.5mm, dài 30mm | G94: kiểu vít tự taro chất liệu titan - đường kính ren 3.5mm; ren toàn phần - chiều dài 10mm; 12mm; 14mm; 16mm; 18mm; 20mm; 22mm; 24mm; 26mm; 28mm; 30mm; 32mm; 34mm - chất liệu Titan | H94: 1 cái/túi | I94: XinrongBest Trung Quốc | J94: Cái | K94: 20 | M94: 252000 | N94: Công ty cổ phẩn thiết bị vật tư y tế Thanh Hóa | O94: 6511-2130 | P94: N07.06.040.485.000209 | AI94: 20
A95: =IF(L95="","",COUNTA($L$8:$L95)) | B95: KB161.2.12 | E95: Vít khóa (Ti) Ø 3.5mm, dài 32mm | G95: kiểu vít tự taro chất liệu titan - đường kính ren 3.5mm; ren toàn phần - chiều dài 10mm; 12mm; 14mm; 16mm; 18mm; 20mm; 22mm; 24mm; 26mm; 28mm; 30mm; 32mm; 34mm - chất liệu Titan | H95: 1 cái/túi | I95: XinrongBest Trung Quốc | J95: Cái | K95: 20 | M95: 252000 | N95: Công ty cổ phẩn thiết bị vật tư y tế Thanh Hóa | O95: 6511-2132 | P95: N07.06.040.485.000210 | AI95: 20
A96: =IF(L96="","",COUNTA($L$8:$L96)) | B96: KB161.2.13 | E96: Vít khóa (Ti) Ø 3.5mm, dài 34mm | G96: kiểu vít tự taro chất liệu titan - đường kính ren 3.5mm; ren toàn phần - chiều dài 10mm; 12mm; 14mm; 16mm; 18mm; 20mm; 22mm; 24mm; 26mm; 28mm; 30mm; 32mm; 34mm - chất liệu Titan | H96: 1 cái/túi | I96: XinrongBest Trung Quốc | J96: Cái | K96: 10 | M96: 252000 | N96: Công ty cổ phẩn thiết bị vật tư y tế Thanh Hóa | O96: 6511-2134 | P96: N07.06.040.485.000211 | AI96: 10
A97: =IF(L97="","",COUNTA($L$8:$L97)) | B97: KB163 | E97: Bộ nẹp vít khóa titan lòng máng 4-14 lỗ dùng cho các trường hợp gãy xương đòn, xương cánh tay, xương quay (Gồm 01 Nẹp khóa + 08 vít khóa) | J97: Bộ | N97: Công ty cổ phẩn thiết bị vật tư y tế Thanh Hóa
A98: =IF(L98="","",COUNTA($L$8:$L98)) -> 22 | B98: KB163.1 | C98: KB212.1 | D98: N07.06.040 | E98: Nẹp khóa lòng máng 4-14 lỗ.Titan | F98: Nẹp khóa lòng máng 4-14 lỗ.Titan | G98: rộng 9,70mm; dày 1.0mm; chiều dài của nẹp từ 58mm - 188mm; - Số lỗ trên thân nẹp 6; 8 lỗ - chất liệu Titan | H98: 1 cái/túi | I98: XinrongBest Trung Quốc | J98: Cái | L98: 44 | M98: 3128000 | N98: Công ty cổ phẩn thiết bị vật tư y tế Thanh Hóa
A99: =IF(L99="","",COUNTA($L$8:$L99)) | B99: KB163.1.1 | E99: Nẹp khóa lòng máng 6 lỗ | G99: rộng 9,70mm; dày 1.0mm; chiều dài của nẹp từ 58mm - 188mm; - Số lỗ trên thân nẹp 6; 8 lỗ - chất liệu Titan | H99: 1 cái/túi | I99: XinrongBest Trung Quốc | J99: Cái | K99: 22 | M99: 3128000 | N99: Công ty cổ phẩn thiết bị vật tư y tế Thanh Hóa | O99: 6118-3006 | P99: N07.06.040.485.000181 | Q99: 20 | AY99: 2
A100: =IF(L100="","",COUNTA($L$8:$L100)) | B100: KB163.1.2 | E100: Nẹp khóa lòng máng 8 lỗ | G100: rộng 9,70mm; dày 1.0mm; chiều dài của nẹp từ 58mm - 188mm; - Số lỗ trên thân nẹp 6; 8 lỗ - chất liệu Titan | H100: 1 cái/túi | I100: XinrongBest Trung Quốc | J100: Cái | K100: 22 | M100: 3128000 | N100: Công ty cổ phẩn thiết bị vật tư y tế Thanh Hóa | O100: 6118-3008 | P100: N07.06.040.485.000183 | Q100: 20 | AH100: 2
A101: =IF(L101="","",COUNTA($L$8:$L101)) -> 23 | B101: KB163.2 | C101: KB212.2 | D101: N07.06.040 | E101: Vít khóa titan đường kính 3.5 mm | F101: Vít khóa titan đường kính 3.5 mm | G101: kiểu vít tự taro - đường kính ren 3.5mm; ren toàn phần - chiều dài 16mm; 18mm; 20mm; 28mm; 32mm - chất liệu Titan | H101: 10 cái/túi | I101: XinrongBest Trung Quốc | J101: Cái | L101: 308 | M101: 252000 | N101: Công ty cổ phẩn thiết bị vật tư y tế Thanh Hóa
A102: =IF(L102="","",COUNTA($L$8:$L102)) | B102: KB163.2.1 | E102: Vít khóa (Ti) Ø 3.5mm, dài 16mm | G102: kiểu vít tự taro - đường kính ren 3.5mm; ren toàn phần - chiều dài 16mm; 18mm; 20mm; 28mm; 32mm - chất liệu Titan | H102: 10 cái/túi | I102: XinrongBest Trung Quốc | J102: Cái | K102: 12 | M102: 252000 | N102: Công ty cổ phẩn thiết bị vật tư y tế Thanh Hóa | O102: 6511-2116 | P102: N07.06.040.485.000202 | AY102: 12
...
