Workbook

Sheet DM VTYT trúng thầu (rút gọn)
A1: DANH MỤC VẬT TƯ Y TẾ TRÚNG THẦU (LẦN 2)
A2: ( Đính kèm Quyết định số 1134/QĐ-SYT ngày 17/11/2021 của Giám đốc Sở Y tế Thanh Hóa)
A3: STT | B3: Mã hàng hóa | C3: Tên thương mại trúng thầu | D3: Quy cách đóng gói | E3: Đặc tính thông số kỹ thuật trúng thầu | F3: Hãng sản xuất/ Nước sản xuất | G3: Nhóm TCKT theo TT 14/2020 | H3: ĐVT | I3: Số lượng trúng thầu | J3: Giá trúng thầu | K3: Thành tiền | L3: Nhà thầu trúng thầu
A4: =IF(I4="","",COUNTA($I$4:$I4)) -> 1 | B4: G17 | C4: Miếng cầm máu tại mũi 22-60402 | D4: 10 Miếng/hộp | E4: Thành phần: Hydroxilated Poly-Vinyl Acetate. kích thước 8 cm x 1,5 cm x 2 cm. - Khả năng thấm hút tốt: Lên tới 21 lần trọng lượng ban đầu khi ở trong chất lỏng. - Kích thước lỗ nhỏ. | F4: Invotec/ Mỹ | G4: Nhóm 3 | H4: Miếng | I4: 1246 | J4: 94500 | K4: =I4*J4 -> 117747000 | L4: Viện Trang thiết bị và Công trình Y tế
A5: =IF(I5="","",COUNTA($I$4:$I5)) -> 2 | B5: G31 | C5: Kim chọc dò và gây tê tủy sống số 22 | D5: 25 cái/hộp | E5: • Kim gây tê tủy sống đầu Quinck có 3 mặt vát sắc. • Thiết kế lăng kính pha lê phản quang trong chuôi kim ( Lăng kính có màu sáng bạc trước khi có dịch não tuỷ chảy ra, lăng kính chuyển sang trong suốt khi có dịch não tuỷ chảy ra). + Kim 22G 3⅟₂: chiều dài: 88mm (3 ⅟₂ inch), đường kính: 0.7 mm • Que thông nòng có màu theo quy ước | F5: Nipro Corporation/ Nhật Bản | G5: Nhóm 3 | H5: Cái | I5: 2160 | J5: 22300 | K5: =I5*J5 -> 48168000 | L5: Công ty TNHH thương mại đầu tư Việt Nam
A6: =IF(I6="","",COUNTA($I$4:$I6)) -> 3 | B6: G32 | C6: Kim chọc dò và gây tê tủy sống số 25 | D6: 25 cái/hộp | E6: • Kim gây tê tủy sống đầu Quinck có 3 mặt vát sắc. • Thiết kế chuôi kim cải tiến • Thiết kế lăng kính pha lê phản quang trong chuôi kim( Lăng kính có màu sáng bạc trước khi có dịch não tuỷ chảy ra, lăng kính chuyển sang trong suốt khi có dịch não tuỷ chảy ra). + Kim 25G 3⅟₂: chiều dài: 88mm (3 ⅟₂ inch), đường kính: 0.5 mm • Que thông nòng có màu theo quy ước | F6: Nipro Corporation/ Nhật Bản | G6: Nhóm 3 | H6: Cái | I6: 15320 | J6: 22300 | K6: =I6*J6 -> 341636000 | L6: Công ty TNHH thương mại đầu tư Việt Nam
A7: =IF(I7="","",COUNTA($I$4:$I7)) -> 4 | B7: G65 | C7: Ống dẫn lưu đường mật qua da có khóa HS General Purpose | D7: 01 cái/ túi | E7: Chiều dài: Từ 25cm đến 30 cm; - Đường kính: Từ 6Fr đến 16Fr; - Khả năng tương thích dây dẫn: 0.035 "; - Làm bằng chất liệu polyurethanen - Phần xoắn với lỗ thông lớn - Hệ thống ma sát thấp, chống xoắn, tương thích sinh học cao, đàn hồi tốt - Hệ thống locking - Trọn bộ bao gồm: dao nhọn hình tam giác, và dụng cụ làm cứng ống dẫn lưu, ống dẫn lưu phủ Hydrophilic và khoá | F7: HS Hospital Service/Ý | G7: Nhóm 3 | H7: Cái | I7: 50 | J7: 1800000 | K7: =I7*J7 -> 90000000 | L7: Công ty cổ phẩn thiết bị vật tư y tế Thanh Hóa
A8: =IF(I8="","",COUNTA($I$4:$I8)) -> 5 | B8: G70 | C8: Manifolds 3 cổng Medk | D8: 1 cái/ túi | E8: Bộ phận kết nối 3 cổng ( Có thêm loại 2 và 4 cổng đáp ứng nhu cầu khác nhau của khách hàng). Áp lực 200, 500, 600 PSI, cổng xoay phải On hoặc OFF. Gắn khớp với dây nối. Khóa dễ chỉnh, chắc chắn. Vật liệu Polycarbonate với đường kính ống 0,093" . Riêng đối với loại có 3 cổng ( Có sẵn dây nối dài 20cm đối với cổng kết nối dạng xoay) * Thiết kế khóa vặn chỗ tay cầm trơn tru với 3 màu sắc: Xanh, trắng, đỏ * Thân trong suốt giúp quan sát dễ dàng. | F8: Medk GmbH /Đức | G8: Nhóm 3 | H8: Cái | I8: 200 | J8: 170000 | K8: =I8*J8 -> 34000000 | L8: Công ty cổ phẩn thiết bị vật tư y tế Thanh Hóa
A9: =IF(I9="","",COUNTA($I$4:$I9)) -> 6 | B9: G75 | C9: Ống thông (catheter) chụp mạch ngoại biên Radifocus Glidecath | D9: Hộp/ 3 cái | E9: Kích thước 5Fr dài 65, 70, 80, 100cm. Trục linh hoạt, phủ lớp ái nước M Coat. Lòng rộng 1.1mm đối với catheter cỡ 5F. Cấu trúc 3 lớp: Lớp giữa là lớp đan kép, Lớp trong là Nylon-polyurethane. Lớp ngoài là Polyurethane elastomer. Tiệt trùng: Oxide Ethylene. | F9: Ashitaka Factory of Terumo Corporation/ Nhật Bản | G9: Nhóm 3 | H9: Cái | I9: 558 | J9: 950000 | K9: =I9*J9 -> 530100000 | L9: Công ty cổ phẩn thiết bị vật tư y tế Thanh Hóa
A10: =IF(I10="","",COUNTA($I$4:$I10)) -> 7 | B10: G77 | C10: Ống thông can thiệp FalconTM Coronary Guiding Catheter | D10: Hộp 1 cái | E10: Cỡ 6F - Mềm vừa phải, đầu tip mềm - Đầy đủ hình dạng để đưa được đến đích - 7cm đoạn đầu tip và 25 cm đoạn tay cầm không phủ ái nước - Cỡ 6Fr có lòng rộng 0,071" đủ để đưa được 2 bóng nong động mạch vành. | F10: Umbra Medical products, Inc/ Mỹ | G10: Nhóm 3 | H10: Cái | I10: 200 | J10: 1980000 | K10: =I10*J10 -> 396000000 | L10: Công ty cổ phẩn thiết bị vật tư y tế Thanh Hóa
A11: =IF(I11="","",COUNTA($I$4:$I11)) -> 8 | B11: G80 | C11: Ống thông can thiệp FalconTM Coronary Guiding Catheter | D11: 01 cái/hộp | E11: Cấu tạo 3 lớp: Lớp trong nhẵn là PTFE, Lớp đan kép bằng lưới kim loại ở giữa, lớp vỏ ngoài được làm mềm ở đoạn xa. Đầu mềm .Có loại 5F đầu thẳng để luồn trong ống thông 6Fr . Cỡ 6F có đường kính trong 0,071 inch, đường kính ngoài 0.081 inch. Cỡ 5F có đường kính trong 0,058 inch, đường kính ngoài 0.069 inch.Có khả năng nhớ, giữ được hình dạng tiêu chuẩn sau khi đi qua đoạn mạch cong queo. Kích thước: cỡ 6Fr dài 85 cm, 100cm, 120cm, thiết kế đầu dạng JR Tiệt trùng: Oxide Ethylene. | F11: Umbra Medical products, Inc/ Mỹ | G11: Nhóm 3 | H11: Cái | I11: 100 | J11: 1980000 | K11: =I11*J11 -> 198000000 | L11: Công ty cổ phẩn thiết bị vật tư y tế Thanh Hóa
A12: =IF(I12="","",COUNTA($I$4:$I12)) -> 9 | B12: G109 | C12: Marlin Violet số 1 | D12: Hộp 24 sợi | E12: Chỉ tiêu tổng hợp Polyglycolic acid sợi bện số 1, được bao bọc bởi lớp canxi stearat, este sacaroza-axit béo và polycaprolacton. KT dài 90cm, Kim tròn dài 40mm, kim cong 1/2; Sức căng còn 50% sau 14-16 ngày, tiêu hoàn toàn trong khoảng 90 đến 105 ngày. | F12: Catgut GmbH/ Đức | G12: Nhóm 3 | H12: Sợi | I12: 23455 | J12: 81000 | K12: =I12*J12 -> 1899855000 | L12: Công ty cổ phần đầu tư và phát triển y tế Việt Anh SM
A13: =IF(I13="","",COUNTA($I$4:$I13)) -> 10 | B13: G111 | C13: Marlin Violet số 2/0 | D13: Hộp 24 sợi | E13: Chỉ tiêu tổng hợp Polyglycolic acid sợi bện số 2/0, được bao bọc bởi lớp canxi stearat, este sacaroza-axit béo và polycaprolacton. KT dài 70cm, Kim tròn dài 26mm, kim cong 1/2. Sức căng còn 50% sau 14-16 ngày, tiêu hoàn toàn trong khoảng 90 đến 105 ngày. | F13: Catgut GmbH/ Đức | G13: Nhóm 3 | H13: Sợi | I13: 3078 | J13: 81500 | K13: =I13*J13 -> 250857000 | L13: Công ty cổ phần đầu tư và phát triển y tế Việt Anh SM
A14: =IF(I14="","",COUNTA($I$4:$I14)) -> 11 | B14: G113 | C14: Marlin Violet số 4/0 | D14: Hộp 24 sợi | E14: Chỉ tiêu tổng hợp Polyglycolic acid sợi bện số 4/0, được bao bọc bởi lớp Calcium stearate, este sacaroza-axit béo và polycaprolactone. KT dài 70cm, Kim tròn dài 22mm, kim cong 1/2; Sức căng còn 50% sau 14-16 ngày, tiêu hoàn toàn trong khoảng 90 đến 105 ngày. | F14: Catgut GmbH/ Đức | G14: Nhóm 3 | H14: Sợi | I14: 11080 | J14: 81500 | K14: =I14*J14 -> 903020000 | L14: Công ty cổ phần đầu tư và phát triển y tế Việt Anh SM
A15: =IF(I15="","",COUNTA($I$4:$I15)) -> 12 | B15: G145 | C15: Thủy tinh thể mềm Sensar 1 | D15: Hộp 1 cái | E15: Thủy tinh thể mềm 1 mảnh, chất liệu Acrylic Hydrophobic; thiết kế 3 điểm cố định túi bao; bờ sau vuông liên tục 360 độ, được xử lý mờ chống chói; chỉ số khúc xạ 1.47; hằng số A: 118,4; ACD: 5,2mm; dải công suất từ +6D đến +30D, chỉ số Abbe 55, càng chữ C, đường kính phần quang học 6mm; chiều dài tổng 13mm; đặt qua vét mổ 2,2mm, dùng kèm Injector kiểu xoay. | F15: AMO/Mỹ Hãng chủ sở hữu: Johnson & Johnson/ Mỹ | G15: Nhóm 3 | H15: Cái | I15: 130 | J15: 2990000 | K15: =I15*J15 -> 388700000 | L15: Công ty cổ phẩn thiết bị vật tư y tế Thanh Hóa
... A22: =IF(I22="","",COUNTA($I$4:$I22)) -> 19 | B22: G346 | C22: Điện cực tim | D22: Túi 50 cái | E22: Điện cực đo tim nền xốp. * Thiết kế hình chữ nhật nền xốp, mềm mại. * Nút điện cực bằng vật liệu thép không gỉ, dẫn truyền tín hiệu tốt. * Gel dính keo Acrylate, có độ dính tốt. * Kích thước 3,7cm x 3,3cm. | F22: EF Medica SRL/ Italy | G22: Nhóm 3 | H22: Cái | I22: 227104 | J22: 1250 | K22: =I22*J22 -> 283880000 | L22: Liên danh nhà thầu Bình Minh
A23: =IF(I23="","",COUNTA($I$4:$I23)) | B23: GB325 | H23: Bộ | L23: Công ty TNHH thiết bị y tế Tràng Thi
A24: =IF(I24="","",COUNTA($I$4:$I24)) -> 20 | B24: GB325.1 | C24: KYPHON- Kim chọc dò cuống sống | D24: 1 cái/1 gói | E24: Kim chọc dò cuống sống, mũi vát, đầu kim cương, 2 mặt vát, cỡ 11, vật liệu : Hợp kim y tế gồm 01 kim và thân rỗng nòng dẫn xi măng vào thân sống, có điểm đánh dấu hướng mũi kim, '- Chiều dài kim toàn thân là 14,5cm | F24: Argon/ Mỹ | G24: Nhóm 3 | H24: Cái | I24: 40 | J24: 1700000 | K24: =I24*J24 -> 68000000 | L24: Công ty TNHH thiết bị y tế Tràng Thi
A25: =IF(I25="","",COUNTA($I$4:$I25)) -> 21 | B25: GB325.2 | C25: KYPHON_Bộ kim và mũi khoan đốt sống | D25: 1 cái/1 gói | E25: - Hợp kim y tế cao cấp gồm: 02 Ống rỗng nòng đk 4.2mm, mũi khoan thân đốt sống cỡ 3, kim mũi nhọn và kim đầu tù. | F25: Medtronic/ Mexico | G25: Nhóm 3 | H25: Cái | I25: 20 | J25: 4000000 | K25: =I25*J25 -> 80000000 | L25: Công ty TNHH thiết bị y tế Tràng Thi
A26: =IF(I26="","",COUNTA($I$4:$I26)) -> 22 | B26: GB325.3 | C26: KYPHON - Bóng nong thân đốt sống | D26: 1 cái/1 gói | E26: - Bóng nong thân đốt dưới áp lực của dung dịch '- Nhiều size và kích cỡ, đường kính 10,15,20 cỡ 3, dung tích tối đa là 6ml '- Áp lực tối đa là 400 psi trong xương xốp | F26: Medtronic/ Mexico | G26: Nhóm 3 | H26: Cái | I26: 40 | J26: 10950000 | K26: =I26*J26 -> 438000000 | L26: Công ty TNHH thiết bị y tế Tràng Thi
A27: =IF(I27="","",COUNTA($I$4:$I27)) -> 23 | B27: GB325.4 | C27: KYPHON-Xi lanh bơm phồng bóng có đồng hồ đo áp lực | D27: 1 cái/1 gói | E27: - Xi lanh bơm phồng có đồng hồ đo áp lực bóng nong '- Vật liệu: Nhựa y tế tổng hợp cao cấp | F27: Merit/Mỹ | G27: Nhóm 3 | H27: Cái | I27: 20 | J27: 7950000 | K27: =I27*J27 -> 159000000 | L27: Công ty TNHH thiết bị y tế Tràng Thi
A28: =IF(I28="","",COUNTA($I$4:$I28)) -> 24 | B28: GB325.5 | C28: KYPHON- Xi măng ngoại khoa | D28: 1 cái/1 gói | E28: - Xi măng sinh học có độ quánh cao kèm dung dịch pha đơn - Dung tích từ 17-19cc, thời gian đông cứng khoảng 15 phút | F28: Tecres Spa/Italy | G28: Nhóm 3 | H28: Cái | I28: 20 | J28: 7500000 | K28: =I28*J28 -> 150000000 | L28: Công ty TNHH thiết bị y tế Tràng Thi
A29: =IF(I29="","",COUNTA($I$4:$I29)) -> 25 | B29: GB325.6 | C29: KYPHON Mixer - Bộ trộn và phân phối xi măng gắn xương | D29: 1 cái/1 gói | E29: - Vật liệu nhựa y tế cao cấp | F29: Medtronic/ Mỹ | G29: Nhóm 3 | H29: Cái | I29: 20 | J29: 3950000 | K29: =I29*J29 -> 79000000 | L29: Công ty TNHH thiết bị y tế Tràng Thi
A30: =IF(I30="","",COUNTA($I$4:$I30)) -> 26 | B30: GB325.7 | C30: KYPHON- Dụng cụ đưa xi măng vào thân đốt sống size 3 | D30: 1 cái/1 gói | E30: - Dụng cụ bằng nhựa y tế cao cấp, ống rỗng nòng đường kính 3mm '- Dung tích 1.5cc, được chia làm 3 vạch phân cách | F30: Medtronic/ Mexico | G30: Nhóm 3 | H30: Cái | I30: 80 | J30: 1950000 | K30: =I30*J30 -> 156000000 | L30: Công ty TNHH thiết bị y tế Tràng Thi
A31: =IF(I31="","",COUNTA($I$4:$I31)) -> 27 | B31: GB325.8 | C31: KYPHON- Kim chọc dò đốt sống | D31: 1 cái/1 gói | E31: - Kim chuyên dùng cho sinh thiết mô đốt sống, size 3, đầu có gai nhọn giữ xương | F31: Medtronic/ Mexico | G31: Nhóm 3 | H31: Cái | I31: 10 | J31: 2450000 | K31: =I31*J31 -> 24500000 | L31: Công ty TNHH thiết bị y tế Tràng Thi
A32: =IF(I32="","",COUNTA($I$4:$I32)) -> 28 | B32: V48 | C32: Kim luồn tĩnh mạch số 18G, 20G, 22G, 24G, (HEALCATH cannula) (dạng bút) | D32: 50 cái/ 1 hộp 500 cái/ 1 kiện | E32: - Kim làm bằng thép không gỉ, đầu kim có 3 mặt vát, sắc bén, dễ lấy ven và giảm đau. - Kim có ống chụp bảo vệ khi chưa sử dụng dạng bút thuận tiện . - Ống catheter có 2 vạch cản quang làm từ chất liệu PTFE nhựa y tế tương thích sinh học có tính đàn hồi, chống xoắn-gập. Đầu ống catheter hình vát nón ôm sát kim giúp dễ dàng lấy ven, gây tổn thương ít, ít đau. - Kim không cánh không của bơm thuốc. - Khoang báo máu thiết kế trong xuất với màng thoát khí không thấm nước, dễ dàng xác định lấy đúng ven. - khử trùng bằng khí EO( Ethylene Oxide). - Thời gian lưu kim 96 giờ. - 18G; Ø (1,3 x 45) mm; Flow/ Rate 85ml/ min. - 20G; Ø (1,1 x 33) mm; Flow/ Rate 55ml/ min. - 22G; Ø (0,9 x 25) mm; Flow/ Rate 33ml/ min. - 24G; Ø (0,7 x 19) mm; Flow/ Rate 18ml/ min. | F32: HARSORIA - ẤN ĐỘ | G32: Nhóm 5 | H32: Cái | I32: 30700 | J32: 5800 | K32: =I32*J32 -> 178060000 | L32: Công ty cổ phẩn thiết bị vật tư y tế Thanh Hóa
A33: =IF(I33="","",COUNTA($I$4:$I33)) -> 29 | B33: V49 | C33: Kim chạy thận nhân tạo AVF | D33: 100 cái/hộp | E33: Kim làm bằng thép không gỉ - Kim có cánh định vị cánh xoay với màu xanh (16G), màu cam (17G), đầu kim có 3 mặt vát, sắc bén, phủ silicon - Kim có ống chụp bảo vệ khi chưa sử dụng - Mặt sau có lỗ backeye - Cỡ: 16G [1.65x25mm]; 17G [1.47x25mm] - Chiều dài kim : 25 (mm) - Chiều dài dây gắn với kim: 300 (mm) - Đường kính ngoài O.D:5.5;đường kính trong I.D:3.5 - Tốc độ dòng chảy: 200ml/min - Có khóa chặn dòng tức thì - Khử trùng bằng khí EO ( Ethylene Oxide) | F33: Perfect/ Việt Nam | G33: Nhóm 5 | H33: Kim | I33: 22500 | J33: 6200 | K33: =I33*J33 -> 139500000 | L33: Công ty TNHH thiết bị y tế và dược phẩm An Phúc
A34: =IF(I34="","",COUNTA($I$4:$I34)) -> 30 | B34: V86 | C34: Chỉ Caresorb Plus (Polyglactin 910 có kháng khuẩn) số 1 | D34: H / 36 Sợi (tép) | E34: Polyglactin 910 có kháng khuẩn Chlorhexidine Diacetate. Lớp bao phủ Poly (glycolide-co-lactide) (30:70) - Glacomer 370, calcium stearate và Chlorhexidine Diacetate ≤ 60μg/m. Kim thép không rỉ, phủ silicon. Chỉ số 1, dài 90 cm, kim tròn 1/2c, dài 40 mm. Tiêu hoàn toàn trong khoảng thời gian 56-70 ngày; Sức căng còn 75% sau 2 tuần, 50% sau 3 tuần Giữ vết khâu tốt trong vòng 30 ngày. | F34: CPT/ Việt Nam | G34: Nhóm 5 | H34: Sợi | I34: 6252 | J34: 65000 | K34: =I34*J34 -> 406380000 | L34: Công ty cổ phẩn thiết bị vật tư y tế Thanh Hóa
A35: =IF(I35="","",COUNTA($I$4:$I35)) -> 31 | B35: V87 | C35: Chỉ Caresorb số 2/0 | D35: H / 36 Sợi (tép) | E35: Chỉ tiêu tổng hợp đa sợi Polyglactin 910 số 2/0, dài 75 cm, kim tròn 1/2c, dài 26 mm, Chất liệu 90% glycolide và 10% L-lactide, cấu trúc đa sợi bện, lớp bao phủ Poly(glycolide-co-lactide)(30:70) và Calcium stearate, duy trì sức căng 75% sau 2 tuần và 50% sau 3 tuần, độ tan 56-70 ngày. Kim thép không rỉ phủ silicon . | F35: CPT/ Việt Nam | G35: Nhóm 5 | H35: Sợi | I35: 5748 | J35: 57000 | K35: =I35*J35 -> 327636000 | L35: Công ty cổ phẩn thiết bị vật tư y tế Thanh Hóa
... A62: =IF(I62="","",COUNTA($I$4:$I62)) -> 58 | B62: K217 | C62: Giấy điện tim 6 cần 110mm*140mm*200 tờ | D62: Túi 1 tập | E62: Kích thước 110mm*140mm*200sheets, chất liệu bằng giấy in nhiệt | F62: Tianjin Grand Paper Industry Co., Ltd/ Trung Quốc | G62: Nhóm 6 | H62: Tập | I62: 18884 | J62: 25500 | K62: =I62*J62 -> 481542000 | L62: Liên danh nhà thầu Bình Minh
A63: =IF(I63="","",COUNTA($I$4:$I63)) | B63: KB161 | H63: Bộ | L63: Công ty cổ phẩn thiết bị vật tư y tế Thanh Hóa
A64: =IF(I64="","",COUNTA($I$4:$I64)) -> 59 | B64: KB161.1 | C64: Nẹp khóa xương đòn chữ S trái, phải | D64: 1 cái/túi | E64: Rộng 10.4mm; dày 3.2mm; chiều dài của nẹp từ 88.25mm - 134mm; chỉ định dùng ở vị trí xương đòn - Số lỗ trên thân nẹp: từ 6; 7; 8 lỗ trái/ phải; 9 lỗ trái - chất liệu Titan | F64: XinrongBest Trung Quốc | G64: Nhóm 6 | H64: Cái | I64: 219 | J64: 3985000 | K64: =I64*J64 -> 872715000 | L64: Công ty cổ phẩn thiết bị vật tư y tế Thanh Hóa
A65: =IF(I65="","",COUNTA($I$4:$I65)) -> 60 | B65: KB161.2 | C65: Vít khóa titan đường kính 3.5 mm | D65: 1 cái/túi | E65: kiểu vít tự taro chất liệu titan - đường kính ren 3.5mm; ren toàn phần - chiều dài 10mm; 12mm; 14mm; 16mm; 18mm; 20mm; 22mm; 24mm; 26mm; 28mm; 30mm; 32mm; 34mm - chất liệu Titan | F65: XinrongBest Trung Quốc | G65: Nhóm 6 | H65: Cái | I65: 1853 | J65: 252000 | K65: =I65*J65 -> 466956000 | L65: Công ty cổ phẩn thiết bị vật tư y tế Thanh Hóa
A66: =IF(I66="","",COUNTA($I$4:$I66)) | B66: KB163 | H66: Bộ | L66: Công ty cổ phẩn thiết bị vật tư y tế Thanh Hóa
A67: =IF(I67="","",COUNTA($I$4:$I67)) -> 61 | B67: KB163.1 | C67: Nẹp khóa lòng máng 4-14 lỗ.Titan | D67: 1 cái/túi | E67: rộng 9,70mm; dày 1.0mm; chiều dài của nẹp từ 58mm - 188mm; - Số lỗ trên thân nẹp 6; 8 lỗ - chất liệu Titan | F67: XinrongBest Trung Quốc | G67: Nhóm 6 | H67: Cái | I67: 44 | J67: 3128000 | K67: =I67*J67 -> 137632000 | L67: Công ty cổ phẩn thiết bị vật tư y tế Thanh Hóa
A68: =IF(I68="","",COUNTA($I$4:$I68)) -> 62 | B68: KB163.2 | C68: Vít khóa titan đường kính 3.5 mm | D68: 10 cái/túi | E68: kiểu vít tự taro - đường kính ren 3.5mm; ren toàn phần - chiều dài 16mm; 18mm; 20mm; 28mm; 32mm - chất liệu Titan | F68: XinrongBest Trung Quốc | G68: Nhóm 6 | H68: Cái | I68: 308 | J68: 252000 | K68: =I68*J68 -> 77616000 | L68: Công ty cổ phẩn thiết bị vật tư y tế Thanh Hóa
A69: =IF(I69="","",COUNTA($I$4:$I69)) | B69: KB164 | H69: Bộ | L69: Công ty cổ phẩn thiết bị vật tư y tế Thanh Hóa
A70: =IF(I70="","",COUNTA($I$4:$I70)) -> 63 | B70: KB164.1 | C70: Nẹp khóa chữ T . Titan | D70: 1 cái/túi | E70: rộng 16mm; dày 3mm; chiều dài của nẹp từ 88mm - 184mm trụ. - Số lỗ trên thân nẹp: 4; 5 lỗ - chất liệu Titan | F70: XinrongBest Trung Quốc | G70: Nhóm 6 | H70: Cái | I70: 30 | J70: 3128000 | K70: =I70*J70 -> 93840000 | L70: Công ty cổ phẩn thiết bị vật tư y tế Thanh Hóa
A71: =IF(I71="","",COUNTA($I$4:$I71)) -> 64 | B71: KB164.2 | C71: Vít khóa titan | D71: 10 cái/túi | E71: kiểu vít tự taro - đường kính ren 5.0mm; ren toàn phần - chiều dài 30mm; 32mm - chất liệu Titan | F71: XinrongBest Trung Quốc | G71: Nhóm 6 | H71: Cái | I71: 65 | J71: 252000 | K71: =I71*J71 -> 16380000 | L71: Công ty cổ phẩn thiết bị vật tư y tế Thanh Hóa
A72: =IF(I72="","",COUNTA($I$4:$I72)) | B72: KB165 | H72: Bộ | L72: Công ty cổ phẩn thiết bị vật tư y tế Thanh Hóa
...

Sheet DM trúng thầu chi tiết (full)
A2: DANH MỤC VẬT TƯ Y TẾ TRÚNG THẦU VỚI SỐ LƯỢNG CHI TIẾT NĂM 2022
A4: STT | B4: Mã hàng hóa 2021 | C4: Mã hàng hóa 2021 (Cũ) | D4: Mã TT 04/2017 | E4: Tên vật tư y tế mời thầu | F4: Tên vật tư y tế trúng thầu | G4: Yêu cầu kỹ thuật | H4: Quy tắc đóng gói | I4: Hãng/nước sản xuất | J4: Nhóm TCKT theo TT 14/2020 | K4: ĐVT | L4: Số lượng dự kiến 17/10/2021 đến 16/10/2022 (chi tiết) | M4: Số lượng dự kiến 17/10/2021 đến 16/10/2022 (Tổng cộng) | N4: Giá trúng thầu | O4: Nhà thầu trúng thầu | P4: Mã hiệu VTYT | Q4: Mã dùng chung (nếu có) | R4: Khối Bệnh viện | BD4: Khối Trung tâm Y tế
A5: 1 | B5: 2 | D5: 3 | E5: 4 | G5: 5 | K5: 6 | L5: 7 | M5: 8 | R5: Đa khoa tỉnh | S5: Da Liễu | T5: Mắt | U5: Nội Tiết | V5: Nhi | W5: PHCN | X5: Phổi | Y5: Phụ Sản | Z5: Tâm Thần | AA5: YDCT | AB5: Ung Bướu | AC5: Ngọc Lặc | AD5: Bá Thước | AE5: Bỉm Sơn | AF5: Cẩm Thủy | AG5: Đông Sơn | AH5: Hà Trung | AI5: Hoằng Hóa | AJ5: Hậu Lộc | AK5: Lang Chánh | AL5: Mường Lát | AM5: Nông Cống | AN5: Như Thanh | AO5: Như Xuân | AP5: Nga Sơn | AQ5: Quảng Xương | AR5: Quan Hóa | AS5: Quan Sơn | AT5: Sầm Sơn | AU5: Thạch Thành | AV5: Thành Phố | AW5: Thọ Xuân | AX5: Nghi Sơn | AY5: Thiệu Hóa | AZ5: Thường Xuân | BA5: Triệu Sơn | BB5: Vĩnh Lộc | BC5: Yên Định | BD5: Ban BV sức khỏe | BE5: CDC | BF5: PK GTVT | BG5: TTGĐ Y khoa | BH5: TT pháp Y | BI5: TTYT Bá Thước | BJ5: TTYT Bỉm Sơn | BK5: TTYT Cẩm Thủy | BL5: TTYT Đông Sơn | BM5: TTYT Hà Trung | BN5: TTYT Hậu Lộc | BO5: TTYT Hoằng Hóa | BP5: TTYT Lang chánh | BQ5: TTYT Mường Lát | BR5: TTYT Nông cống | BS5: TTYT Nga Sơn | BT5: TTYT Ngọc Lặc | BU5: TTYT Như xuân | BV5: TTYT Như Thanh | BW5: TTYT Quảng Xương | BX5: TTYT Quan Hóa | BY5: TTYT Sầm Sơn | BZ5: TTYT Nghi Sơn | CA5: TTYT Thạch Thành | CB5: TTYT Thành Phố | CC5: TTYT Thiệu hóa | CD5: TTYT Thường xuân | CE5: TTYT Triệu Sơn | CF5: TTYT Vĩnh Lộc | CG5: TTYT Yên Định
A6: =IF(L6="","",COUNTA($L$6:$L6)) -> 1 | B6: G17 | C6: G16 | D6: N02.04.040 | E6: Miếng cầm máu tại mũi | F6: Miếng cầm máu tại mũi 22-60402 | G6: Thành phần: Hydroxilated Poly-Vinyl Acetate. kích thước 8 cm x 1,5 cm x 2 cm. - Khả năng thấm hút tốt: Lên tới 21 lần trọng lượng ban đầu khi ở trong chất lỏng. - Kích thước lỗ nhỏ. | H6: 10 Miếng/hộp | I6: Invotec/ Mỹ | J6: Miếng | K6: 1246 | L6: 1246 | M6: 94500 | N6: Viện Trang thiết bị và Công trình Y tế | O6: =K6*M6 -> 117747000 | P6: 22-60402 | R6: 800 | V6: 80 | AD6: 10 | AF6: 20 | AH6: 100 | AJ6: 20 | AM6: 50 | AP6: 10 | AW6: 24 | BB6: 2 | BC6: 50 | BI6: 20 | BJ6: 50 | CG6: 10
A7: =IF(L7="","",COUNTA($L$6:$L7)) -> 2 | B7: G31 | C7: G36 | D7: N03.03.010 | E7: Kim chọc dò và gây tê tủy sống số 22 (Spinocan G22) | F7: Kim chọc dò và gây tê tủy sống số 22 | G7: Thành phần: Hydroxilated Poly-Vinyl Acetate. kích thước 8 cm x 1,5 cm x 2 cm. - Khả năng thấm hút tốt: Lên tới 21 lần trọng lượng ban đầu khi ở trong chất lỏng. - Kích thước lỗ nhỏ. | H7: 25 cái/hộp | I7: Nipro Corporation/ Nhật Bản | J7: Cái | K7: 2160 | L7: 2160 | M7: 22300 | N7: Công ty TNHH thương mại đầu tư Việt Nam | O7: =K7*M7 -> 48168000 | P7: 0403002404 | Q7: N03.03.010.174. 000004 | R7: 500 | V7: 200 | AE7: 500 | AJ7: 390 | AK7: 100 | AM7: 100 | AT7: 100 | AW7: 150 | BB7: 20 | BC7: 100
A8: =IF(L8="","",COUNTA($L$6:$L8)) -> 3 | B8: G32 | C8: G37 | D8: N03.03.010 | E8: Kim chọc dò và gây tê tủy sống số 25 (Spinocan G25) | F8: Kim chọc dò và gây tê tủy sống số 25 | G8: Thành phần: Hydroxilated Poly-Vinyl Acetate. kích thước 8 cm x 1,5 cm x 2 cm. - Khả năng thấm hút tốt: Lên tới 21 lần trọng lượng ban đầu khi ở trong chất lỏng. - Kích thước lỗ nhỏ. | H8: 25 cái/hộp | I8: Nipro Corporation/ Nhật Bản | J8: Cái | K8: 15320 | L8: 15320 | M8: 22300 | N8: Công ty TNHH thương mại đầu tư Việt Nam | O8: =K8*M8 -> 341636000 | P8: 0403003204 | Q8: N03.03.010.174. 000005 | R8: 9300 | V8: 100 | AB8: 500 | AC8: 650 | AD8: 200 | AE8: 300 | AH8: 1200 | AJ8: 390 | AK8: 200 | AM8: 100 | AN8: 390 | AO8: 200 | AS8: 200 | AW8: 250 | AX8: 500 | AY8: 240 | BB8: 100 | BC8: 500
A9: =IF(L9="","",COUNTA($L$6:$L9)) -> 4 | B9: G65 | C9: G76 | D9: N04.02.040 | E9: Ống dẫn lưu đường mật qua da có khóa | F9: Ống dẫn lưu đường mật qua da có khóa HS General Purpose | G9: Thành phần: Hydroxilated Poly-Vinyl Acetate. kích thước 8 cm x 1,5 cm x 2 cm. - Khả năng thấm hút tốt: Lên tới 21 lần trọng lượng ban đầu khi ở trong chất lỏng. - Kích thước lỗ nhỏ. | H9: 01 cái/ túi | I9: HS Hospital Service/Ý | J9: Cái | K9: 50 | L9: 50 | M9: 1800000 | N9: Công ty cổ phẩn thiết bị vật tư y tế Thanh Hóa | O9: =K9*M9 -> 90000000 | P9: HSGPLXXXX | Q9: N04.02.030.633.ZZZZZZ | AB9: 50
A10: =IF(L10="","",COUNTA($L$6:$L10)) -> 5 | B10: G70 | C10: G83 | D10: N04.03.100 | E10: Bộ kết nối 3 cổng | F10: Manifolds 3 cổng Medk | G10: Thành phần: Hydroxilated Poly-Vinyl Acetate. kích thước 8 cm x 1,5 cm x 2 cm. - Khả năng thấm hút tốt: Lên tới 21 lần trọng lượng ban đầu khi ở trong chất lỏng. - Kích thước lỗ nhỏ. | H10: 1 cái/ túi | I10: Medk GmbH /Đức | J10: Cái | L10: 200 | M10: 170000 | N10: Công ty cổ phẩn thiết bị vật tư y tế Thanh Hóa
A11: =IF(L11="","",COUNTA($L$6:$L11)) | B11: G70.1 | E11: Bộ phận kết nối 3 cổng right hand, off màu trắng | G11: Thành phần: Hydroxilated Poly-Vinyl Acetate. kích thước 8 cm x 1,5 cm x 2 cm. - Khả năng thấm hút tốt: Lên tới 21 lần trọng lượng ban đầu khi ở trong chất lỏng. - Kích thước lỗ nhỏ. | H11: 1 cái/ túi | I11: Medk GmbH /Đức | J11: Cái | K11: 50 | M11: 170000 | N11: Công ty cổ phẩn thiết bị vật tư y tế Thanh Hóa | O11: =K11*M11 -> 8500000 | P11: 9823253RH2821 | Q11: N04.03.100.572.000003 | R11: 50
A12: =IF(L12="","",COUNTA($L$6:$L12)) | B12: G70.2 | E12: Bộ phận kết nối 3 cổng right hand, off màu xanh | G12: Thành phần: Hydroxilated Poly-Vinyl Acetate. kích thước 8 cm x 1,5 cm x 2 cm. - Khả năng thấm hút tốt: Lên tới 21 lần trọng lượng ban đầu khi ở trong chất lỏng. - Kích thước lỗ nhỏ. | H12: 1 cái/ túi | I12: Medk GmbH /Đức | J12: Cái | K12: 50 | M12: 170000 | N12: Công ty cổ phẩn thiết bị vật tư y tế Thanh Hóa | O12: =K12*M12 -> 8500000 | P12: 9823253RH1641 | Q12: N04.03.100.572.ZZZZZZ | R12: 50
A13: =IF(L13="","",COUNTA($L$6:$L13)) | B13: G70.3 | E13: Bộ phận kết nối 3 cổng right hand, on màu trắng | G13: Thành phần: Hydroxilated Poly-Vinyl Acetate. kích thước 8 cm x 1,5 cm x 2 cm. - Khả năng thấm hút tốt: Lên tới 21 lần trọng lượng ban đầu khi ở trong chất lỏng. - Kích thước lỗ nhỏ. | H13: 1 cái/ túi | I13: Medk GmbH /Đức | J13: Cái | K13: 50 | M13: 170000 | N13: Công ty cổ phẩn thiết bị vật tư y tế Thanh Hóa | O13: =K13*M13 -> 8500000 | P13: 9823253RH2921 | Q13: N04.03.100.572.000007 | R13: 50
A14: =IF(L14="","",COUNTA($L$6:$L14)) | B14: G70.4 | E14: Bộ phận kết nối 3 cổng right hand, on màu xanh | G14: Thành phần: Hydroxilated Poly-Vinyl Acetate. kích thước 8 cm x 1,5 cm x 2 cm. - Khả năng thấm hút tốt: Lên tới 21 lần trọng lượng ban đầu khi ở trong chất lỏng. - Kích thước lỗ nhỏ. | H14: 1 cái/ túi | I14: Medk GmbH /Đức | J14: Cái | K14: 50 | M14: 170000 | N14: Công ty cổ phẩn thiết bị vật tư y tế Thanh Hóa | O14: =K14*M14 -> 8500000 | P14: 9823253RH2911 | Q14: N04.03.100.572.000008 | R14: 50
A15: =IF(L15="","",COUNTA($L$6:$L15)) -> 6 | B15: G75 | C15: G88 | D15: N04.04.010 | E15: Ống thông (catheter) hỗ trợ can thiệp ngoại biên ái nước | F15: Ống thông (catheter) chụp mạch ngoại biên Radifocus Glidecath | G15: Thành phần: Hydroxilated Poly-Vinyl Acetate. kích thước 8 cm x 1,5 cm x 2 cm. - Khả năng thấm hút tốt: Lên tới 21 lần trọng lượng ban đầu khi ở trong chất lỏng. - Kích thước lỗ nhỏ. | H15: Hộp/ 3 cái | I15: Ashitaka Factory of Terumo Corporation/ Nhật Bản | J15: Cái | L15: 558 | M15: 950000 | N15: Công ty cổ phẩn thiết bị vật tư y tế Thanh Hóa
A16: =IF(L16="","",COUNTA($L$6:$L16)) | B16: G75.1 | E16: Ống thông (catheter) chụp mạch ngoại biên Radifocus Glidecath Cobra 5F: 80cm (hoặc tương đương) | G16: Thành phần: Hydroxilated Poly-Vinyl Acetate. kích thước 8 cm x 1,5 cm x 2 cm. - Khả năng thấm hút tốt: Lên tới 21 lần trọng lượng ban đầu khi ở trong chất lỏng. - Kích thước lỗ nhỏ. | H16: Hộp/ 3 cái | I16: Ashitaka Factory of Terumo Corporation/ Nhật Bản | J16: Cái | K16: 50 | M16: 950000 | N16: Công ty cổ phẩn thiết bị vật tư y tế Thanh Hóa | O16: =K16*M16 -> 47500000 | P16: RF*XB45108M | Q16: N04.04.010.230.000050 | R16: 20 | AB16: 30
A17: =IF(L17="","",COUNTA($L$6:$L17)) | B17: G75.2 | E17: Ống thông ( catheter ) chụp mạch não Radifocus Glidecath (Mani) (hoặc tương đương) | G17: Thành phần: Hydroxilated Poly-Vinyl Acetate. kích thước 8 cm x 1,5 cm x 2 cm. - Khả năng thấm hút tốt: Lên tới 21 lần trọng lượng ban đầu khi ở trong chất lỏng. - Kích thước lỗ nhỏ. | H17: Hộp/ 3 cái | I17: Ashitaka Factory of Terumo Corporation/ Nhật Bản | J17: Cái | K17: 103 | M17: 950000 | N17: Công ty cổ phẩn thiết bị vật tư y tế Thanh Hóa | O17: =K17*M17 -> 97850000 | P17: RF*YG15110M | Q17: N04.04.010.230.000006 | R17: 100 | AB17: 3
A18: =IF(L18="","",COUNTA($L$6:$L18)) | B18: G75.3 | E18: Ống thông (catheter) chụp mạch ngoại biên Radifocus Glidecath (Yashiro) 5F: 70cm (hoặc tương đương) | G18: Thành phần: Hydroxilated Poly-Vinyl Acetate. kích thước 8 cm x 1,5 cm x 2 cm. - Khả năng thấm hút tốt: Lên tới 21 lần trọng lượng ban đầu khi ở trong chất lỏng. - Kích thước lỗ nhỏ. | H18: Hộp/ 3 cái | I18: Ashitaka Factory of Terumo Corporation/ Nhật Bản | J18: Cái | K18: 280 | M18: 950000 | N18: Công ty cổ phẩn thiết bị vật tư y tế Thanh Hóa | O18: =K18*M18 -> 266000000 | P18: RF*XG95107M | Q18: N04.04.010.230.000051 | R18: 100 | AB18: 180
A19: =IF(L19="","",COUNTA($L$6:$L19)) | B19: G75.4 | E19: Ống thông (catheter) hỗ trợ can thiệp ngoại biên ái nước, Radifocus Glidecath 5Fr Cobra 65cm (hoặc tương đương) | G19: Thành phần: Hydroxilated Poly-Vinyl Acetate. kích thước 8 cm x 1,5 cm x 2 cm. - Khả năng thấm hút tốt: Lên tới 21 lần trọng lượng ban đầu khi ở trong chất lỏng. - Kích thước lỗ nhỏ. | H19: Hộp/ 3 cái | I19: Ashitaka Factory of Terumo Corporation/ Nhật Bản | J19: Cái | K19: 20 | M19: 950000 | N19: Công ty cổ phẩn thiết bị vật tư y tế Thanh Hóa | O19: =K19*M19 -> 19000000 | P19: RF*XB4510GM | Q19: N04.04.010.230.000055 | R19: 20
A20: =IF(L20="","",COUNTA($L$6:$L20)) | B20: G75.5 | E20: Ống thông (catheter) hỗ trợ can thiệp ngoại biên ái nước, Radifocus Glidecath 5Fr Cobra C2 80cm (hoặc tương đương) | G20: Thành phần: Hydroxilated Poly-Vinyl Acetate. kích thước 8 cm x 1,5 cm x 2 cm. - Khả năng thấm hút tốt: Lên tới 21 lần trọng lượng ban đầu khi ở trong chất lỏng. - Kích thước lỗ nhỏ. | H20: Hộp/ 3 cái | I20: Ashitaka Factory of Terumo Corporation/ Nhật Bản | J20: Cái | K20: 40 | M20: 950000 | N20: Công ty cổ phẩn thiết bị vật tư y tế Thanh Hóa | O20: =K20*M20 -> 38000000 | P20: RF*XB55108M | Q20: N04.04.010.230.000056 | R20: 20 | AB20: 20
A21: =IF(L21="","",COUNTA($L$6:$L21)) | B21: G75.6 | E21: Ống thông (catheter) hỗ trợ can thiệp ngoại biên ái nước, Radifocus Glidecath 5Fr Yashiro 100cm (hoặc tương đương) | G21: Thành phần: Hydroxilated Poly-Vinyl Acetate. kích thước 8 cm x 1,5 cm x 2 cm. - Khả năng thấm hút tốt: Lên tới 21 lần trọng lượng ban đầu khi ở trong chất lỏng. - Kích thước lỗ nhỏ. | H21: Hộp/ 3 cái | I21: Ashitaka Factory of Terumo Corporation/ Nhật Bản | J21: Cái | K21: 65 | M21: 950000 | N21: Công ty cổ phẩn thiết bị vật tư y tế Thanh Hóa | O21: =K21*M21 -> 61750000 | P21: RF*XG95110M | Q21: N04.04.010.230.000057 | R21: 50 | AB21: 15
A22: =IF(L22="","",COUNTA($L$6:$L22)) -> 7 | B22: G77 | C22: G90 | D22: N04.04.010 | E22: Catheter trợ giúp can thiệp | F22: Ống thông can thiệp FalconTM Coronary Guiding Catheter | G22: Thành phần: Hydroxilated Poly-Vinyl Acetate. kích thước 8 cm x 1,5 cm x 2 cm. - Khả năng thấm hút tốt: Lên tới 21 lần trọng lượng ban đầu khi ở trong chất lỏng. - Kích thước lỗ nhỏ. | H22: Hộp 1 cái | I22: Umbra Medical products, Inc/ Mỹ | J22: Cái | L22: 200 | M22: 1980000 | N22: Công ty cổ phẩn thiết bị vật tư y tế Thanh Hóa
A23: =IF(L23="","",COUNTA($L$6:$L23)) | B23: G77.1 | E23: Catheter trợ giúp can thiệp cỡ 6F EBU 3.75 | G23: Thành phần: Hydroxilated Poly-Vinyl Acetate. kích thước 8 cm x 1,5 cm x 2 cm. - Khả năng thấm hút tốt: Lên tới 21 lần trọng lượng ban đầu khi ở trong chất lỏng. - Kích thước lỗ nhỏ. | H23: Hộp 1 cái | I23: Umbra Medical products, Inc/ Mỹ | J23: Cái | K23: 30 | M23: 1980000 | N23: Công ty cổ phẩn thiết bị vật tư y tế Thanh Hóa | O23: =K23*M23 -> 59400000 | P23: 7838-50 | Q23: N04.04.010.241.000066 | R23: 30
A24: =IF(L24="","",COUNTA($L$6:$L24)) | B24: G77.2 | E24: Catheter trợ giúp can thiệp cỡ 6F JR4 | G24: Thành phần: Hydroxilated Poly-Vinyl Acetate. kích thước 8 cm x 1,5 cm x 2 cm. - Khả năng thấm hút tốt: Lên tới 21 lần trọng lượng ban đầu khi ở trong chất lỏng. - Kích thước lỗ nhỏ. | H24: Hộp 1 cái | I24: Umbra Medical products, Inc/ Mỹ | J24: Cái | K24: 70 | M24: 1980000 | N24: Công ty cổ phẩn thiết bị vật tư y tế Thanh Hóa | O24: =K24*M24 -> 138600000 | P24: 7874-20 | Q24: N04.04.010.241.000046 | R24: 70
A25: =IF(L25="","",COUNTA($L$6:$L25)) | B25: G77.3 | E25: Catheter trợ giúp can thiệp cỡ 6F EBU 3.5 | G25: Thành phần: Hydroxilated Poly-Vinyl Acetate. kích thước 8 cm x 1,5 cm x 2 cm. - Khả năng thấm hút tốt: Lên tới 21 lần trọng lượng ban đầu khi ở trong chất lỏng. - Kích thước lỗ nhỏ. | H25: Hộp 1 cái | I25: Umbra Medical products, Inc/ Mỹ | J25: Cái | K25: 30 | M25: 1980000 | N25: Công ty cổ phẩn thiết bị vật tư y tế Thanh Hóa | O25: =K25*M25 -> 59400000 | P25: 7833-H0 | Q25: N04.04.010.241.000062 | R25: 30
A26: =IF(L26="","",COUNTA($L$6:$L26)) | B26: G77.4 | E26: Catheter trợ giúp can thiệp cỡ 6F JL4 | G26: Thành phần: Hydroxilated Poly-Vinyl Acetate. kích thước 8 cm x 1,5 cm x 2 cm. - Khả năng thấm hút tốt: Lên tới 21 lần trọng lượng ban đầu khi ở trong chất lỏng. - Kích thước lỗ nhỏ. | H26: Hộp 1 cái | I26: Umbra Medical products, Inc/ Mỹ | J26: Cái | K26: 70 | M26: 1980000 | N26: Công ty cổ phẩn thiết bị vật tư y tế Thanh Hóa | O26: =K26*M26 -> 138600000 | P26: 7875-20 | Q26: N04.04.010.241.000030 | R26: 70
A27: =IF(L27="","",COUNTA($L$6:$L27)) -> 8 | B27: G80 | C27: G93 | D27: N04.04.010 | E27: Catheter trợ giúp can thiệp | F27: Ống thông can thiệp FalconTM Coronary Guiding Catheter | G27: Thành phần: Hydroxilated Poly-Vinyl Acetate. kích thước 8 cm x 1,5 cm x 2 cm. - Khả năng thấm hút tốt: Lên tới 21 lần trọng lượng ban đầu khi ở trong chất lỏng. - Kích thước lỗ nhỏ. | H27: 01 cái/hộp | I27: Umbra Medical products, Inc/ Mỹ | J27: Cái | L27: 100 | M27: 1980000 | N27: Công ty cổ phẩn thiết bị vật tư y tế Thanh Hóa
A28: =IF(L28="","",COUNTA($L$6:$L28)) | B28: G80.1 | E28: Ống thông can thiệp cỡ Judkin Right 4.0 6F | F28: Ống thông can thiệp FalconTM Coronary Guiding Catheter | G28: Thành phần: Hydroxilated Poly-Vinyl Acetate. kích thước 8 cm x 1,5 cm x 2 cm. - Khả năng thấm hút tốt: Lên tới 21 lần trọng lượng ban đầu khi ở trong chất lỏng. - Kích thước lỗ nhỏ. | H28: 01 cái/hộp | I28: Umbra Medical products, Inc/ Mỹ | J28: Cái | K28: 100 | M28: 1980000 | N28: Công ty cổ phẩn thiết bị vật tư y tế Thanh Hóa | O28: =K28*M28 -> 198000000 | P28: 7874-20 | Q28: N04.04.010.241.000046 | R28: 100
A29: =IF(L29="","",COUNTA($L$6:$L29)) -> 9 | B29: G109 | C29: G127 | D29: N05.02.040 | E29: Chỉ tiêu tổng hợp số 1 | F29: Marlin Violet số 1 | G29: Thành phần: Hydroxilated Poly-Vinyl Acetate. kích thước 8 cm x 1,5 cm x 2 cm. - Khả năng thấm hút tốt: Lên tới 21 lần trọng lượng ban đầu khi ở trong chất lỏng. - Kích thước lỗ nhỏ. | H29: Hộp 24 sợi | I29: Catgut GmbH/ Đức | J29: Sợi | K29: 23455 | L29: 23455 | M29: 81000 | N29: Công ty cổ phần đầu tư và phát triển y tế Việt Anh SM | O29: =K29*M29 -> 1899855000 | P29: 17241349 | V29: 480 | Y29: 12000 | AC29: 1500 | AE29: 120 | AF29: 720 | AJ29: 600 | AK29: 280 | AM29: 600 | AN29: 195 | AP29: 100 | AQ29: 500 | AR29: 400 | AT29: 100 | AU29: 1500 | AW29: 800 | AX29: 500 | AY29: 1200 | AZ29: 180 | BA29: 480 | BB29: 700 | BC29: 500
A30: =IF(L30="","",COUNTA($L$6:$L30)) -> 10 | B30: G111 | C30: G129 | D30: N05.02.040 | E30: Chỉ tiêu tổng hợp sợi bện số 2/0 | F30: Marlin Violet số 2/0 | G30: Thành phần: Hydroxilated Poly-Vinyl Acetate. kích thước 8 cm x 1,5 cm x 2 cm. - Khả năng thấm hút tốt: Lên tới 21 lần trọng lượng ban đầu khi ở trong chất lỏng. - Kích thước lỗ nhỏ. | H30: Hộp 24 sợi | I30: Catgut GmbH/ Đức | J30: Sợi | K30: 3078 | L30: 3078 | M30: 81500 | N30: Công ty cổ phần đầu tư và phát triển y tế Việt Anh SM | O30: =K30*M30 -> 250857000 | P30: 17241209 | V30: 120 | AF30: 240 | AH30: 400 | AJ30: 80 | AK30: 160 | AN30: 78 | AP30: 200 | AR30: 400 | AT30: 80 | AW30: 800 | AY30: 300 | AZ30: 120 | BC30: 100
A31: =IF(L31="","",COUNTA($L$6:$L31)) -> 11 | B31: G113 | C31: G131 | D31: N05.02.040 | E31: Chỉ tiêu tổng hợp số 4/0 | F31: Marlin Violet số 4/0 | G31: Thành phần: Hydroxilated Poly-Vinyl Acetate. kích thước 8 cm x 1,5 cm x 2 cm. - Khả năng thấm hút tốt: Lên tới 21 lần trọng lượng ban đầu khi ở trong chất lỏng. - Kích thước lỗ nhỏ. | H31: Hộp 24 sợi | I31: Catgut GmbH/ Đức | J31: Sợi | K31: 11080 | L31: 11080 | M31: 81500 | N31: Công ty cổ phần đầu tư và phát triển y tế Việt Anh SM | O31: =K31*M31 -> 903020000 | P31: 17241135 | R31: 9000 | S31: 36 | V31: 600 | AC31: 170 | AD31: 30 | AE31: 200 | AH31: 50 | AJ31: 100 | AK31: 140 | AM31: 100 | AN31: 78 | AP31: 100 | AW31: 80 | AY31: 240 | AZ31: 120 | BA31: 36
A32: =IF(L32="","",COUNTA($L$6:$L32)) -> 12 | B32: G145 | C32: G166 | D32: N06.03.010 | E32: Thủy tinh thể mềm một mảnh | F32: Thủy tinh thể mềm Sensar 1 | G32: Thành phần: Hydroxilated Poly-Vinyl Acetate. kích thước 8 cm x 1,5 cm x 2 cm. - Khả năng thấm hút tốt: Lên tới 21 lần trọng lượng ban đầu khi ở trong chất lỏng. - Kích thước lỗ nhỏ. | H32: Hộp 1 cái | I32: AMO/Mỹ Hãng chủ sở hữu: Johnson & Johnson/ Mỹ | J32: Cái | K32: 130 | L32: 130 | M32: 2990000 | N32: Công ty cổ phẩn thiết bị vật tư y tế Thanh Hóa | O32: =K32*M32 -> 388700000 | P32: AAB00 | Q32: N06.03.010.004.000006 | R32: 100 | AH32: 2 | AJ32: 3 | AM32: 5 | AV32: 20
A33: =IF(L33="","",COUNTA($L$6:$L33)) -> 13 | B33: G158 | C33: G184 | D33: N06.04.053 | E33: Bộ khớp gối toàn phần có xi măng | F33: Bộ khớp gối toàn phần có xi măng | G33: Thành phần: Hydroxilated Poly-Vinyl Acetate. kích thước 8 cm x 1,5 cm x 2 cm. - Khả năng thấm hút tốt: Lên tới 21 lần trọng lượng ban đầu khi ở trong chất lỏng. - Kích thước lỗ nhỏ. | H33: 1 Bộ / Hộp | I33: Biomet Orthopedics - Mỹ/ Biomet France SARL - Pháp | J33: Bộ | K33: 12 | L33: 12 | M33: 63000000 | N33: Công ty TNHH thương mại và tổng hợp Vinatrading | O33: =K33*M33 -> 756000000 | Q33: N06.04.053.294.000001 | R33: 10 | AQ33: 2
A34: =IF(L34="","",COUNTA($L$6:$L34)) -> 14 | B34: G163 | C34: G189 | D34: N06.04.051 | E34: Khớp háng toàn phần không xi măng phủ HA kích thích tạo xương Ceramic on PE | F34: Khớp háng toàn phần không xi măng chuôi filler phủ HA Ceramic on PE | G34: Thành phần: Hydroxilated Poly-Vinyl Acetate. kích thước 8 cm x 1,5 cm x 2 cm. - Khả năng thấm hút tốt: Lên tới 21 lần trọng lượng ban đầu khi ở trong chất lỏng. - Kích thước lỗ nhỏ. | H34: Bộ/ Hộp | I34: Biotechni/ Pháp | J34: Bộ | K34: 29 | L34: 29 | M34: 65500000 | N34: Công ty cổ phẩn thiết bị vật tư y tế Thanh Hóa | O34: =K34*M34 -> 1899500000 | P34: FI040xx; MU-Txx; MUDB28-xx; MU-VISxx; CER285-xx | Q34: N06.04.051.465.000001 | R34: 20 | AC34: 4 | AI34: 3 | AQ34: 2
A35: =IF(L35="","",COUNTA($L$6:$L35)) -> 15 | B35: G174 | C35: G200 | D35: N06.04.051 | E35: Khớp háng toàn phần không xi măng, chỏm Ceramic | F35: Khớp háng toàn phần không xi măng SL X-pore/Ceramic | G35: Thành phần: Hydroxilated Poly-Vinyl Acetate. kích thước 8 cm x 1,5 cm x 2 cm. - Khả năng thấm hút tốt: Lên tới 21 lần trọng lượng ban đầu khi ở trong chất lỏng. - Kích thước lỗ nhỏ. | H35: Bộ/ Hộp | I35: Permedica/ Ý | J35: Bộ | K35: 30 | L35: 30 | M35: 70000000 | N35: Công ty cổ phẩn thiết bị vật tư y tế Thanh Hóa | O35: =K35*M35 -> 2100000000 | P35: 352xx 363xx 367xx 202xx 157xx | Q35: N06.04.051.596.000002 | R35: 30
A36: =IF(L36="","",COUNTA($L$6:$L36)) -> 16 | B36: G179 | C36: G205 | D36: N06.04.051 | E36: Khớp háng toàn phần không xi măng di động kép Apogee Dual mobility hai trục linh động ceramic on pe | F36: Khớp háng toàn phần không xi măng hai trục linh động Apogee Dual Mobility Ceramic on PE | G36: Thành phần: Hydroxilated Poly-Vinyl Acetate. kích thước 8 cm x 1,5 cm x 2 cm. - Khả năng thấm hút tốt: Lên tới 21 lần trọng lượng ban đầu khi ở trong chất lỏng. - Kích thước lỗ nhỏ. | H36: Bộ/ Hộp | I36: Biotechni/ Pháp | J36: Bộ | K36: 15 | L36: 15 | M36: 68000000 | N36: Công ty cổ phẩn thiết bị vật tư y tế Thanh Hóa | O36: =K36*M36 -> 1020000000 | P36: FI040xx; CAPxx; IDM28-xx+; CER285-xx | Q36: N06.04.051.465.zzzzzz | R36: 15
A37: =IF(L37="","",COUNTA($L$6:$L37)) -> 17 | B37: G239 | C37: G281 | D37: N07.01.110 | E37: Bộ dụng cụ mở đường vào mạch máu (động mạch quay) | F37: Bộ mở đường vào động mạch quay ái nước Radifocus Introducer II M Coat | G37: Thành phần: Hydroxilated Poly-Vinyl Acetate. kích thước 8 cm x 1,5 cm x 2 cm. - Khả năng thấm hút tốt: Lên tới 21 lần trọng lượng ban đầu khi ở trong chất lỏng. - Kích thước lỗ nhỏ. | H37: Hộp/ 5 cái | I37: Ashitaka Factory of Terumo Corporation/ Nhật Bản | J37: Cái | L37: 600 | M37: 710000 | N37: Công ty cổ phẩn thiết bị vật tư y tế Thanh Hóa
A38: =IF(L38="","",COUNTA($L$6:$L38)) | B38: G239.1 | E38: Bộ mở đường vào động mạch quay ái nước 6Fr | F38: Bộ mở đường vào động mạch quay ái nước Radifocus Introducer II M Coat | G38: Thành phần: Hydroxilated Poly-Vinyl Acetate. kích thước 8 cm x 1,5 cm x 2 cm. - Khả năng thấm hút tốt: Lên tới 21 lần trọng lượng ban đầu khi ở trong chất lỏng. - Kích thước lỗ nhỏ. | H38: Hộp/ 5 cái | I38: Ashitaka Factory of Terumo Corporation/ Nhật Bản | J38: Cái | K38: 600 | M38: 710000 | N38: Công ty cổ phẩn thiết bị vật tư y tế Thanh Hóa | O38: =K38*M38 -> 426000000 | P38: RM*AF6J10SQW | Q38: N07.01.110.230.000007 | R38: 600
A39: =IF(L39="","",COUNTA($L$6:$L39)) | B39: GB325 | E39: Bộ bơm xi măng tạo hình thân đốt sống có bóng nong (Gồm 02 kim chọc dò cuống sống + 01 bộ kim và mũi khoan đốt sống + 02 bóng nong thân đốt sống + 01 xi lanh bơm phồng + 01 xi măng sinh học + 01 bộ trộn xi măng + 04 dụng cụ đưa xi măng vào đốt sống + 01 Bộ kim sinh thiết đốt sống) | J39: Bộ | N39: Công ty TNHH thiết bị y tế Tràng Thi
A40: =IF(L40="","",COUNTA($L$6:$L40)) -> 18 | B40: GB325.1 | C40: GB414.1 | D40: N07.06.030 | E40: Kim chọc dò cuống sống | F40: KYPHON- Kim chọc dò cuống sống | G40: Thành phần: Hydroxilated Poly-Vinyl Acetate. kích thước 8 cm x 1,5 cm x 2 cm. - Khả năng thấm hút tốt: Lên tới 21 lần trọng lượng ban đầu khi ở trong chất lỏng. - Kích thước lỗ nhỏ. | H40: 1 cái/1 gói | I40: Argon/ Mỹ | J40: Cái | K40: 40 | L40: 40 | M40: 1700000 | N40: Công ty TNHH thiết bị y tế Tràng Thi | O40: =K40*M40 -> 68000000 | P40: A02A | Q40: N07.06.030.157.000003 | R40: 20 | AC40: 20
A41: =IF(L41="","",COUNTA($L$6:$L41)) -> 19 | B41: GB325.2 | C41: GB414.2 | D41: N07.06.030 | E41: Bộ kim và mũi khoan đốt sống | F41: KYPHON_Bộ kim và mũi khoan đốt sống | G41: Thành phần: Hydroxilated Poly-Vinyl Acetate. kích thước 8 cm x 1,5 cm x 2 cm. - Khả năng thấm hút tốt: Lên tới 21 lần trọng lượng ban đầu khi ở trong chất lỏng. - Kích thước lỗ nhỏ. | H41: 1 cái/1 gói | I41: Medtronic/ Mexico | J41: Cái | K41: 20 | L41: 20 | M41: 4000000 | N41: Công ty TNHH thiết bị y tế Tràng Thi | O41: =K41*M41 -> 80000000 | P41: T15D | Q41: N07.06.030.157.000001 | R41: 10 | AC41: 10
A42: =IF(L42="","",COUNTA($L$6:$L42)) -> 20 | B42: GB325.3 | C42: GB414.3 | D42: N07.06.030 | E42: Bóng nong thân đốt sống các cỡ. | F42: KYPHON - Bóng nong thân đốt sống | G42: Thành phần: Hydroxilated Poly-Vinyl Acetate. kích thước 8 cm x 1,5 cm x 2 cm. - Khả năng thấm hút tốt: Lên tới 21 lần trọng lượng ban đầu khi ở trong chất lỏng. - Kích thước lỗ nhỏ. | H42: 1 cái/1 gói | I42: Medtronic/ Mexico | J42: Cái | K42: 40 | L42: 40 | M42: 10950000 | N42: Công ty TNHH thiết bị y tế Tràng Thi | O42: =K42*M42 -> 438000000 | P42: K09A | Q42: N07.06.030.157.000008 | R42: 20 | AC42: 20
...

Sheet Nhóm 3 chi tiết
A2: DANH MỤC VẬT TƯ Y TẾ TRÚNG THẦU VỚI SỐ LƯỢNG CHI TIẾT NĂM 2022 ĐẠT TIÊU CHUẨN KỸ THUẬT NHÓM 3 THEO THÔNG TƯ SỐ 14/2020/TT-BYT NGÀY 10/7/2020.
A4: STT | B4: Mã hàng hóa 2021 | C4: Mã hàng hóa 2021 (Cũ) | D4: Mã TT 04/2017 | E4: Tên vật tư y tế mời thầu | F4: Tên vật tư y tế trúng thầu | G4: Yêu cầu kỹ thuật | H4: Quy tắc đóng gói | I4: Hãng/nước sản xuất | J4: ĐVT | K4: Số lượng dự kiến 17/10/2021 đến 16/10/2022 (chi tiết) | L4: Số lượng dự kiến 17/10/2021 đến 16/10/2022 (Tổng cộng) | M4: Giá trúng thầu | N4: Nhà thầu trúng thầu | O4: Mã hiệu VTYT | P4: Mã dùng chung (nếu có) | Q4: Khối Bệnh viện | BC4: Khối Trung tâm Y tế
A5: 1 | B5: 2 | D5: 3 | E5: 4 | G5: 5 | J5: 6 | K5: 7 | L5: 8 | Q5: Đa khoa tỉnh | R5: Da Liễu | S5: Mắt | T5: Nội Tiết | U5: Nhi | V5: PHCN | W5: Phổi | X5: Phụ Sản | Y5: Tâm Thần | Z5: YDCT | AA5: Ung Bướu | AB5: Ngọc Lặc | AC5: Bá Thước | AD5: Bỉm Sơn | AE5: Cẩm Thủy | AF5: Đông Sơn | AG5: Hà Trung | AH5: Hoằng Hóa | AI5: Hậu Lộc | AJ5: Lang Chánh | AK5: Mường Lát | AL5: Nông Cống | AM5: Như Thanh | AN5: Như Xuân | AO5: Nga Sơn | AP5: Quảng Xương | AQ5: Quan Hóa | AR5: Quan Sơn | AS5: Sầm Sơn | AT5: Thạch Thành | AU5: Thành Phố | AV5: Thọ Xuân | AW5: Nghi Sơn | AX5: Thiệu Hóa | AY5: Thường Xuân | AZ5: Triệu Sơn | BA5: Vĩnh Lộc | BB5: Yên Định | BC5: Ban BV sức khỏe | BD5: CDC | BE5: PK GTVT | BF5: TTGĐ Y khoa | BG5: TT pháp Y | BH5: TTYT Bá Thước | BI5: TTYT Bỉm Sơn | BJ5: TTYT Cẩm Thủy | BK5: TTYT Đông Sơn | BL5: TTYT Hà Trung | BM5: TTYT Hậu Lộc | BN5: TTYT Hoằng Hóa | BO5: TTYT Lang chánh | BP5: TTYT Mường Lát | BQ5: TTYT Nông cống | BR5: TTYT Nga Sơn | BS5: TTYT Ngọc Lặc | BT5: TTYT Như xuân | BU5: TTYT Như Thanh | BV5: TTYT Quảng Xương | BW5: TTYT Quan Hóa | BX5: TTYT Sầm Sơn | BY5: TTYT Nghi Sơn | BZ5: TTYT Thạch Thành | CA5: TTYT Thành Phố | CB5: TTYT Thiệu hóa | CC5: TTYT Thường xuân | CD5: TTYT Triệu Sơn | CE5: TTYT Vĩnh Lộc | CF5: TTYT Yên Định
E6: Nhóm 1. Bông, dung dịch sát khuẩn, rửa vết thương
E7: 2.4 Vật liệu cầm máu, điều trị các vết thương
A8: =IF(L8="","",COUNTA($L$8:$L8)) -> 1 | B8: G17 | C8: G16 | D8: N02.04.040 | E8: Miếng cầm máu tại mũi | F8: Miếng cầm máu tại mũi 22-60402 | G8: Thành phần: Hydroxilated Poly-Vinyl Acetate. kích thước 8 cm x 1,5 cm x 2 cm. - Khả năng thấm hút tốt: Lên tới 21 lần trọng lượng ban đầu khi ở trong chất lỏng. - Kích thước lỗ nhỏ. | H8: 10 Miếng/hộp | I8: Invotec/ Mỹ | J8: Miếng | K8: 1246 | L8: 1246 | M8: 94500 | N8: Viện Trang thiết bị và Công trình Y tế | O8: 22-60402 | P8: 0 | Q8: 800 | U8: 80 | AC8: 10 | AE8: 20 | AG8: 100 | AI8: 20 | AL8: 50 | AO8: 10 | AV8: 24 | BA8: 2 | BB8: 50 | BH8: 20 | BI8: 50 | CF8: 10
A9: =IF(L9="","",COUNTA($L$8:$L9)) | E9: Nhóm 3. Bơm, kim tiêm, dây truyền, găng tay và vật tư y tế sử dụng trong chăm sóc người bệnh
A10: =IF(L10="","",COUNTA($L$8:$L10)) | E10: 3.2 Kim tiêm và Các loại kim khác
A11: =IF(L11="","",COUNTA($L$8:$L11)) -> 2 | B11: G31 | C11: G36 | D11: N03.03.010 | E11: Kim chọc dò và gây tê tủy sống số 22 (Spinocan G22) | F11: Kim chọc dò và gây tê tủy sống số 22 | G11: Thành phần: Hydroxilated Poly-Vinyl Acetate. kích thước 8 cm x 1,5 cm x 2 cm. - Khả năng thấm hút tốt: Lên tới 21 lần trọng lượng ban đầu khi ở trong chất lỏng. - Kích thước lỗ nhỏ. | H11: 25 cái/hộp | I11: Nipro Corporation/ Nhật Bản | J11: Cái | K11: 2160 | L11: 2160 | M11: 22300 | N11: Công ty TNHH thương mại đầu tư Việt Nam | O11: 0403002404 | P11: N03.03.010.174. 000004 | Q11: 500 | U11: 200 | AD11: 500 | AI11: 390 | AJ11: 100 | AL11: 100 | AS11: 100 | AV11: 150 | BA11: 20 | BB11: 100
A12: =IF(L12="","",COUNTA($L$8:$L12)) -> 3 | B12: G32 | C12: G37 | D12: N03.03.010 | E12: Kim chọc dò và gây tê tủy sống số 25 (Spinocan G25) | F12: Kim chọc dò và gây tê tủy sống số 25 | G12: Thành phần: Hydroxilated Poly-Vinyl Acetate. kích thước 8 cm x 1,5 cm x 2 cm. - Khả năng thấm hút tốt: Lên tới 21 lần trọng lượng ban đầu khi ở trong chất lỏng. - Kích thước lỗ nhỏ. | H12: 25 cái/hộp | I12: Nipro Corporation/ Nhật Bản | J12: Cái | K12: 15320 | L12: 15320 | M12: 22300 | N12: Công ty TNHH thương mại đầu tư Việt Nam | O12: 0403003204 | P12: N03.03.010.174. 000005 | Q12: 9300 | U12: 100 | AA12: 500 | AB12: 650 | AC12: 200 | AD12: 300 | AG12: 1200 | AI12: 390 | AJ12: 200 | AL12: 100 | AM12: 390 | AN12: 200 | AR12: 200 | AV12: 250 | AW12: 500 | AX12: 240 | BA12: 100 | BB12: 500
A13: =IF(L13="","",COUNTA($L$8:$L13)) | E13: 4.2 Ống dẫn lưu, ống hút
A14: =IF(L14="","",COUNTA($L$8:$L14)) -> 4 | B14: G65 | C14: G76 | D14: N04.02.040 | E14: Ống dẫn lưu đường mật qua da có khóa | F14: Ống dẫn lưu đường mật qua da có khóa HS General Purpose | G14: Thành phần: Hydroxilated Poly-Vinyl Acetate. kích thước 8 cm x 1,5 cm x 2 cm. - Khả năng thấm hút tốt: Lên tới 21 lần trọng lượng ban đầu khi ở trong chất lỏng. - Kích thước lỗ nhỏ. | H14: 01 cái/ túi | I14: HS Hospital Service/Ý | J14: Cái | K14: 50 | L14: 50 | M14: 1800000 | N14: Công ty cổ phẩn thiết bị vật tư y tế Thanh Hóa | O14: HSGPLXXXX | P14: N04.02.030.633.ZZZZZZ | AA14: 50
A15: =IF(L15="","",COUNTA($L$8:$L15)) | E15: 4.3 Ống nối, dây nối, chạc nối
A16: =IF(L16="","",COUNTA($L$8:$L16)) -> 5 | B16: G70 | C16: G83 | D16: N04.03.100 | E16: Bộ kết nối 3 cổng | F16: Manifolds 3 cổng Medk | G16: Thành phần: Hydroxilated Poly-Vinyl Acetate. kích thước 8 cm x 1,5 cm x 2 cm. - Khả năng thấm hút tốt: Lên tới 21 lần trọng lượng ban đầu khi ở trong chất lỏng. - Kích thước lỗ nhỏ. | H16: 1 cái/ túi | I16: Medk GmbH /Đức | J16: Cái | L16: 200 | M16: 170000 | N16: Công ty cổ phẩn thiết bị vật tư y tế Thanh Hóa
A17: =IF(L17="","",COUNTA($L$8:$L17)) | B17: G70.1 | E17: Bộ phận kết nối 3 cổng right hand, off màu trắng | G17: Thành phần: Hydroxilated Poly-Vinyl Acetate. kích thước 8 cm x 1,5 cm x 2 cm. - Khả năng thấm hút tốt: Lên tới 21 lần trọng lượng ban đầu khi ở trong chất lỏng. - Kích thước lỗ nhỏ. | H17: 1 cái/ túi | I17: Medk GmbH /Đức | J17: Cái | K17: 50 | M17: 170000 | N17: Công ty cổ phẩn thiết bị vật tư y tế Thanh Hóa | O17: 9823253RH2821 | P17: N04.03.100.572.000003 | Q17: 50
A18: =IF(L18="","",COUNTA($L$8:$L18)) | B18: G70.2 | E18: Bộ phận kết nối 3 cổng right hand, off màu xanh | G18: Thành phần: Hydroxilated Poly-Vinyl Acetate. kích thước 8 cm x 1,5 cm x 2 cm. - Khả năng thấm hút tốt: Lên tới 21 lần trọng lượng ban đầu khi ở trong chất lỏng. - Kích thước lỗ nhỏ. | H18: 1 cái/ túi | I18: Medk GmbH /Đức | J18: Cái | K18: 50 | M18: 170000 | N18: Công ty cổ phẩn thiết bị vật tư y tế Thanh Hóa | O18: 9823253RH1641 | P18: N04.03.100.572.ZZZZZZ | Q18: 50
A19: =IF(L19="","",COUNTA($L$8:$L19)) | B19: G70.3 | E19: Bộ phận kết nối 3 cổng right hand, on màu trắng | G19: Thành phần: Hydroxilated Poly-Vinyl Acetate. kích thước 8 cm x 1,5 cm x 2 cm. - Khả năng thấm hút tốt: Lên tới 21 lần trọng lượng ban đầu khi ở trong chất lỏng. - Kích thước lỗ nhỏ. | H19: 1 cái/ túi | I19: Medk GmbH /Đức | J19: Cái | K19: 50 | M19: 170000 | N19: Công ty cổ phẩn thiết bị vật tư y tế Thanh Hóa | O19: 9823253RH2921 | P19: N04.03.100.572.000007 | Q19: 50
A20: =IF(L20="","",COUNTA($L$8:$L20)) | B20: G70.4 | E20: Bộ phận kết nối 3 cổng right hand, on màu xanh | G20: Thành phần: Hydroxilated Poly-Vinyl Acetate. kích thước 8 cm x 1,5 cm x 2 cm. - Khả năng thấm hút tốt: Lên tới 21 lần trọng lượng ban đầu khi ở trong chất lỏng. - Kích thước lỗ nhỏ. | H20: 1 cái/ túi | I20: Medk GmbH /Đức | J20: Cái | K20: 50 | M20: 170000 | N20: Công ty cổ phẩn thiết bị vật tư y tế Thanh Hóa | O20: 9823253RH2911 | P20: N04.03.100.572.000008 | Q20: 50
A21: =IF(L21="","",COUNTA($L$8:$L21)) | E21: 4.4 Catheter
A22: =IF(L22="","",COUNTA($L$8:$L22)) -> 6 | B22: G75 | C22: G88 | D22: N04.04.010 | E22: Ống thông (catheter) hỗ trợ can thiệp ngoại biên ái nước | F22: Ống thông (catheter) chụp mạch ngoại biên Radifocus Glidecath | G22: Thành phần: Hydroxilated Poly-Vinyl Acetate. kích thước 8 cm x 1,5 cm x 2 cm. - Khả năng thấm hút tốt: Lên tới 21 lần trọng lượng ban đầu khi ở trong chất lỏng. - Kích thước lỗ nhỏ. | H22: Hộp/ 3 cái | I22: Ashitaka Factory of Terumo Corporation/ Nhật Bản | J22: Cái | L22: 558 | M22: 950000 | N22: Công ty cổ phẩn thiết bị vật tư y tế Thanh Hóa
A23: =IF(L23="","",COUNTA($L$8:$L23)) | B23: G75.1 | E23: Ống thông (catheter) chụp mạch ngoại biên Radifocus Glidecath Cobra 5F: 80cm (hoặc tương đương) | G23: Thành phần: Hydroxilated Poly-Vinyl Acetate. kích thước 8 cm x 1,5 cm x 2 cm. - Khả năng thấm hút tốt: Lên tới 21 lần trọng lượng ban đầu khi ở trong chất lỏng. - Kích thước lỗ nhỏ. | H23: Hộp/ 3 cái | I23: Ashitaka Factory of Terumo Corporation/ Nhật Bản | J23: Cái | K23: 50 | M23: 950000 | N23: Công ty cổ phẩn thiết bị vật tư y tế Thanh Hóa | O23: RF*XB45108M | P23: N04.04.010.230.000050 | Q23: 20 | AA23: 30
A24: =IF(L24="","",COUNTA($L$8:$L24)) | B24: G75.2 | E24: Ống thông ( catheter ) chụp mạch não Radifocus Glidecath (Mani) (hoặc tương đương) | G24: Thành phần: Hydroxilated Poly-Vinyl Acetate. kích thước 8 cm x 1,5 cm x 2 cm. - Khả năng thấm hút tốt: Lên tới 21 lần trọng lượng ban đầu khi ở trong chất lỏng. - Kích thước lỗ nhỏ. | H24: Hộp/ 3 cái | I24: Ashitaka Factory of Terumo Corporation/ Nhật Bản | J24: Cái | K24: 103 | M24: 950000 | N24: Công ty cổ phẩn thiết bị vật tư y tế Thanh Hóa | O24: RF*YG15110M | P24: N04.04.010.230.000006 | Q24: 100 | AA24: 3
A25: =IF(L25="","",COUNTA($L$8:$L25)) | B25: G75.3 | E25: Ống thông (catheter) chụp mạch ngoại biên Radifocus Glidecath (Yashiro) 5F: 70cm (hoặc tương đương) | G25: Thành phần: Hydroxilated Poly-Vinyl Acetate. kích thước 8 cm x 1,5 cm x 2 cm. - Khả năng thấm hút tốt: Lên tới 21 lần trọng lượng ban đầu khi ở trong chất lỏng. - Kích thước lỗ nhỏ. | H25: Hộp/ 3 cái | I25: Ashitaka Factory of Terumo Corporation/ Nhật Bản | J25: Cái | K25: 280 | M25: 950000 | N25: Công ty cổ phẩn thiết bị vật tư y tế Thanh Hóa | O25: RF*XG95107M | P25: N04.04.010.230.000051 | Q25: 100 | AA25: 180
A26: =IF(L26="","",COUNTA($L$8:$L26)) | B26: G75.4 | E26: Ống thông (catheter) hỗ trợ can thiệp ngoại biên ái nước, Radifocus Glidecath 5Fr Cobra 65cm (hoặc tương đương) | G26: Thành phần: Hydroxilated Poly-Vinyl Acetate. kích thước 8 cm x 1,5 cm x 2 cm. - Khả năng thấm hút tốt: Lên tới 21 lần trọng lượng ban đầu khi ở trong chất lỏng. - Kích thước lỗ nhỏ. | H26: Hộp/ 3 cái | I26: Ashitaka Factory of Terumo Corporation/ Nhật Bản | J26: Cái | K26: 20 | M26: 950000 | N26: Công ty cổ phẩn thiết bị vật tư y tế Thanh Hóa | O26: RF*XB4510GM | P26: N04.04.010.230.000055 | Q26: 20
A27: =IF(L27="","",COUNTA($L$8:$L27)) | B27: G75.5 | E27: Ống thông (catheter) hỗ trợ can thiệp ngoại biên ái nước, Radifocus Glidecath 5Fr Cobra C2 80cm (hoặc tương đương) | G27: Thành phần: Hydroxilated Poly-Vinyl Acetate. kích thước 8 cm x 1,5 cm x 2 cm. - Khả năng thấm hút tốt: Lên tới 21 lần trọng lượng ban đầu khi ở trong chất lỏng. - Kích thước lỗ nhỏ. | H27: Hộp/ 3 cái | I27: Ashitaka Factory of Terumo Corporation/ Nhật Bản | J27: Cái | K27: 40 | M27: 950000 | N27: Công ty cổ phẩn thiết bị vật tư y tế Thanh Hóa | O27: RF*XB55108M | P27: N04.04.010.230.000056 | Q27: 20 | AA27: 20
A28: =IF(L28="","",COUNTA($L$8:$L28)) | B28: G75.6 | E28: Ống thông (catheter) hỗ trợ can thiệp ngoại biên ái nước, Radifocus Glidecath 5Fr Yashiro 100cm (hoặc tương đương) | G28: Thành phần: Hydroxilated Poly-Vinyl Acetate. kích thước 8 cm x 1,5 cm x 2 cm. - Khả năng thấm hút tốt: Lên tới 21 lần trọng lượng ban đầu khi ở trong chất lỏng. - Kích thước lỗ nhỏ. | H28: Hộp/ 3 cái | I28: Ashitaka Factory of Terumo Corporation/ Nhật Bản | J28: Cái | K28: 65 | M28: 950000 | N28: Công ty cổ phẩn thiết bị vật tư y tế Thanh Hóa | O28: RF*XG95110M | P28: N04.04.010.230.000057 | Q28: 50 | AA28: 15
A29: =IF(L29="","",COUNTA($L$8:$L29)) -> 7 | B29: G77 | C29: G90 | D29: N04.04.010 | E29: Catheter trợ giúp can thiệp | F29: Ống thông can thiệp FalconTM Coronary Guiding Catheter | G29: Thành phần: Hydroxilated Poly-Vinyl Acetate. kích thước 8 cm x 1,5 cm x 2 cm. - Khả năng thấm hút tốt: Lên tới 21 lần trọng lượng ban đầu khi ở trong chất lỏng. - Kích thước lỗ nhỏ. | H29: Hộp 1 cái | I29: Umbra Medical products, Inc/ Mỹ | J29: Cái | L29: 200 | M29: 1980000 | N29: Công ty cổ phẩn thiết bị vật tư y tế Thanh Hóa
A30: =IF(L30="","",COUNTA($L$8:$L30)) | B30: G77.1 | E30: Catheter trợ giúp can thiệp cỡ 6F EBU 3.75 | G30: Thành phần: Hydroxilated Poly-Vinyl Acetate. kích thước 8 cm x 1,5 cm x 2 cm. - Khả năng thấm hút tốt: Lên tới 21 lần trọng lượng ban đầu khi ở trong chất lỏng. - Kích thước lỗ nhỏ. | H30: Hộp 1 cái | I30: Umbra Medical products, Inc/ Mỹ | J30: Cái | K30: 30 | M30: 1980000 | N30: Công ty cổ phẩn thiết bị vật tư y tế Thanh Hóa | O30: 7838-50 | P30: N04.04.010.241.000066 | Q30: 30
A31: =IF(L31="","",COUNTA($L$8:$L31)) | B31: G77.2 | E31: Catheter trợ giúp can thiệp cỡ 6F JR4 | G31: Thành phần: Hydroxilated Poly-Vinyl Acetate. kích thước 8 cm x 1,5 cm x 2 cm. - Khả năng thấm hút tốt: Lên tới 21 lần trọng lượng ban đầu khi ở trong chất lỏng. - Kích thước lỗ nhỏ. | H31: Hộp 1 cái | I31: Umbra Medical products, Inc/ Mỹ | J31: Cái | K31: 70 | M31: 1980000 | N31: Công ty cổ phẩn thiết bị vật tư y tế Thanh Hóa | O31: 7874-20 | P31: N04.04.010.241.000046 | Q31: 70
A32: =IF(L32="","",COUNTA($L$8:$L32)) | B32: G77.3 | E32: Catheter trợ giúp can thiệp cỡ 6F EBU 3.5 | G32: Thành phần: Hydroxilated Poly-Vinyl Acetate. kích thước 8 cm x 1,5 cm x 2 cm. - Khả năng thấm hút tốt: Lên tới 21 lần trọng lượng ban đầu khi ở trong chất lỏng. - Kích thước lỗ nhỏ. | H32: Hộp 1 cái | I32: Umbra Medical products, Inc/ Mỹ | J32: Cái | K32: 30 | M32: 1980000 | N32: Công ty cổ phẩn thiết bị vật tư y tế Thanh Hóa | O32: 7833-H0 | P32: N04.04.010.241.000062 | Q32: 30
A33: =IF(L33="","",COUNTA($L$8:$L33)) | B33: G77.4 | E33: Catheter trợ giúp can thiệp cỡ 6F JL4 | G33: Thành phần: Hydroxilated Poly-Vinyl Acetate. kích thước 8 cm x 1,5 cm x 2 cm. - Khả năng thấm hút tốt: Lên tới 21 lần trọng lượng ban đầu khi ở trong chất lỏng. - Kích thước lỗ nhỏ. | H33: Hộp 1 cái | I33: Umbra Medical products, Inc/ Mỹ | J33: Cái | K33: 70 | M33: 1980000 | N33: Công ty cổ phẩn thiết bị vật tư y tế Thanh Hóa | O33: 7875-20 | P33: N04.04.010.241.000030 | Q33: 70
A34: =IF(L34="","",COUNTA($L$8:$L34)) -> 8 | B34: G80 | C34: G93 | D34: N04.04.010 | E34: Catheter trợ giúp can thiệp | F34: Ống thông can thiệp FalconTM Coronary Guiding Catheter | G34: Thành phần: Hydroxilated Poly-Vinyl Acetate. kích thước 8 cm x 1,5 cm x 2 cm. - Khả năng thấm hút tốt: Lên tới 21 lần trọng lượng ban đầu khi ở trong chất lỏng. - Kích thước lỗ nhỏ. | H34: 01 cái/hộp | I34: Umbra Medical products, Inc/ Mỹ | J34: Cái | L34: 100 | M34: 1980000 | N34: Công ty cổ phẩn thiết bị vật tư y tế Thanh Hóa
A35: =IF(L35="","",COUNTA($L$8:$L35)) | B35: G80.1 | E35: Ống thông can thiệp cỡ Judkin Right 4.0 6F | F35: Ống thông can thiệp FalconTM Coronary Guiding Catheter | G35: Thành phần: Hydroxilated Poly-Vinyl Acetate. kích thước 8 cm x 1,5 cm x 2 cm. - Khả năng thấm hút tốt: Lên tới 21 lần trọng lượng ban đầu khi ở trong chất lỏng. - Kích thước lỗ nhỏ. | H35: 01 cái/hộp | I35: Umbra Medical products, Inc/ Mỹ | J35: Cái | K35: 100 | M35: 1980000 | N35: Công ty cổ phẩn thiết bị vật tư y tế Thanh Hóa | O35: 7874-20 | P35: N04.04.010.241.000046 | Q35: 100
A36: =IF(L36="","",COUNTA($L$8:$L36)) | E36: Nhóm 5. Kim khâu, chỉ khâu, dao phẫu thuật
A37: =IF(L37="","",COUNTA($L$8:$L37)) | E37: 5.2 Chỉ khâu
A38: =IF(L38="","",COUNTA($L$8:$L38)) -> 9 | B38: G109 | C38: G127 | D38: N05.02.040 | E38: Chỉ tiêu tổng hợp số 1 | F38: Marlin Violet số 1 | G38: Thành phần: Hydroxilated Poly-Vinyl Acetate. kích thước 8 cm x 1,5 cm x 2 cm. - Khả năng thấm hút tốt: Lên tới 21 lần trọng lượng ban đầu khi ở trong chất lỏng. - Kích thước lỗ nhỏ. | H38: Hộp 24 sợi | I38: Catgut GmbH/ Đức | J38: Sợi | K38: 23455 | L38: 23455 | M38: 81000 | N38: Công ty cổ phần đầu tư và phát triển y tế Việt Anh SM | O38: 17241349 | U38: 480 | X38: 12000 | AB38: 1500 | AD38: 120 | AE38: 720 | AI38: 600 | AJ38: 280 | AL38: 600 | AM38: 195 | AO38: 100 | AP38: 500 | AQ38: 400 | AS38: 100 | AT38: 1500 | AV38: 800 | AW38: 500 | AX38: 1200 | AY38: 180 | AZ38: 480 | BA38: 700 | BB38: 500
A39: =IF(L39="","",COUNTA($L$8:$L39)) -> 10 | B39: G111 | C39: G129 | D39: N05.02.040 | E39: Chỉ tiêu tổng hợp sợi bện số 2/0 | F39: Marlin Violet số 2/0 | G39: Thành phần: Hydroxilated Poly-Vinyl Acetate. kích thước 8 cm x 1,5 cm x 2 cm. - Khả năng thấm hút tốt: Lên tới 21 lần trọng lượng ban đầu khi ở trong chất lỏng. - Kích thước lỗ nhỏ. | H39: Hộp 24 sợi | I39: Catgut GmbH/ Đức | J39: Sợi | K39: 3078 | L39: 3078 | M39: 81500 | N39: Công ty cổ phần đầu tư và phát triển y tế Việt Anh SM | O39: 17241209 | U39: 120 | AE39: 240 | AG39: 400 | AI39: 80 | AJ39: 160 | AM39: 78 | AO39: 200 | AQ39: 400 | AS39: 80 | AV39: 800 | AX39: 300 | AY39: 120 | BB39: 100
A40: =IF(L40="","",COUNTA($L$8:$L40)) -> 11 | B40: G113 | C40: G131 | D40: N05.02.040 | E40: Chỉ tiêu tổng hợp số 4/0 | F40: Marlin Violet số 4/0 | G40: Thành phần: Hydroxilated Poly-Vinyl Acetate. kích thước 8 cm x 1,5 cm x 2 cm. - Khả năng thấm hút tốt: Lên tới 21 lần trọng lượng ban đầu khi ở trong chất lỏng. - Kích thước lỗ nhỏ. | H40: Hộp 24 sợi | I40: Catgut GmbH/ Đức | J40: Sợi | K40: 11080 | L40: 11080 | M40: 81500 | N40: Công ty cổ phần đầu tư và phát triển y tế Việt Anh SM | O40: 17241135 | Q40: 9000 | R40: 36 | U40: 600 | AB40: 170 | AC40: 30 | AD40: 200 | AG40: 50 | AI40: 100 | AJ40: 140 | AL40: 100 | AM40: 78 | AO40: 100 | AV40: 80 | AX40: 240 | AY40: 120 | AZ40: 36
A41: =IF(L41="","",COUNTA($L$8:$L41)) | E41: Nhóm 6. Vật liệu thay thế, vật liệu cấy ghép nhân tạo
A42: =IF(L42="","",COUNTA($L$8:$L42)) | E42: 6.3 Thủy tinh thể nhân tạo
...

Sheet Nhóm 5 chi tiết
A2: DANH MỤC VẬT TƯ Y TẾ TRÚNG THẦU VỚI SỐ LƯỢNG CHI TIẾT NĂM 2022 ĐẠT TIÊU CHUẨN KỸ THUẬT NHÓM 5 THEO THÔNG TƯ SỐ 14/2020/TT-BYT NGÀY 10/7/2020.
A4: STT | B4: Mã hàng hóa 2021 | C4: Mã hàng hóa 2021 (Cũ) | D4: Mã TT 04/2017 | E4: Tên vật tư y tế mời thầu | F4: Tên vật tư y tế trúng thầu | G4: Yêu cầu kỹ thuật | H4: Quy tắc đóng gói | I4: Hãng/nước sản xuất | J4: ĐVT | K4: Số lượng dự kiến 17/10/2021 đến 16/10/2022 (chi tiết) | L4: Số lượng dự kiến 17/10/2021 đến 16/10/2022 (Tổng cộng) | M4: Giá trúng thầu | N4: Nhà thầu trúng thầu | O4: Mã hiệu VTYT | P4: Mã dùng chung (nếu có) | Q4: Khối Bệnh viện | BC4: Khối Trung tâm Y tế
