Workbook

Sheet foxz

Sheet DS Tổng hợp viện trợ
A1: TỔNG HỢP HÀNG VIỆN TRỢ NƯỚC NGOÀI PHÒNG CHỐNG COVID-19
A2: (Tính đến 31/10/2021)
A3: STT | B3: Mốc thời gian | C3: Khoản viện trợ/ Nhà tài trợ | D3: Danh mục hàng | E3: Số Quyết định | F3: Đơn vị thực hiện tiếp nhận | G3: Phân bổ | H3: Tổng giá trị ước tính (một số lô hàng không có giá trị thương mại, hoặc nhà tài trợ không cung cấp giá trị) | N3: Test nhanh Kháng nguyên | S3: Test dùng cho máy PCR | X3: Khẩu trang N95 + FFP2 | AC3: Khẩu trang phẫu thuật + KN95 | AH3: Khẩu trang y tế/Khẩu trang bảo hộ | AM3: Trang phục bảo hộ Y tế | AR3: Máy thở | AW3: Máy tạo Oxy dòng cao HFNC và vật tư đi kèm | BB3: Máy tạo Oxy | BG3: Hệ thống Realtime PCR | BL3: Bơm Kim tiêm | BQ3: Găng tay y tế | BV3: Cồn sát khuẩn | CA3: Hòm lạnh kèm thiết bị theo dõi nhiệt độ | CF3: TL 2-8 độ C | CK3: TL -28 -18 độ C | CP3: TL -< 75 độ C | CU3: Máy chiết xuất axit nuclecic | CZ3: Bộ chiết xuất axit nuclecic | DE3: Hộp an toàn | DJ3: Giường bệnh | DO3: Bộ mồi và probe gen E (TiBMoL gen E) | DT3: Bộ mồi và probe gen RdRp: (TiBMoL gen RdRp): | DY3: Kem dưỡng ẩm Ziaja Med Atopic Dermatitis Soothing and Nourishing Hand Lotion (Ziaja Med AZS Emulsja Do Rak Lagodzaco-Natluszczajaca). | ED3: Ống lấy mẫu bệnh phẩm (spectimen Collection): | EI3: Máy theo dõi nhịp tim | EN3: Kính chống giọt bắn | ES3: Kính bảo vệ mắt | EX3: Dây truyền dịch (kim tiêm điện) | FC3: Găng tay phẫu thuật | FH3: Bơm tiêm điện | FM3: Oxy y tế dạng lỏng | FR3: Monitor theo dõi bệnh nhân | FW3: Máy đo độ bão hòa oxy trong máu | GB3: Xe ô tô tải lạnh Mishubishi | GG3: Hệ thống oxy | GL3: Máy tách chiết tự động | GQ3: Hệ thống máy tuần hoàn ECMO | GV3: Gạc mũi họng 150mm | HA3: Ống w/3ml nước muối đệm Phophat 10ml | HF3: Vắc xin Astra | HK3: Vắc xin Vero Cell | HP3: Vắc xin Moderna | HU3: Vắc xin Sputnik V
N4: Số lượng (Test) | O4: Đơn giá | Q4: Thành tiền | S4: Số lượng (Test) | T4: Đơn giá | V4: Thành tiền | X4: Số lượng (Chiếc) | Y4: Đơn giá | AA4: Thành tiền | AC4: Số lượng (Chiếc) | AD4: Đơn giá | AF4: Thành tiền | AH4: Số lượng (Chiếc) | AI4: Đơn giá | AK4: Thành tiền | AM4: Số lượng (Bộ) | AN4: Đơn giá | AP4: Thành tiền | AR4: Số lượng | AS4: Đơn giá | AU4: Thành tiền | AW4: Số lượng | AX4: Đơn giá | AZ4: Thành tiền | BB4: Số lượng | BC4: Đơn giá | BE4: Thành tiền | BG4: Số lượng | BH4: Đơn giá | BJ4: Thành tiền | BL4: Số lượng | BM4: Đơn giá | BO4: Thành tiền | BQ4: Số lượng | BR4: Đơn giá | BT4: Thành tiền | BV4: Số lượng | BW4: Đơn giá | BY4: Thành tiền | CA4: Số lượng | CB4: Đơn giá | CD4: Thành tiền | CF4: Số lượng | CG4: Đơn giá | CI4: Thành tiền | CK4: Số lượng | CL4: Đơn giá | CN4: Thành tiền | CP4: Số lượng | CQ4: Đơn giá | CS4: Thành tiền | CU4: Số lượng | CV4: Đơn giá | CX4: Thành tiền | CZ4: Số lượng | DA4: Đơn giá | DC4: Thành tiền | DE4: Số lượng | DF4: Đơn giá | DH4: Thành tiền | DJ4: Số lượng | DK4: Đơn giá | DM4: Thành tiền | DO4: Số lượng | DP4: Đơn giá | DR4: Thành tiền | DT4: Số lượng | DU4: Đơn giá | DW4: Thành tiền | DY4: Số lượng | DZ4: Đơn giá | EB4: Thành tiền | ED4: Số lượng | EE4: Đơn giá | EG4: Thành tiền | EI4: Số lượng | EJ4: Đơn giá | EL4: Thành tiền | EN4: Số lượng | EO4: Đơn giá | EQ4: Thành tiền | ES4: Số lượng | ET4: Đơn giá | EV4: Thành tiền | EX4: Số lượng | EY4: Đơn giá | FA4: Thành tiền | FC4: Số lượng | FD4: Đơn giá | FF4: Thành tiền | FH4: Số lượng | FI4: Đơn giá | FK4: Thành tiền | FM4: Số lượng | FN4: Đơn giá | FP4: Thành tiền | FR4: Số lượng | FS4: Đơn giá | FU4: Thành tiền | FW4: Số lượng | FX4: Đơn giá | FZ4: Thành tiền | GB4: Số lượng | GC4: Đơn giá | GE4: Thành tiền | GG4: Số lượng | GH4: Đơn giá | GJ4: Thành tiền | GL4: Số lượng | GM4: Đơn giá | GO4: Thành tiền | GQ4: Số lượng | GR4: Đơn giá | GT4: Thành tiền | GV4: Số lượng | GW4: Đơn giá | GY4: Thành tiền | HA4: Số lượng | HB4: Đơn giá | HD4: Thành tiền | HF4: Số lượng | HG4: Đơn giá | HI4: Thành tiền | HK4: Số lượng | HL4: Đơn giá | HN4: Thành tiền | HP4: Số lượng | HQ4: Đơn giá | HS4: Thành tiền | HU4: Số lượng | HV4: Đơn giá | HX4: Thành tiền
H5: Vốn viện trợ (nguyên tệ) | I5: Vốn viện trợ (VNĐ) | J5: Vốn đối ứng (quy đổi ngoại tệ) | K5: Vốn đối ứng (VNĐ) | L5: Tổng giá trị (nguyên tệ) | M5: Tổng giá trị (VNĐ) | O5: Nguyên tệ | P5: VNĐ | Q5: Nguyên tệ | R5: VNĐ | T5: Nguyên tệ | U5: VNĐ | V5: Nguyên tệ | W5: VNĐ | Y5: Nguyên tệ | Z5: VNĐ | AA5: Nguyên tệ | AB5: VNĐ | AD5: Nguyên tệ | AE5: VNĐ | AF5: Nguyên tệ | AG5: VNĐ | AI5: Nguyên tệ | AJ5: VNĐ | AK5: Nguyên tệ | AL5: VNĐ | AN5: Nguyên tệ | AO5: VNĐ | AP5: Nguyên tệ | AQ5: VNĐ | AS5: Nguyên tệ | AT5: VNĐ | AU5: Nguyên tệ | AV5: VNĐ | AX5: Nguyên tệ | AY5: VNĐ | AZ5: Nguyên tệ | BA5: VNĐ | BC5: Nguyên tệ | BD5: VNĐ | BE5: Nguyên tệ | BF5: VNĐ | BH5: Nguyên tệ | BI5: VNĐ | BJ5: Nguyên tệ | BK5: VNĐ | BM5: Nguyên tệ | BN5: VNĐ | BO5: Nguyên tệ | BP5: VNĐ | BR5: Nguyên tệ | BS5: VNĐ | BT5: Nguyên tệ | BU5: VNĐ | BW5: Nguyên tệ | BX5: VNĐ | BY5: Nguyên tệ | BZ5: VNĐ | CB5: Nguyên tệ | CC5: VNĐ | CD5: Nguyên tệ | CE5: VNĐ | CG5: Nguyên tệ | CH5: VNĐ | CI5: Nguyên tệ | CJ5: VNĐ | CL5: Nguyên tệ | CM5: VNĐ | CN5: Nguyên tệ | CO5: VNĐ | CQ5: Nguyên tệ | CR5: VNĐ | CS5: Nguyên tệ | CT5: VNĐ | CV5: Nguyên tệ | CW5: VNĐ | CX5: Nguyên tệ | CY5: VNĐ | DA5: Nguyên tệ | DB5: VNĐ | DC5: Nguyên tệ | DD5: VNĐ | DF5: Nguyên tệ | DG5: VNĐ | DH5: Nguyên tệ | DI5: VNĐ | DK5: Nguyên tệ | DL5: VNĐ | DM5: Nguyên tệ | DN5: VNĐ | DP5: Nguyên tệ | DQ5: VNĐ | DR5: Nguyên tệ | DS5: VNĐ | DU5: Nguyên tệ | DV5: VNĐ | DW5: Nguyên tệ | DX5: VNĐ | DZ5: Nguyên tệ | EA5: VNĐ | EB5: Nguyên tệ | EC5: VNĐ | EE5: Nguyên tệ | EF5: VNĐ | EG5: Nguyên tệ | EH5: VNĐ | EJ5: Nguyên tệ | EK5: VNĐ | EL5: Nguyên tệ | EM5: VNĐ | EO5: Nguyên tệ | EP5: VNĐ | EQ5: Nguyên tệ | ER5: VNĐ | ET5: Nguyên tệ | EU5: VNĐ | EV5: Nguyên tệ | EW5: VNĐ | EY5: Nguyên tệ | EZ5: VNĐ | FA5: Nguyên tệ | FB5: VNĐ | FD5: Nguyên tệ | FE5: VNĐ | FF5: Nguyên tệ | FG5: VNĐ | FI5: Nguyên tệ | FJ5: VNĐ | FK5: Nguyên tệ | FL5: VNĐ | FN5: Nguyên tệ | FO5: VNĐ | FP5: Nguyên tệ | FQ5: VNĐ | FS5: Nguyên tệ | FT5: VNĐ | FU5: Nguyên tệ | FV5: VNĐ | FX5: Nguyên tệ | FY5: VNĐ | FZ5: Nguyên tệ | GA5: VNĐ | GC5: Nguyên tệ | GD5: VNĐ | GE5: Nguyên tệ | GF5: VNĐ | GH5: Nguyên tệ | GI5: VNĐ | GJ5: Nguyên tệ | GK5: VNĐ | GM5: Nguyên tệ | GN5: VNĐ | GO5: Nguyên tệ | GP5: VNĐ | GR5: Nguyên tệ | GS5: VNĐ | GT5: Nguyên tệ | GU5: VNĐ | GW5: Nguyên tệ | GX5: VNĐ | GY5: Nguyên tệ | GZ5: VNĐ | HB5: Nguyên tệ | HC5: VNĐ | HD5: Nguyên tệ | HE5: VNĐ | HG5: Nguyên tệ | HH5: VNĐ | HI5: Nguyên tệ | HJ5: VNĐ | HL5: Nguyên tệ | HM5: VNĐ | HN5: Nguyên tệ | HO5: VNĐ | HQ5: Nguyên tệ | HR5: VNĐ | HS5: Nguyên tệ | HT5: VNĐ | HV5: Nguyên tệ | HW5: VNĐ | HX5: Nguyên tệ | HY5: VNĐ
C6: Tổng số lượng tính đến thời điểm hiện tại | H6: - | I6: =I8+I11+I22+I59 -> 2.3646165e+12 | J6: - | K6: =K8+K11+K22+K59 -> 74036448147 | L6: - | M6: =M8+M11+M22+M59 -> 2.438653e+12 | N6: =N8+N11+N22+N59 -> 1504695 | R6: =R8+R11+R22+R59 -> 101609927109 | S6: =S8+S11+S22+S59 -> 333000 | W6: =W8+W11+W22+W59 -> 49357948000 | X6: =X8+X11+X22+X59 -> 894200 | AB6: =AB8+AB11+AB22+AB59 -> 49944874259 | AC6: =AC8+AC11+AC22+AC59 -> 1623250 | AG6: =AG8+AG11+AG22+AG59 -> 8.2884983e+09 | AH6: =AH8+AH11+AH22+AH59 -> 731072.55 | AL6: =AL8+AL11+AL22+AL59 -> 7408382200 | AM6: =AM8+AM11+AM22+AM59 -> 493880 | AQ6: =AQ8+AQ11+AQ22+AQ59 -> 82459339954 | AR6: =AR8+AR11+AR22+AR59 -> 318 | AV6: =AV8+AV11+AV22+AV59 -> 1.5270613e+11 | AW6: =AW8+AW11+AW22+AW59 -> 50 | BA6: =BA8+BA11+BA22+BA59 -> 4759401550 | BB6: =BB8+BB11+BB22+BB59 -> 1786 | BF6: =BF8+BF11+BF22+BF59 -> 7.8260611e+10 | BG6: =BG8+BG11+BG22+BG59 -> 6 | BK6: =BK8+BK11+BK22+BK59 -> 4288800000 | BL6: =BL8+BL11+BL22+BL59 -> 48938000 | BP6: =BP8+BP11+BP22+BP59 -> 1113940550 | BQ6: =BQ8+BQ11+BQ22+BQ59 -> 963400 | BU6: =BU8+BU11+BU22+BU59 -> 0 | BV6: =BV8+BV11+BV22+BV59 -> 257460 | BZ6: =BZ8+BZ11+BZ22+BZ59 -> 1.9249847e+10 | CA6: =CA8+CA11+CA22+CA60 -> 1600 | CE6: =SUM(CE8+CE11+CE22+CE59) -> 20482200000 | CF6: =CF8+CF11+CF22+CF59 -> 2210 | CJ6: =CJ8+CJ11+CJ22+CJ59 -> 75620408000 | CK6: =CK8+CK11+CK22+CK59 -> 0 | CO6: =CO8+CO11+CO22+CO59 -> 0 | CP6: =CP8+CP11+CP22+CP59 -> 85 | CT6: =CT8+CT11+CT22+CT59 -> 2.8211906e+10 | CU6: =CU8+CU11+CU22+CU59 -> 2 | CY6: =CY8+CY11+CY22+CY59 -> 0 | CZ6: =CZ8+CZ11+CZ22+CZ59 -> 23040 | DD6: =DD8+DD11+DD22+DD59 -> 0 | DE6: =DE8+DE11+DE22+DE59 -> 907375 | DI6: =DI8+DI11+DI22+DI59 -> 0 | DJ6: =DJ8+DJ11+DJ22+DJ59 -> 200 | DN6: =DN8+DN11+DN22+DN59 -> 0 | DO6: =DO8+DO11+DO22+DO59 -> 202176 | DS6: =DS8+DS11+DS22+DS59 -> 7.5458391e+09 | DT6: =DT8+DT11+DT22+DT59 -> 185184 | DX6: =DX8+DX11+DX22+DX59 -> 3.8772641e+09 | DY6: =DY8+DY11+DY22+DY59 -> 12000 | EC6: =EC8+EC11+EC22+EC59 -> 0 | ED6: =ED8+ED11+ED22+ED59 -> 300000 | EH6: =EH8+EH11+EH22+EH59 -> 10923840000 | EI6: =SUM(EI8+EI11+EI22+EI59) -> 50 | EM6: =EM8+EM11+EM22+EM59 -> 0 | EN6: =SUM(EN8+EN11+EN22+EN59) -> 210000 | ER6: =SUM(ER8+ER11+ER22+ER59) -> 11395955538 | ES6: =ES8+ES11+ES22+ES59 -> 5000 | EW6: =SUM(EW8+EW11+EW22+EW59) -> 761085000 | EX6: =EX8+EX11+EX22+EX59 -> 267 | FB6: =SUM(FB8+FB11+FB22+FB59) -> 6611265173 | FC6: =FC8+FC11+FC22+FC59 -> 404500 | FG6: =SUM(FG8+FG11+FG22+FG59) -> 1356824460 | FH6: =FH8+FH11+FH22+FH60 -> 100 | FL6: =SUM(FL8+FL11+FL22+FL59) -> 1628989222 | FM6: =FM8+FM11+FM22+FM60 -> 100 | FQ6: =SUM(FQ8+FQ11+FQ22+FQ59) -> 455144760 | FR6: =FR8+FR11+FR22+FR59 -> 91 | FU6: =SUM(FT8+FU11+FU22+FU59) -> 0 | FV6: =SUM(FV8+FV11+FV22+FV59) -> 8974651169 | FW6: =FW8+FW11+FW22+FW59 -> 20000 | FZ6: =SUM(FY8+FZ11+FZ22+FZ59) -> 0 | GA6: =SUM(GA8+GA11+GA22+GA59) -> 5544175200 | GB6: =GB8+GB11+GB22+GB59 -> 5 | GE6: - | GF6: =SUM(GF8+GF11+GF22+GF59) -> 11315000000 | GG6: =GG8+GG11+GG22+GG59 -> 4 | GJ6: =SUM(GI8+GJ11+GJ22+GJ59) -> 0 | GK6: =SUM(GK8+GK11+GK22+GK59) -> 714800000 | GL6: =GL8+GL11+GL22+GL59 -> 4 | GO6: =SUM(GN8+GO11+GO22+GO59) -> 0 | GP6: =SUM(GP8+GP11+GP22+GP59) -> 5718400000 | GQ6: =GQ8+GQ11+GQ22+GQ59 -> 1 | GT6: =SUM(GS8+GT11+GT22+GT59) -> 0 | GU6: =SUM(GU8+GU11+GU22+GU59) -> 8398900000 | GV6: =GV8+GV11+GV22+GV59 -> 500000 | GY6: =SUM(GX8+GY11+GY22+GY59) -> 0 | GZ6: =SUM(GZ8+GZ11+GZ22+GZ59) -> 0 | HA6: =HA8+HA11+HA22+HA59 -> 100000 | HD6: =SUM(HC8+HD11+HD22+HD59) -> 0 | HE6: =SUM(HE8+HE11+HE22+HE59) -> 0 | HF6: =HF8+HF11+HF22+HF59 -> 43911670 | HJ6: =HJ8+HJ11+HJ22+HJ59 -> 1041319613200 | HK6: =HK8+HK11+HK22+HK59 -> 3300000 | HO6: =HO8+HO11+HO22+HO59 -> 257216220000 | HP6: =HP8+HP11+HP22+HP59 -> 5040900 | HT6: =HT8+HT11+HT22+HT59 -> 114558291120 | HU6: =HU8+HU11+HU22+HU59 -> 10000 | HX6: =SUM(HW8+HX11+HX22+HX59) -> 0 | HY6: =SUM(HY8+HY11+HY22+HY59) -> 0
B7: Năm 2021
B8: Quý I | H8: - | I8: =SUM(I9:I10) -> 378011520000 | J8: - | K8: =SUM(K9:K10) -> 0 | L8: - | M8: =SUM(M9:M10) -> 378011520000 | N8: =SUM(N9:N10) -> 0 | R8: =SUM(R9:R10) -> 0 | S8: =SUM(S9:S10) -> 0 | W8: =SUM(W9:W10) -> 0 | X8: =SUM(X9:X10) -> 0 | AB8: =SUM(AB9:AB10) -> 0 | AC8: =SUM(AC9:AC10) -> 0 | AG8: =SUM(AG9:AG10) -> 0 | AH8: =SUM(AH9:AH10) -> 0 | AL8: =SUM(AL9:AL10) -> 0 | AM8: =SUM(AM9:AM10) -> 0 | AQ8: =SUM(AQ9:AQ10) -> 0 | AR8: =SUM(AR9:AR10) -> 0 | AV8: =SUM(AV9:AV10) -> 0 | AW8: =SUM(AW9:AW10) -> 0 | BA8: =SUM(BA9:BA10) -> 0 | BB8: =SUM(BB9:BB10) -> 0 | BF8: =SUM(BF9:BF10) -> 0 | BG8: =SUM(BG9:BG10) -> 0 | BK8: =SUM(BK9:BK10) -> 0 | BL8: =SUM(BL9:BL10) -> 0 | BP8: =SUM(BP9:BP10) -> 0 | BQ8: =SUM(BQ9:BQ10) -> 0 | BU8: =SUM(BU9:BU10) -> 0 | BV8: =SUM(BV9:BV10) -> 0 | BZ8: =SUM(BZ9:BZ10) -> 0 | CA8: =SUM(CA9:CA10) -> 0 | CE8: =SUM(CE9:CE10) -> 0 | CF8: =SUM(CF9:CF10) -> 0 | CJ8: =SUM(CJ9:CJ10) -> 0 | CK8: =SUM(CK9:CK10) -> 0 | CO8: =SUM(CO9:CO10) -> 0 | CP8: =SUM(CP9:CP10) -> 0 | CT8: =SUM(CT9:CT10) -> 0 | CU8: =SUM(CU9:CU10) -> 0 | CY8: =SUM(CY9:CY10) -> 0 | CZ8: =SUM(CZ9:CZ10) -> 0 | DD8: =SUM(DD9:DD10) -> 0 | DE8: =SUM(DE9:DE10) -> 0 | DI8: =SUM(DI9:DI10) -> 0 | DJ8: =SUM(DJ9:DJ10) -> 0 | DN8: =SUM(DN9:DN10) -> 0 | DO8: =SUM(DO9:DO10) -> 0 | DS8: =SUM(DS9:DS10) -> 0 | DT8: =SUM(DT9:DT10) -> 0 | DX8: =SUM(DX9:DX10) -> 0 | DY8: =SUM(DY9:DY10) -> 0 | EC8: =SUM(EC9:EC10) -> 0 | ED8: =SUM(ED9:ED10) -> 0 | EH8: =SUM(EH9:EH10) -> 0 | EI8: =SUM(EI9:EI10) -> 0 | EM8: =SUM(EM9:EM10) -> 0 | EN8: =SUM(EN9:EN10) -> 0 | ER8: =SUM(ER9:ER10) -> 0 | ES8: =SUM(ES9:ES10) -> 0 | EW8: =SUM(EW9:EW10) -> 0 | EX8: =SUM(EX9:EX10) -> 0 | FB8: =SUM(FB9:FB10) -> 0 | FC8: =SUM(FC9:FC10) -> 0 | FG8: =SUM(FG9:FG10) -> 0 | FH8: =SUM(FH9:FH10) -> 0 | FL8: =SUM(FL9:FL10) -> 0 | FM8: =SUM(FM9:FM10) -> 0 | FQ8: =SUM(FQ9:FQ10) -> 0 | FR8: =SUM(FR9:FR10) -> 0 | FV8: =SUM(FV9:FV10) -> 0 | FW8: =SUM(FW9:FW10) -> 0 | GA8: =SUM(GA9:GA10) -> 0 | GB8: =SUM(GB9:GB10) -> 0 | GF8: =SUM(GF9:GF10) -> 0 | GG8: =SUM(GG9:GG10) -> 0 | GK8: =SUM(GK9:GK10) -> 0 | GL8: =SUM(GL9:GL10) -> 0 | GP8: =SUM(GP9:GP10) -> 0 | GQ8: =SUM(GQ9:GQ10) -> 0 | GU8: =SUM(GU9:GU10) -> 0 | GV8: =SUM(GV9:GV18) -> 0 | GZ8: =SUM(GZ9:GZ18) -> 0 | HA8: =SUM(HA9:HA18) -> 0 | HE8: =SUM(HE9:HE18) -> 0 | HF8: =SUM(HF9:HF10) -> 4176000 | HJ8: =SUM(HJ9:HJ10) -> 380149632000 | HK8: =SUM(HK9:HK10) -> 0 | HO8: =SUM(HO9:HO10) -> 0 | HP8: =SUM(HP9:HP10) -> 0 | HT8: =SUM(HT9:HT10) -> 0 | HU8: =SUM(HU9:HU10) -> 0 | HY8: =SUM(HY9:HY10) -> 0
A9: 1 | B9: 24/3/2021 | C9: “Hỗ trợ 4.176.000 liều vắc xin COVID-19 AstraZeneca để phòng chống COVID-19” do COVAX Facility viện trợ | D9: 4.176.000 liều vắc xin COVID-19 AstraZeneca | E9: 1662/QĐ-BYT | F9: Viện VSDT TƯ | G9: Đã sử dụng hết | H9: 16,704,000 USD | I9: =16704000*22630 -> 378011520000 | J9: 0 | K9: 0 | L9: 16,704,000 USD | M9: =+I9+K9 -> 378011520000 | HF9: 4176000 | HI9: 16,704,000 USD | HJ9: 380149632000
C10: Ô MẪU TẠO Ô THÊM BÊN TRÊN ĐỂ SỔ TỔNG TỰ ĐỘNG CỘNG
B11: Quý II | H11: - | I11: =+SUM(I12:I20) -> 4.7091092e+11 | J11: - | K11: =+SUM(K12:K20) -> 13957804558 | L11: - | M11: =+SUM(M12:M20) -> 4.8486872e+11 | N11: =SUM(N12:N21) -> 0 | R11: =SUM(R12:R21) -> 0 | S11: =SUM(S12:S21) -> 0 | W11: =SUM(W12:W21) -> 0 | X11: =SUM(X12:X21) -> 0 | AB11: =SUM(AB12:AB21) -> 0 | AC11: =SUM(AC12:AC21) -> 1230250 | AG11: =SUM(AG12:AG21) -> 0 | AH11: =SUM(AH12:AH21) -> 188000 | AL11: =SUM(AL12:AL21) -> 0 | AM11: =SUM(AM12:AM21) -> 150000 | AQ11: =SUM(AQ12:AQ21) -> 0 | AR11: =SUM(AR12:AR21) -> 0 | AV11: =SUM(AV12:AV21) -> 0 | AW11: =SUM(AW12:AW21) -> 0 | BA11: =SUM(BA12:BA21) -> 0 | BB11: =SUM(BB12:BB21) -> 0 | BF11: =SUM(BF12:BF21) -> 0 | BG11: =SUM(BG12:BG21) -> 0 | BK11: =SUM(BK12:BK21) -> 0 | BL11: =SUM(BL12:BL21) -> 39938000 | BP11: =SUM(BP12:BP21) -> 1113940550 | BQ11: =SUM(BQ12:BQ21) -> 950000 | BU11: =SUM(BU12:BU21) -> 0 | BV11: =SUM(BV12:BV21) -> 143500 | BZ11: =SUM(BZ12:BZ21) -> 18106000000 | CA11: =SUM(CA12:CA21) -> 0 | CE11: =SUM(CE12:CE21) -> 0 | CF11: =SUM(CF12:CF21) -> 0 | CJ11: =SUM(CJ12:CJ21) -> 0 | CK11: =SUM(CK12:CK21) -> 0 | CO11: =SUM(CO12:CO21) -> 0 | CP11: =SUM(CP12:CP21) -> 0 | CT11: =SUM(CT12:CT21) -> 0 | CU11: =SUM(CU12:CU21) -> 0 | CY11: =SUM(CY12:CY21) -> 0 | CZ11: =SUM(CZ12:CZ21) -> 0 | DD11: =SUM(DD12:DD21) -> 0 | DE11: =SUM(DE12:DE21) -> 389375 | DI11: =SUM(DI12:DI21) -> 0 | DJ11: =SUM(DJ12:DJ21) -> 0 | DN11: =SUM(DN12:DN21) -> 0 | DO11: =SUM(DO12:DO21) -> 202176 | DS11: =SUM(DS12:DS21) -> 7.5458391e+09 | DT11: =SUM(DT12:DT21) -> 185184 | DX11: =SUM(DX12:DX21) -> 3.8772641e+09 | DY11: =SUM(DY12:DY21) -> 0 | EC11: =SUM(EC12:EC21) -> 0 | ED11: =SUM(ED12:ED21) -> 300000 | EH11: =SUM(EH12:EH21) -> 10923840000 | EI11: =SUM(EI12:EI21) -> 0 | EM11: =SUM(EM12:EM21) -> 0 | EN11: =SUM(EN12:EN21) -> 0 | ER11: =SUM(ER12:ER21) -> 0 | ES11: =SUM(ES12:ES21) -> 0 | EW11: =SUM(EW12:EW21) -> 0 | EX11: =SUM(EX12:EX21) -> 0 | FB11: =SUM(FB12:FB21) -> 0 | FC11: =SUM(FC12:FC21) -> 0 | FG11: =SUM(FG12:FG21) -> 0 | FH11: =SUM(FH12:FH21) -> 0 | FL11: =SUM(FL12:FL21) -> 0 | FM11: =SUM(FM12:FM21) -> 0 | FQ11: =SUM(FQ12:FQ21) -> 0 | FR11: =SUM(FR12:FR21) -> 0 | FV11: =SUM(FV12:FV21) -> 0 | FW11: =SUM(FW12:FW21) -> 0 | GA11: =SUM(GA12:GA21) -> 0 | GB11: =SUM(GB12:GB21) -> 0 | GF11: =SUM(GF12:GF21) -> 0 | GG11: =SUM(GG12:GG21) -> 0 | GK11: =SUM(GK12:GK21) -> 0 | GL11: =SUM(GL12:GL21) -> 0 | GP11: =SUM(GP12:GP21) -> 0 | GQ11: =SUM(GQ12:GQ21) -> 0 | GU11: =SUM(GU12:GU21) -> 0 | GV11: =SUM(GV12:GV21) -> 0 | GZ11: =SUM(GZ12:GZ21) -> 0 | HA11: =SUM(HA12:HA21) -> 0 | HE11: =SUM(HE12:HE21) -> 0 | HF11: =SUM(HF12:HF21) -> 2000000 | HJ11: =SUM(HJ12:HJ21) -> 257315911200 | HK11: =SUM(HK12:HK21) -> 500000 | HO11: =SUM(HO12:HO21) -> 114016220000 | HP11: =SUM(HP12:HP21) -> 0 | HT11: =SUM(HT12:HT21) -> 0 | HU11: =SUM(HU12:HU21) -> 0 | HY11: =SUM(HY12:HY21) -> 0
A12: 2 | B12: 22/4/2021 | C12: Tiếp nhận sinh phẩm vật tư tiêu hao cho xét nghiệm SARS-COV2 tại Việt Nam do WHO viện trợ | D12: 2106 Bộ mồi và probe gen E (TiBMoL gen E) 1.929 Bộ mồi và probe gen RdRp: (TiBMoL gen RdRp) 6.000 ống lẫy mẫu bệnh phẩm | E12: 1803/QĐ-BYT | F12: Viện VSDT TƯ | G12: Đã sử dụng hết | H12: 981,937.92 USD (sinh phẩm) 267,517,65 USD (phí v/c) | I12: =(981937.92+267517.65)*23194 -> 2.8979872e+10 | J12: 0 | K12: 0 | L12: 1,249,455.57 USD | M12: =+I12+K12 -> 2.8979872e+10 | DO12: =2106*96 -> 202176 | DP12: 1,64 USD | DR12: 331,568.64 USD | DS12: 7.5458391e+09 | DT12: =1929*96 -> 185184 | DU12: 0,92 USD | DW12: 170,369.28 USD | DX12: 3.8772641e+09 | ED12: =6000*50 -> 300000 | EE12: 1,6 USD | EG12: 480,000 USD | EH12: 10923840000
A13: 3 | B13: 22/4/2021 | C13: Tiếp nhận 500.000 bơm kim tiêm tự khóa 0,5ml để triển khai tiêm vắc xin phòng COVID-19 do UNICEF viện trợ | D13: 500.000 bơm kim tiêm tự khóa 0,5ml | E13: 1802/QĐ-BYT | F13: Viện VSDT TƯ | G13: Đã sử dụng hết | H13: 23,825 USD | I13: =23825*23194 -> 552597050 | J13: 3,025 USD | K13: =3025*23194 -> 70161850 | L13: 26,850 USD | M13: =+I13+K13 -> 622758900 | BL13: 500000 | BO13: 23,825 USD | BP13: 542209350
A14: 4 | B14: 22/4/2021 | C14: Tiếp nhận khoản viện trợ phi dự án “Hỗ trợ 4.176.000 bơm kim tiêm tự khóa 0,5ml và 41.775 hộp an toàn để triển khai tiêm vắc xin phòng chống COVID-19” do COVAX Facility viện trợ | D14: 4.176.000 bơm kim tiêm tự khóa 0,5ml và 41.775 hộp an toàn | E14: 1955/QĐ-BYT | F14: Viện VSDT TƯ | G14: Đã sử dụng hết | H14: 198,100.9 USD | I14: =198100.9*23194 -> 4.5947523e+09 | J14: 10,778 USD | K14: =10778*23194 -> 249984932 | L14: 208,878.9 USD | M14: =+I14+K14 -> 4.8447372e+09 | BL14: 4176000 | DE14: 41775
A15: 5 | B15: 25/5/2021 | C15: Tiếp nhận vật tư y tế phòng chống dịch COVID-19 do Vương Quốc Ả Rập Xê Út viện trợ | D15: Găng tay y tế: 950.000 đôi Khẩu trang phẫu thuật: 1.230.250 Khẩu trang bảo vệ: 188.000 Trang phục phẫu thuật: 150.000 | E15: 2553/QĐ-BYT | F15: BV Chợ rẫy | G15: QĐ 4358/QĐ-BYT ngày 10/9/2021 - Bệnh viện Nhiệt đới TW (100.000 găng tay y tế, 130.250 Khẩu trang phẫu thuật, 15.000 Khẩu trang bảo vệ, 20.000 Bộ trang phục phẫu thuật) -Bệnh viện Phổi TW(90.000 Găng tay y tế, 120.000 khẩu trang phẫu thuật, 33.000 Khẩu trang bảo vệ, 20.000 Bộ trang phục phẫu thuật) –Bệnh viện Bạch Mai(90.000 Găng tay YT, 120.000 KT PT, 30.000 KT Bảo vệ, 20.000 trang phục phẫu thuật) - Bệnh viện ĐH Y Hà Nội ( 250.000 Găng tay YT, 150.000 KT PT, 30.000 KT Bảo vệ, 30.000 Bộ trang phục phẫu thuật) - Bệnh viện Việt Đức (70.000 Găng tay y tế, 150.000 KT PT, 10.000 KT BV, 10.000 Trang phục PT) - Bệnh viện Nhi TW (70.000 Găng tay YT, 120.000 KT PT, 10.000 KT BV, 10.000 Bộ TT PT) - Bệnh viện Nội Tiết TW (70.000 Găng tay YT, 120.000 KT PT, 15.000 KT BV, 10.000 Trang phục PT) - Bệnh viện Lão khoa TW (70.000 Găng tay YT, 120.000 Khẩu trang PT, 15.000 KT BV, 10.000 Trang phục PT) - Bệnh viện Quân Y 103 (70.000 GTYT, 100.000 KTPT, 15.000 KTBV, 10.000 Trang phục PT) - Bệnh viện E (70.000 GTYT, 100.000 Khẩu trang PT, 15.000 Khẩu trang BV, 10.000 trang phục PT) | H15: - | L15: 500,000 USD | M15: =+I15+K15 -> 0 | AC15: 1230250 | AH15: 188000 | AM15: 150000 | BQ15: 950000
A16: 6 | B16: 05/6/2021 | C16: Tiếp nhận bơm kim tiêm tự khóa 0,5ml và hộp an toàn để triển khai tiêm vắc xin phòng COVID-19 do COVAX Facility hỗ trợ thông qua UNICEF (Điều chỉnh QĐ 2781/QĐ-BYT) | D16: 1.000.000 bơm kim tiêm tự khóa 0,5ml và 10.000 hộp an toàn | E16: 2795/QĐ-BYT | F16: Viện VSDT TƯ | G16: Đã sử dụng hết | H16: 37,808 USD | I16: =37808*23141 -> 874914928 | J16: 2,590 USD | K16: 60000000 | L16: 40,398 USD | M16: =+I16+K16 -> 934914928 | BL16: 1000000 | DE16: 10000
A17: 7 | B17: 15/6/21 | C17: Tiếp nhận 2.000.000 liều vắc xin Astra Zeneca để phòng chống dịch COVID-19 do Chính phủ Nhật Bản viện trợ. | D17: 2.000.000 liều vắc xin Astra Zeneca | E17: 219/QĐ-BYT | F17: Viện VSDT TƯ | G17: Đã sử dụng hết | H17: 11,305,620 USD | I17: =11305620*23141 -> 261623352420 | J17: 419,458 USD | K17: =419458*23141 -> 9706677578 | L17: 11,725,078 USD | M17: =+I17+K17 -> 271330029998 | HF17: 2000000 | HI17: 11,305,620 USD | HJ17: 257315911200
A18: 8 | B18: 17/6/2021 | C18: Tiếp nhận vắc xin phòng COVID-19 và bơm kim do Chính phủ Trung Quốc viện trợ không hoàn lại. | E18: 225/QĐ-BYT | F18: Viện VSDT TƯ | G18: Đã sử dụng hết | H18: 5,034,620 USD | I18: =5034620*23141 -> 116506141420 | J18: 118,056 USD | K18: =118056*23141 -> 2731933896 | L18: 5,152,676 USD | M18: =+I18+K18 -> 119238075316 | BL18: 502400 | BO18: 25,120 USD | BP18: 571731200 | HK18: 500000 | HN18: 5,009,500 USD | HO18: 114016220000
A19: 9 | B19: 19/6/2021 | C19: Tiếp nhận 143.500 chai cồn sát khuẩn tay để phòng chống COVID-19 do Công ty TNHH SARAYA, Nhật Bản viện trợ không hoàn lại. | D19: 143.500 chai cồn sát khuẩn tay | E19: 3001/QĐ-BYT | F19: BV Phổi TW BV Chợ rẫy | G19: 4360/QĐ-BYT ngày 10/9/2021 -BV Chợ rẫy 12,250 - TT HSTC NB COVID-19 BV TW Huế tại TPHCM 6.000 - TT HSTC NB COVID-19 BV ĐH Y HN tại Bình Dường 6.000 - TT HSTC NB COVID-19 BV Nhi TW.tại Vĩnh Long 4.500 - BV Tâm thần TW 2 6.000 3770/QĐ-BYT ngày 08/8/2021 -BV Chợ Rẫy: 13.750 chai - TT HSTC NB COVID-19 BV Bạch Mai tại TPHCM: 8000 - TT HSTC NB COVID-19 BV TW Huế tại TPHCM: 8000 - TT HSTC NB COVID-19 BV Hữu Nghị Việt Đức tại TPHCM: 8000 - TT HSTC NB COVID-19 BV Phổi TW tại Đồng Nai: 8000 - TT HSTC NB COVID-19 BV Đại học Y Hà Nội tại Bình Dương: 8000 - TT HSTC NB COVID-19 BV TW Thái Nguyên tại Long An: 4000 - TT HSTC NB COVID-19 BV Nhi TW tại Vĩnh Long: 5000 - TT HSTC NB COVID-19 BV ĐH Y dược TPHCM : 5000 - TT HSTC NB COVID-19 BV đa khoa TW Cần Thơ: 4000 | H19: 85,813,000 Yên Nhật | I19: =85813000*209 -> 17934917000 | J19: 0 | L19: 85,813,000 Yên Nhật | M19: =+I19+K19 -> 17934917000 | BV19: 143500 | BZ19: 18106000000
A20: 10 | B20: 24/6/2021 | C20: Tiếp nhận bơm kim tiêm tự khóa 0,5ml và hộp an toàn để triển khai tiêm vắc xin phòng COVID-19 do COVAX Facility hỗ trợ thông qua UNICEF | D20: 33.759.600 chiếc bơm kim tiêm tự khóa 0,5 ml và 337.600 hộp an toàn | E20: 3059/QĐ-BYT | F20: Viện VSDT TƯ | G20: Đã sử dụng hết | H20: 1,721,808.46 USD | I20: =1721808.46*23141 -> 3.984437e+10 | J20: 49,222 USD | K20: =49222*23141 -> 1139046302 | L20: 1,771,030.46 USD | M20: =+I20+K20 -> 4.0983416e+10 | BL20: 33759600 | DE20: 337600
C21: Ô MẪU TẠO Ô THÊM BÊN TRÊN ĐỂ SỔ TỔNG TỰ ĐỘNG CỘNG
B22: Quý III | H22: - | I22: =SUM(I23:I57) -> 1.219848e+12 | J22: - | K22: =SUM(K23:K57) -> 55059850589 | L22: - | M22: =SUM(M23:M57) -> 1.2749078e+12 | N22: =SUM(N23:N58) -> 1254695 | R22: =SUM(R23:R58) -> 101609927109 | S22: =SUM(S23:S58) -> 270000 | W22: =SUM(W23:W58) -> 47928348000 | X22: =SUM(X23:X58) -> 894200 | AB22: =SUM(AB23:AB58) -> 49944874259 | AC22: =SUM(AC23:AC58) -> 357200 | AG22: =SUM(AG23:AG58) -> 7.7893497e+09 | AH22: =SUM(AH23:AJ58) -> 93272.55 | AL22: =SUM(AL23:AL58) -> 261811800 | AM22: =SUM(AM23:AM58) -> 133660 | AQ22: =SUM(AQ23:AQ58) -> 56306633954 | AR22: =SUM(AR23:AR58) -> 146 | AV22: =SUM(AV23:AV58) -> 121607257764 | AW22: =SUM(AW23:AW58) -> 50 | BA22: =SUM(BA23:BA58) -> 4759401550 | BB22: =SUM(BB23:BB58) -> 750 | BF22: =SUM(BF23:BF58) -> 7.9962889e+09 | BG22: =SUM(BG23:BG58) -> 0 | BK22: =SUM(BK23:BK58) -> 0 | BL22: =SUM(BL23:BL58) -> 9000000 | BP22: =SUM(BP23:BP58) -> 0 | BQ22: =SUM(BQ23:BQ58) -> 0 | BU22: =SUM(BU23:BU58) -> 0 | BV22: =SUM(BV23:BV58) -> 111400 | BZ22: =SUM(BZ23:BZ58) -> 1.1438466e+09 | CA22: =SUM(CA23:CA58) -> 1600 | CE22: =SUM(CE23:CE58) -> 20482200000 | CF22: =SUM(CF23:CF58) -> 2210 | CJ22: =SUM(CJ23:CJ58) -> 75620408000 | CK22: =SUM(CK23:CK58) -> 0 | CO22: =SUM(CO23:CO58) -> 0 | CP22: =SUM(CP23:CP58) -> 85 | CT22: =SUM(CT23:CT58) -> 2.8211906e+10 | CU22: =SUM(CU23:CU58) -> 0 | CY22: =SUM(CY23:CY58) -> 0 | CZ22: =SUM(CZ23:CZ58) -> 0 | DD22: =SUM(DD23:DD58) -> 0 | DE22: =SUM(DE23:DE58) -> 518000 | DI22: =SUM(DI23:DI58) -> 0 | DJ22: =SUM(DJ23:DJ58) -> 200 | DN22: =SUM(DN23:DN58) -> 0 | DO22: =SUM(DO23:DO58) -> 0 | DS22: =SUM(DS23:DS58) -> 0 | DT22: =SUM(DT23:DT58) -> 0 | DX22: =SUM(DX23:DX58) -> 0 | DY22: =SUM(DY23:DY58) -> 12000 | EC22: =SUM(EC23:EC58) -> 0 | ED22: =SUM(ED23:ED58) -> 0 | EH22: =SUM(EH23:EH58) -> 0 | EI22: =SUM(EI23:EI58) -> 50 | EM22: =SUM(EM23:EM58) -> 0 | EN22: =SUM(EN23:EN58) -> 210000 | ER22: =SUM(ER23:ER58) -> 11395955538 | ES22: =SUM(ES23:ES58) -> 5000 | EW22: =SUM(EW23:EW58) -> 761085000 | EX22: =SUM(EX23:EX58) -> 267 | FB22: =SUM(FB23:FB58) -> 6611265173 | FC22: =SUM(FC23:FC58) -> 404500 | FG22: =SUM(FG23:FG59) -> 1356824460 | FH22: =SUM(FH23:FH58) -> 100 | FL22: =SUM(FL23:FL58) -> 1628989222 | FM22: =SUM(FM23:FM58) -> 100 | FQ22: =SUM(FQ23:FQ58) -> 455144760 | FR22: =SUM(FR23:FR58) -> 0 | FV22: =SUM(FV23:FV58) -> 0 | FW22: =SUM(FW23:FW58) -> 0 | GA22: =SUM(GA23:GA58) -> 0 | GB22: =SUM(GB23:GB58) -> 5 | GF22: =SUM(GF23:GF58) -> 11315000000 | GG22: =SUM(GG23:GG58) -> 0 | GK22: =SUM(GK23:GK58) -> 0 | GL22: =SUM(GL23:GL58) -> 0 | GP22: =SUM(GP23:GP58) -> 0 | GQ22: =SUM(GQ23:GQ58) -> 0 | GU22: =SUM(GU23:GU58) -> 0 | GV22: =SUM(GV23:GV36) -> 0 | GZ22: =SUM(GZ23:GZ36) -> 0 | HA22: =SUM(HA23:HA36) -> 0 | HE22: =SUM(HE23:HE36) -> 0 | HF22: =SUM(HF23:HF58) -> 35647970 | HJ22: =SUM(HJ23:HJ58) -> 403854070000 | HK22: =SUM(HK23:HK58) -> 2000000 | HO22: =SUM(HO23:HO58) -> 0 | HP22: =SUM(HP23:HP58) -> 5040900 | HT22: =SUM(HT23:HT58) -> 114558291120 | HU22: =SUM(HU23:HU58) -> 10000 | HY22: =SUM(HY23:HY58) -> 0
A23: 11 | B23: 08/7/2021 | C23: Tiếp nhận “Hỗ trợ 2.000.040 liều vắc xin Moderna để phòng chống dịch COVID-19” do Chính phủ Hoa Kỳ viện trợ thông qua Cơ chế COVAX Facility. | D23: 2.000.040 liều vắc xin Moderna | E23: 3349/QĐ-BYT | F23: Viện VSDT TƯ | G23: Đã sử dụng hết | H23: 2,000,040 USD | I23: =2000040*23141 -> 46282925640 | J23: 21,175 USD | K23: 490000000 | L23: 2,021,215 USD | M23: =+I23+K23 -> 46772925640 | HP23: 2000040 | HS23: 2,000,040 USD | HT23: 46282925640
A24: 12 | B24: 08/7/2021 | C24: Viện trợ khẩn cấp trang thiết bị và vật tư y tế phòng COVID-19 do Chính phủ Cộng hoà Ba Lan viện trợ | E24: 452/QĐ-BYT | F24: Bệnh viện Thống Nhất | G24: Đã phân bổ | H24: 14,033,754 PLN | I24: =14033754*6096 -> 85549764384 | J24: 0 | L24: 14,033,754 PLN | M24: =+I24+K24 -> 85549764384 | X24: 5000 | AA24: 26,150,000 PLN | AB24: 156094057 | AM24: 5000 | AP24: 75,650 PLN | AQ24: 451568467 | AR24: 70 | AU24: 11,407,366.50 PLN | AV24: 68092623964 | EI24: 50 | EL24: 707,715.80 PLN | EM24: 4,224,482,999 | EN24: 10000 | EQ24: 209,100 PLN | ER24: 1248155538 | EX24: 267 | FA24: 1,107,566.73PLN | FB24: 6611265173 | FC24: 400000 | FF24: 227,305 PLN | FG24: 1356824460 | FH24: 100 | FK24: 272,900 PLN | FL24: 1628989222
A25: 13 | B25: 08/7/2021 | C25: Tiếp nhận vắc xin Astra Zeneca để phòng chống dịch COVID-19 do Chính phủ Nhật Bản viện trợ. | E25: 276/QĐ-BYT | F25: Viện VSDT TƯ | G25: Đã sử dụng hết | H25: 17,451,885 USD | I25: =17451885*23141 -> 403854070785 | J25: 549,120 USD | K25: =549120*23141 -> 12707185920 | L25: 18,001,005 USD | M25: =+I25+K25 -> 416561256705 | HF25: 3087190 | HI25: 17,451,885 USD | HJ25: 403854070000
A26: 14 | B26: 09/7/2021 | C26: Tiếp nhận và phân bổ 160.150 test xét nghiệm kháng nguyênCovid-19 do Chính quyền một số bang của CHLB Đức thông qua Tổ chức Hỗ trợ đại học (WUS) viện trợ. | D26: 160.150 test xét nghiệm kháng nguyênCovid-19 | E26: 3374/QĐ-BYT | F26: Viện VSDT TƯ | G26: 3374/QĐ-BYT -SYT Bình Dương 20.000 - SYT Quảng Ngãi 15.000 - SYT Phú Yên 15.000 - SYT Đồng Nai 15.000 - SYT Long An 15.000 - SYT Đồng Tháp 15.000 - SYT HƯng Yên 15.000 - SYT Vĩnh Long 14.000 - SYT Kiên Giang 12.000 - SYT Đắk Lắk 10.000 -SYT Đắk Nông 10.000 - Viện Vệ sinh Dịch tễ TW 4.150 | H26: 500,000 Euro | I26: =500000*27540 -> 13770000000 | J26: 0 | K26: 0 | L26: 500,000 Euro | M26: =+I26+K26 -> 13770000000 | N26: 160150 | O26: Gồm nhiều loại test | Q26: 549,774 EUR | R26: 14120585104
A27: 15 | B27: 09/7/2021 | C27: Tiếp nhận hàng viện trợ của các doanh nghiệp Lào cho hoạt động phòng, chống dịch COVID-19 (Thực hiện CV 5223/BYT-KH-TC) | D27: 50.000 Khẩu trang y tế/Khẩu trang bảo hộ 25.000 Trang phục bảo hộ 25.000 chai cồn sát khuẩn 200 giường bệnh | E27: 4338/UBND-VX1 | F27: Tỉnh Hà Tĩnh | G27: Đã phân bổ | M27: =+I27+K27 -> 0 | AH27: 50000 | AM27: 25000 | BV27: 25000 | DJ27: 200
B28: 19/7/2021 | C28: Phê duyệt văn kiện dự án, Kế hoạch tổng thể, Kế hoạch thực hiện, năm 2021 dự án:"Hỗ trợ triển khai tiêm chủng vắc xin phòng COVID-19 tại Việt Nam năm 2021-2023" do UNICEF viện trợ không hoàn lại | D28: 5.000.000 bơm kim tiêm 500.000 hộp an toàn 2.210 tủ lạnh 5 xe ô tô tải lạnh Mítubushi | E28: 3512/QĐ-BYT | F28: Viện VSDTTW | G28: - QĐ 1208/QĐ-VSDTTƯ ngày 04/10/2021 phân bổ 1,910 tủ lạnh chuyên dụng bảo quản vắc xin kèm ổn áp và 191 bộ phụ tùng tủ HBC-80 do UNICEF viện trợ cho các 04 BViện VSDT và 36 TTKSBT tỉnh/tp - QĐ 1209/QĐ-VSDTTƯ ngày 04/10/2021 phân bổ 300 tủ lạnh chuyên dụng bảo quản vắc xin TCW80AC và 30 bộ phụ tùng tủ TCW80AC do UNICEF viện trợ cho 63 TTKSBT tỉnh/tp và 04 Viện VSDT - CV 2130/VSDTTƯ-TCQG ngày 14/10/2021 phân bổ 300 tủ lạnh TCW80AC cho các TT Kiểm soát bệnh tật tịnh/tp và các TTYT huyện/tp | H28: 10.000.000 USD | I28: =10000000*23141 -> 231410000000 | J28: 337.527 USD | K28: =337527*23141 -> 7810712307 | L28: 10.337.527 USD | M28: =+I28+K28 -> 239220712307 | BL28: 5000000 | BO28: 350.000 USD | CF28: 2210 | CI28: 3.341.600 USD | CJ28: =3341600*22630 -> 75620408000 | DE28: 500000 | GB28: 5 | GE28: 500.000 USD | GF28: =500000*22630 -> 11315000000 | HZ28: Hậu
A29: 16 | B29: 21/7/2021 | C29: Tiếp nhận “Hỗ trợ 3.000.060 liều vắc xin Moderna để phòng chống dịch COVID-19” do Chính phủ Hoa Kỳ viện trợ thông qua Cơ chế COVAX Facility. | D29: 3.000.060 liều vắc xin Moderna | E29: 3541/QĐ-BYT | F29: Viện VSDT TƯ | G29: Đã sử dụng hết | H29: 3,000,060 USD | I29: =3000060*23141 -> 69424388460 | J29: 19,878 USD | K29: =19878*23141 -> 459996798 | L29: 3,019,938 USD | M29: =+I29+K29 -> 69884385258 | HP29: 3000060 | HS29: 3,000,060 USD | HT29: 68275365480
A30: 17 | B30: 30/7/2021 | C30: Tiếp nhận vắc xin Sputnik V phòng COVID-19 do Tập đoàn NOVATEK Liên bang Nga viện trợ. | D30: 10.000 liều vắc xin Spunik V | E30: 339/QĐ-BYT | F30: Viện VSDT TƯ | G30: Đã sử dụng hết | M30: =+I30+K30 -> 0 | HU30: 10000
A31: 18 | B31: 30/7/2021 | C31: Tiếp nhận khoản viện trợ 10 máy thở oxy dòng cao để phục vụ công tác phòng, chống dịch COVID-19 do Công ty Fisher and Paykel Healthcare New Zealand viện trợ. | D31: 10 máy thở oxy dòng cao | E31: 3742/QĐ-BYT | F31: Bệnh viện Chợ Rẫy Bệnh viện Bệnh Nhiệt đới Trung ương Bệnh viện Bệnh Nhiệt đới Trung ương Hồ Chí Minh | G31: 3742/QĐ-BYT ngày 4 tháng 8 năm 2021 - Bệnh viện Chợ Rẫy: 04 cái - Bệnh viện Bệnh Nhiệt đới Trung ương: 03 cái - Bệnh viện Bệnh Nhiệt đới Thành phố Hồ Chí Minh: 03 cái | M31: =+I31+K31 -> 0 | AR31: 10 | AV31: 1200000000
A32: 19 | B32: 05/8/2021 | C32: Tiếp nhận vắc xin Astra Zeneca để phòng chống dịch COVID-19 do Chính phủ Rumani viện trọ. | D32: 300.000 liều AZ | E32: 348/QĐ-BYT | F32: Viện VSDT TƯ | G32: Đã sử dụng hết | J32: 6,013 USD | K32: =6013*23198 -> 139489574 | M32: =+I32+K32 -> 139489574 | HF32: 300000
A33: 20 | B33: 05/8/2021 | C33: Tiếp nhận bơm kim tiêm và hộp an toàn để triển khai tiêm vắc xin phòng COVID-19 do KOICA, Hàn Quốc viện trợ (Viện trợ bằng tiền là 2,5 triệu USD để mua BKT, do nhà tài trợ thực hiện mua sắm, ước tính khoảng 30 triệu BKT) | E33: 3735/QĐ-BYT | F33: Viện VSDT TƯ | G33: Đã phân bổ theo từng đợt gửi hàng của Nhà tài trợ | H33: 2,900,000 USD | I33: =2900000*23198 -> 67274200000 | J33: 73,205 USD | K33: =73205*23198 -> 1698209590 | L33: 2,973,205 USD | M33: =+I33+K33 -> 68972409590
A34: 21 | B34: 08/8/2021 | C34: Viện trợ khẩn cấp trang thiết bị và vật tư y tế của Chính phủ Thụy Sỹ | D34: 30 Máy thở 500.000 Kít xét nghiệm kháng nguyên 300.000 Khẩu trang | E34: 3765/QĐ-BYT | F34: BV Chợ rẫy | G34: QĐ 4309/QĐ-BYT ngày 7/9/2021 - SYT Đồng Tháp 20.000 chiếc khẩu trang QĐ 4316/QĐ-BYT ngày 8/9/2021 -SYT TP.HCM 320.000 test -TT Nhiệt đới Việt Nga 10.000 test -BV Thống Nhất 29.200 test - BV Chợ Rẫy 20.000 test - BV ĐK TW Cần Thơ 20.000 test - BV Tâm thần TW 2 10.000 test - SYT Kiên Giang 32.000 test, 15.000 Khẩu trang FFP2 - SYT Sóc Trăng 20.000 test, 10.000 Khẩu trang FFP2 - SYT Bình Dương 30.000 test, 15.000 Khẩu trang FFP2 - Viện Pháp y tâm thần TW Biên Hoà 8.00 test QĐ 3998/QĐ-BYT ngày 18/8/2021 - 10 máy thở: TT HSTC người bệnh COVID-19 thuộc BV TƯ Huế - 10 máy thở: TT HSTC người bệnh COVID-19 thuộc BV Việt Đức - 10 máy thở: TT HSTC người bệnh COVID-19 thuộc BV TƯ Thái Nguyên | H34: 4,950,328 CHF | I34: 126193761376 | J34: 0 | L34: 4,950,328 CHF | M34: =+I34+K34 -> 126193761376 | N34: 500000 | O34: 4.5 CHF | Q34: 2.250.000 CHF | R34: 57357000000 | X34: 300000 | Y34: 2.5 CHF | AA34: 750,000 CHF | AB34: 19119000000 | AR34: 30 | AS34: 55,000 CHF | AU34: 1,650,000 CHF | AV34: 42061800000
A35: 22 | B35: 17/08/2021 | C35: Tiếp nhận vắc xin AstraZeneca để phòng COVID-19 do Chính phủ Cộng hoà Ba Lan viện trợ. | D35: 501.600 liều vắc xin AZ | E35: 375/QĐ-BYT | F35: Viện VSDT TƯ | G35: Đã sử dụng hết | J35: 6,578 USD | K35: =6578*23198 -> 152596444 | M35: =+I35+K35 -> 152596444 | HF35: 501600
A36: 23 | B36: 17/8/2021 | C36: Tiếp nhận test xét nghiệm nhanh kháng nguyên Covid-19 Ag do Tổ chức Golden Forest Equity Partners, Hàn Quốc viện trợ. | D36: 100.000 Test xét nghiệm nhanh kháng nguyên | E36: 3971/QĐ-BYT | F36: Viện VSDT TƯ | G36: 4219/QĐ-BYT ngày 1/9/2021 -Văn phòng Quốc hội 10.000 test - Uỷ ban dân tộc 7.000 test - Bệnh viện K 20.000 test- SYT Khánh Hoà 20.000 test - SYT Thái Bình 20.000 test - SYT Hậu Giang 20.000 test - Viện VSDT TƯ 3.000 test | H36: 4,000 USD | I36: =4000*23198 -> 92792000 | J36: 0 | L36: 4,000 USD | M36: =+I36+K36 -> 92792000 | N36: 100000 | Q36: 4,000 USD | R36: 91032000
A37: 24 | B37: 19/8/2021 | C37: Tiếp nhận và phân bổ 206,105 khay thử nghiệm kháng nguyên SARS-CoV-2 do Chính quyền một số bang của CHLB Đức thông qua Tổ chức Hỗ trợ đại học (WUS) viện trợ | D37: 206,105 khay thử nghiệm kháng nguyên SARS-CoV-2 | E37: 4015/QĐ-BYT | F37: Viện Pasteur Thành phố Hồ Chí Minh | G37: 4015/QĐ-BYT - SYT Bình Dương 60.000 bộ - SYT TP.HCM 95.000 bộ - SYT Tiền Giang 35.000 bộ - Viện Pasteur TPHCM 16.105 bộ | H37: 549,774 Euro | I37: =549774*27617 -> 15183108558 | J37: 0 | L37: 549,774 Euro | M37: =+I37+K37 -> 15183108558 | N37: 206105 | O37: Gồm nhiều loại test | Q37: 549,774 EUR | R37: 15140773565
A38: 25 | B38: 21/8/2021 | C38: Tiếp nhận viện trợ phi dự án vắc xin AstraZeneca và vật tư tiêm chủng do Chính phủ Ô-xtrây-lia viện trợ không hoàn lại | D38: 1.503.000 liều vắc xin AstraZeneca, 1,8 triệu chiếc bơm kim tiêm tự khóa 0,5ml và 18.000 hộp an toàn | E38: 4044/QĐ-BYT | F38: Viện VSDT TƯ | G38: Đã sử dụng hết 703,000 liều, còn lại 800,000 mới về ngày 30/10/2021 đang chờ kiểm định | J38: 14,548 USD | K38: =14548*23198 -> 337484504 | M38: =+I38+K38 -> 337484504 | BL38: 1800000 | DE38: 18000 | HF38: 1503000
A39: 26 | B39: 23/8/2021 | C39: Tiếp nhận “77 tủ bảo quản vắcxin phòng COVID-19 ở nhiệt độ âm sâu” do Chính phủ Hoa Kỳ viện trợ không hoàn lại | D39: 77 tủ bảo quản vắcxin phòng COVID-19 | E39: 4057/QĐ-BYT | F39: Viện VSDT TƯ | G39: Đã phân bổ | H39: 1,100,000 USD | I39: =1100000*23198 -> 25517800000 | J39: 51,895 USD | K39: =51895*23198 -> 1203860210 | L39: 1,151,895 USD | M39: =+I39+K39 -> 26721660210 | CP39: 77 | CS39: 1,100,000 USD | CT39: 25455100000
A40: 27 | B40: 24/8/2021 | C40: Tiếp nhận “8 tủ bảo quản vắc xin phòng COVID-19 ở nhiệt độ âm sâu” của UNICEF | D40: 8 tủ bảo quản vắc xin phòng COVID-19 | E40: 4066/QĐ-BYT | F40: Viện VSDT TƯ | G40: Đã phân bổ | H40: 118,838.08 USD | I40: =118838.08*23198 -> 2.7568058e+09 | J40: 12,932 USD | K40: =12932*23198 -> 299996536 | L40: 131,770.22 USD | M40: =+I40+K40 -> 3.0568023e+09 | CP40: 8 | CS40: 118838.08 | CT40: 2.7568058e+09
...

Sheet BTC.B7 phân bổ viện trợ hiện vậ
AF1: Biểu 07
A2: BIỂU TỔNG HỢP TÌNH HÌNH PHÂN BỔ (Trang thiết bị y tế/vật tư/hóa chất/sinh phẩm/…….)
B3: Loại Máy thở/…
A4: TT | B4: Địa phương/Bộ, ngành | C4: Tổng số | F4: Từ nguồn NSTW | I4: Từ nguồn tài trợ, viện trợ
C5: Tổng cộng | D5: Loại … | E5: … | F5: Cộng | G5: Loại… | H5: ,,, | I5: Cộng | K5: Khẩu trang N95/FFP2 | M5: Khẩu trang phẫu thuật | O5: Khẩu trang y tế/bảo hộ | Q5: Bộ trang phục bảo hộ Y tế | S5: Găng tay y tế | U5: Test dùng cho máy PCR | W5: Test XN Kháng nguyên | Y5: Máy thở oxy | AA5: Máy tạo oxy | AC5: Oxy lỏng (tấn) | AE5: Cồn sát khuẩn tay
C6: 1=2+3 | D6: 2=5+8 | E6: 3 | F6: 4 =5+6+,,, | G6: 5 | H6: 6 | I6: Số lượng | J6: Thành tiền (triệu đồng) | K6: Số lượng | L6: Thành tiền (triệu đồng) | M6: Số lượng | N6: Thành tiền (triệu đồng) | O6: Số lượng | P6: Thành tiền (triệu đồng) | Q6: Số lượng | R6: Thành tiền (triệu đồng) | S6: Số lượng | T6: Thành tiền (triệu đồng) | U6: Số lượng | V6: Thành tiền (triệu đồng) | W6: Số lượng | X6: Thành tiền (triệu đồng) | Y6: Số lượng | Z6: Thành tiền (triệu đồng) | AA6: Số lượng | AB6: Thành tiền (triệu đồng) | AC6: Số lượng | AD6: Thành tiền (triệu đồng) | AE6: Số lượng | AF6: Thành tiền (triệu đồng)
A7: A | B7: Tổng số | K7: 624200 | M7: 1537450 | O7: 238000 | Q7: 180000 | S7: 950000 | U7: 270000 | W7: 1254695 | Y7: 135 | AA7: 1785 | AC7: 100 | AE7: 254900
A8: B | B8: Tổng số đã phân bổ | K8: =SUM(K12:K80) -> 71100 | M8: =SUM(M12:M80) -> 1260250 | O8: =SUM(O12:O80) -> 188000 | Q8: =SUM(Q12:Q80) -> 150000 | S8: =SUM(S12:S80) -> 950000 | U8: =SUM(U12:U80) -> 270000 | W8: =SUM(W12:W80) -> 1063775 | Y8: =SUM(Y12:Y80) -> 10 | AA8: =SUM(AA12:AA80) -> 500 | AC8: =SUM(AC12:AC80) -> 87.8 | AE8: =SUM(AE12:AE80) -> 34750
A9: C | B9: Số còn lại chưa phân bổ | K9: =K7-K8 -> 553100 | L9: =L7-L8 -> 0 | M9: =M7-M8 -> 277200 | N9: =N7-N8 -> 0 | O9: =O7-O8 -> 50000 | P9: =P7-P8 -> 0 | Q9: =Q7-Q8 -> 30000 | R9: =R7-R8 -> 0 | ... AF9: =AF7-AF8 -> 0
B10: Chi tiết số đã phân bổ
A11: I | B11: Cơ quan Trung ương
A12: 1 | B12: Bệnh viện Nhiệt đới TW | M12: 130250 | O12: 15000 | Q12: 20000 | S12: 100000 | Y12: 3
A13: 2 | B13: Bệnh viện Phổi TW | K13: 5050 | M13: 120000 | O13: 33000 | Q13: 20000 | S13: 90000 | W13: 8120
A14: 3 | B14: Bệnh viện Bạch Mai | M14: 120000 | O14: 30000 | Q14: 20000 | S14: 90000
A15: 4 | B15: Bệnh viện Nhi TW | M15: 150000 | O15: 10000 | Q15: 10000 | S15: 70000
A16: 5 | B16: Bệnh viện Nội Tiết TW | M16: 120000 | O16: 15000 | Q16: 10000 | S16: 70000
A17: 6 | B17: Bệnh viện Lão Khoa TW | M17: 120000 | O17: 15000 | Q17: 10000 | S17: 70000
A18: 7 | B18: Bệnh viện ĐH Y Hà Nội | M18: 150000 | O18: 30000 | Q18: 30000 | S18: 250000
A19: 8 | B19: Bệnh viện Việt Đức | M19: 150000 | O19: 10000 | Q19: 10000 | S19: 70000
A20: 9 | B20: Bệnh viện K | W20: 20000
A21: 10 | B21: Bệnh viện E | M21: 100000 | O21: 15000 | Q21: 10000 | S21: 70000
A22: 11 | B22: Bệnh viện Chợ Rẫy | W22: 20000 | Y22: 4 | AC22: 45 | AE22: 12250
A23: 12 | B23: Viện VSDT TW | W23: =4150+3000+200 -> 7350
A24: 13 | B24: TT HSTC người bệnh COVID-19 trực thuộc BV TW Huế tại TP.HCM | AE24: 6000
A25: 14 | B25: TT HSTC người bệnh COVID-19 BV ĐH Y HN tại Bình Dương | AE25: 6000
A26: 15 | B26: TT HSTC người bệnh COVID-19 trực thuộc Bv Nhi TW tại VĨnh Long | AE26: 4500
A27: 16 | B27: BV Tâm thần TW 2 | W27: 10000 | AE27: 6000
A28: 17 | B28: BV Quân Y 103 | M28: 100000 | O28: 15000 | Q28: 10000 | S28: 70000
A29: 18 | B29: Văn phòng Quốc hội | W29: 100000
A30: 19 | B30: Uỷ ban dân tộc | W30: 7000
A31: 20 | B31: Bệnh viện ĐK TW Cần Thơ | W31: 20000
A32: 21 | B32: Viện Pháp y tâm thần TW Biên Hoà | W32: 8000
A33: 22 | B33: Viện trang thiết bị và công trình y tế | K33: 50
A34: 23 | B34: Hội thầy thuốc trẻ Việt Nam | AA34: 100
A35: 24 | B35: BV ĐH Y Dược TPHCM | U35: 40000
A36: 25 | B36: BV TW Thái nguyên | U36: 2000
A37: 26 | B37: BV Quân y 175 | AC37: 7.8
A38: II | B38: Địa phương
A39: 1 | B39: SYT Bình Dương | K39: 15000 | U39: 29000 | W39: =20000+30000+60000 -> 110000
A40: 2 | B40: SYT Quảng Ngãi | W40: 15000
...

Sheet TH vien tro + trong nước
A1: BIỂU TỔNG HỢP VẬT TƯ, HÓA CHẤT, SINH PHẨM, TRANG THIẾT BỊ PHÒNG, CHỐNG COVID-19
A2: TT | B2: Loại | C2: Tổng số cam kết | E2: Tổng cộng | G2: Đã phân phối, sử dụng | I2: Hàng hóa chưa sử dụng | K2: Hàng hóa còn lại theo Cam kết | M2: Hàng tiếp nhận trong nước | O2: Hàng viện trợ nước ngoài
C3: Số lượng | D3: Thành tiền (triệu đồng) | E3: Số lượng | F3: Thành tiền (triệu đồng) | G3: Số lượng | H3: Thành tiền (triệu đồng) | I3: Số lượng | J3: Thành tiền (triệu đồng) | K3: Số lượng | L3: Thành tiền (triệu đồng) | M3: Số lượng | N3: Thành tiền (triệu đồng) | O3: Số lượng | P3: Thành tiền (triệu đồng)
A5: 1 | B5: 2 | C5: 1 | D5: 2 | E5: 3 | F5: 4 | G5: 5 | H5: 6 | I5: 7=3-5 | J5: 8=4-6 | K5: 9=1-3 | L5: 10=2-4 | M5: 3 | N5: 4 | O5: 3 | P5: 4
B6: Tổng cộng | E6: =+M6+O6 -> 324402060 | F6: =+N6+P6 -> 2155719 | G6: =SUM(G7+G36+G62) -> 48754060 | H6: =SUM(H7+H36+H62) -> 65770.351 | I6: =E6-G6 -> 275648000 | J6: =F6-H6 -> 2089948.6 | M6: =M7+M36+M62+M69 -> 239079663 | N6: =N7+N36+N62+N69 -> 1276820 | O6: =O7+O36+O62+O69 -> 85322397 | P6: =P7+P36+P62+P69 -> 878899
A7: I | B7: Trang thiết bị y tế | E7: =+M7+O7 -> 39260 | F7: =+N7+P7 -> 1527056 | G7: =SUM(G17:G32) -> 508 | H7: =SUM(H17:H32) -> 7996.2889 | I7: =E7-G7 -> 38752 | J7: =F7-H7 -> 1519059.7 | M7: =SUM(M9:M35) -> 11773 | N7: =SUM(N9:N35) -> 1091632 | O7: =SUM(O9:O35) -> 27487 | P7: =SUM(P9:P35) -> 435424
B8: Trang thiết bị điều trị | E8: =+M8+O8 -> 0 | F8: =+N8+P8 -> 0
A9: 1 | B9: Máy thở chức năng cao | E9: =+M9+O9 -> 2094 | F9: =+N9+P9 -> 140332 | G9: 40 | H9: 13451.312 | I9: 278 | J9: 139254.82 | M9: 2094 | N9: 140332 | Q9: =SUM(M9:M11) -> 8706 | R9: =6606+2100 -> 8706
A10: =+A9+1 -> 2 | B10: Máy thở thông thường | E10: =+M10+O10 -> 4904 | F10: =+N10+P10 -> 614448 | M10: 4512 | N10: 454700 | O10: 392 | P10: 159748
A11: =+A10+1 -> 3 | B11: Máy tạo Oxy dòng cao HFNC và vật tư đi kèm | E11: =+M11+O11 -> 2187 | F11: =+N11+P11 -> 150782 | M11: 2100 | N11: 146000 | O11: 87 | P11: 4782
A12: =+A11+1 -> 4 | B12: Monitor theo dõi bệnh nhân | E12: =+M12+O12 -> 951 | F12: =+N12+P12 -> 16498 | M12: 530 | O12: 421 | P12: 16498
A13: =+A12+1 -> 5 | B13: Hệ thống oxy | E13: =+M13+O13 -> 4 | F13: =+N13+P13 -> 715 | O13: 4 | P13: 715
A14: =+A13+1 -> 6 | B14: Hệ thống máy tuần hoàn ECMO | E14: =+M14+O14 -> 1 | F14: =+N14+P14 -> 8399 | O14: 1 | P14: 8399
A15: =+A14+1 -> 7 | B15: Bơm tiêm điện | E15: =+M15+O15 -> 110 | F15: =+N15+P15 -> 1629 | M15: 10 | O15: 100 | P15: 1629
A16: =+A15+1 -> 8 | B16: Bơm khối | E16: =+M16+O16 -> 267 | F16: =+N16+P16 -> 0 | O16: 267
A17: =+A16+1 -> 9 | B17: Máy tạo Oxy | E17: =+M17+O17 -> 2054 | F17: =+N17+P17 -> 80100 | G17: 500 | H17: 7996.2889 | I17: 1286 | J17: 0 | O17: 2054 | P17: 80100
A18: =+A17+1 -> 10 | B18: Máy đo độ bão hòa oxy trong máu | E18: =+M18+O18 -> 21100 | F18: =+N18+P18 -> 5684 | O18: 21100 | P18: 5684
A19: =+A18+1 -> 11 | B19: Giường bệnh | E19: =+M19+O19 -> 200 | F19: =+N19+P19 -> 0 | G19: 0 | H19: 0 | I19: 200 | J19: 0 | O19: 200
A20: =+A19+1 -> 12 | B20: Máy theo dõi nhịp tim | E20: =+M20+O20 -> 50 | F20: =+N20+P20 -> 4224 | G20: 0 | H20: 0 | I20: 50 | J20: 0 | O20: 50 | P20: 4224
A21: =+A20+1 -> 13 | B21: Khí dung | E21: =+M21+O21 -> 12 | O21: 12
A22: =+A21+1 -> 14 | B22: Máy đo huyết áp | E22: =+M22+O22 -> 20 | O22: 20
A23: =+A22+1 -> 15 | B23: Phế dung kế | E23: =+M23+O23 -> 25 | O23: 25
A24: =+A23+1 -> 16 | B24: Kít 24 giờ | E24: =+M24+O24 -> 10 | O24: 10
B25: Trang thiết bị xét nghiệm | E25: =+M25+O25 -> 0 | F25: =+N25+P25 -> 0
A26: =+A24+1 -> 17 | B26: Hệ thống Realtime PCR | E26: =+M26+O26 -> 106 | F26: =+N26+P26 -> 124289 | M26: 100 | N26: 120000 | O26: 6 | P26: 4289
A27: =+A26+1 -> 18 | B27: Máy tách chiết tự động | E27: =+M27+O27 -> 67 | F27: =+N27+P27 -> 5718 | M27: 63 | O27: 4 | P27: 5718
A28: =+A27+1 -> 19 | B28: Máy chiết xuất axit nuclecic | E28: =+M28+O28 -> 2 | F28: =+N28+P28 -> 0 | O28: 2
A29: =+A28+1 -> 20 | B29: Xe xét nghiệm lưu động | E29: =+M29+O29 -> 20 | F29: =+N29+P29 -> 200000 | M29: 20 | N29: 200000
B30: Trang thiết bị phục vụ tiêm chủng | E30: =+M30+O30 -> 0 | F30: =+N30+P30 -> 0
A31: =+A29+1 -> 21 | B31: Tủ lạnh -< 75 độ C | E31: =+M31+O31 -> 108 | F31: =+N31+P31 -> 33812 | G31: 8 | H31: 0 | I31: 77 | J31: 28211.906 | M31: 23 | N31: 5600 | O31: 85 | P31: 28212
A32: =+A31+1 -> 22 | B32: Xe ô tô tải lạnh Mishubishi | E32: =+M32+O32 -> 5 | F32: =+N32+P32 -> 11315 | O32: 5 | P32: 11315
A33: =+A32+1 -> 23 | B33: Xe tải phục vụ vận chuyển vắc xin | E33: =+M33+O33 -> 63 | F33: =+N33+P33 -> 0 | M33: 63
A34: =+A33+1 -> 24 | B34: Xe phục vụ tiêm chủng lưu động | E34: =+M34+O34 -> 63 | F34: =+N34+P34 -> 0 | M34: 63
A35: =+A34+1 -> 25 | B35: Tủ lạnh | E35: =+M35+O35 -> 4837 | F35: =+N35+P35 -> 129111 | M35: 2195 | N35: 25000 | O35: 2642 | P35: 104111
A36: II | B36: Vật tư | E36: =+M36+O36 -> 286127095 | F36: =+N36+P36 -> 449158 | G36: 47415742 | H36: 9845.7142 | I36: -47415742 | J36: 212234.47 | M36: =SUM(M38:M61) -> 203901800 | N36: =SUM(N38:N61) -> 185188 | O36: =SUM(O38:O61) -> 82225295 | P36: =SUM(P38:P61) -> 263970
B37: Phục vụ tiêm vắc xin phòng COVID19 | E37: =+M37+O37 -> 0 | F37: =+N37+P37 -> 0
A38: 1 | B38: Hộp an toàn | E38: =+M38+O38 -> 1822150 | F38: =+N38+P38 -> 0 | G38: 407375 | H38: 0 | I38: 500000 | J38: 0 | M38: 800000 | O38: 1022150
A39: =+A38+1 -> 2 | B39: Bơm Kim tiêm | E39: =+M39+O39 -> 225110300 | F39: =+N39+P39 -> 124298 | G39: 43938000 | H39: 1113.9406 | I39: 5000000 | J39: 0 | M39: 156500000 | N39: 120000 | O39: 68610300 | P39: 4298
A40: =+A39+1 -> 3 | B40: Ống thuốc dung môi tiêm vacxin | E40: =+M40+O40 -> 9700000 | F40: =+N40+P40 -> 0 | M40: 9700000
A41: =+A40+1 -> 4 | B41: Hòm lạnh kèm thiết bị theo dõi nhiệt độ | E41: =+M41+O41 -> 1600 | F41: =+N41+P41 -> 20482 | G41: 0 | H41: 0 | I41: 1600 | J41: 20482.2 | O41: 1600 | P41: 20482
...

Sheet Tong hop tiep nhan, xuat cap
A1: BỘ Y TẾ | V1: PHỤ LỤC 3A
A3: TỔNG HỢP TIẾP NHẬN, PHÂN BỔ VẬT TƯ, TEST KIT, TTB, THUỐC PHÒNG CHỐNG DỊCH COVID -19
A4: (Kèm theo Công văn số /BYT-KHTC ngày tháng năm 2021)
A6: STT | B6: Loại | C6: SỐ CAM KẾT | F6: SỐ TIẾP NHẬN | L6: SỐ ĐÃ XUẤT CẤP | Q6: SỐ TỒN | V6: Ghi chú
C7: Tổng cộng tiếp nhận | D7: Hàng tiếp nhận trong nước | E7: Hàng viện trợ nước ngoài | F7: Tổng cộng tiếp nhận | H7: Hàng tiếp nhận trong nước | J7: Hàng viện trợ nước ngoài | L7: Tổng cộng xuất cấp | M7: Hàng tiếp nhận trong nước | O7: Hàng viện trợ nước ngoài | Q7: Còn lại | R7: Hàng tiếp nhận trong nước | T7: Hàng viện trợ nước ngoài
F8: Số lượng | G8: Thành tiền (triệu đồng) | H8: Số lượng | I8: Thành tiền (triệu đồng) | J8: Số lượng | K8: Thành tiền (triệu đồng) | L8: Số lượng | M8: Số lượng | N8: Thành tiền (triệu đồng) | O8: Số lượng | P8: Thành tiền (triệu đồng) | Q8: Số lượng | R8: Số lượng | S8: Thành tiền (triệu đồng) | T8: Số lượng | U8: Thành tiền (triệu đồng)
A9: A | B9: B | F9: 1=2+3 | H9: 2 | J9: 3 | L9: 4=5+6 | M9: 5 | O9: 6 | Q9: 7=8+9 | R9: 8 | T9: 9 | V9: 10
B10: Tổng cộng | C10: =+C11+C40+C66+C73 -> 331563338 | D10: =+D11+D40+D66+D73 -> 246217903 | E10: =+E11+E40+E66+E73 -> 85345435 | F10: =F11+F40+F66+F73 -> 324454808 | G10: =G11+G40+G66+G73 -> 2155819 | H10: =H11+H40+H66+H73 -> 238903672 | I10: =I11+I40+I66+I73 -> 1276820 | J10: =J11+J40+J66+J73 -> 85345437 | K10: =K11+K40+K66+K73 -> 878899 | L10: =+L11+L40+L66+L73 -> #REF! | M10: =+M11+M40+M66+M73 -> #REF! | N10: =+N11+N40+N66+N73 -> 0 | O10: =+O11+O40+O66+O73 -> #REF! | P10: =+P11+P40+P66+P73 -> 0 | Q10: =+F10-L10 -> #REF! | R10: =+H10-M10 -> #REF! | T10: =+J10-O10 -> #REF! | W10: =+R10+T10 -> #REF! | X10: =+Q10-W10 -> #REF! | Y10: =+R10+T10 -> #REF!
A11: I | B11: Trang thiết bị y tế | C11: =SUM(C13:C39) -> 62298 | D11: =SUM(D13:D39) -> 11773 | E11: =SUM(E13:E39) -> 50525 | F11: =SUM(F13:F39) -> 62298 | G11: =SUM(G13:G39) -> 1527056 | H11: =SUM(H13:H39) -> 11773 | I11: =SUM(I13:I39) -> 1091632 | J11: =SUM(J13:J39) -> 50527 | ... P11: =SUM(P13:P39) -> 0 | Q11: =+F11-L11 -> #REF! | R11: =+H11-M11 -> #REF! | T11: =+J11-O11 -> #REF! | W11: =+R11+T11 -> #REF! | X11: =+Q11-W11 -> #REF!
B12: Trang thiết bị điều trị | W12: =+R12+T12 -> 0 | X12: =+Q12-W12 -> 0
A13: 1 | B13: Máy thở chức năng cao | C13: =+D13+E13 -> 2094 | D13: 2094 | F13: ='TH vien tro + trong nước'!E9 -> 2094 | G13: ='TH vien tro + trong nước'!F9 -> 140332 | H13: 2094 | I13: 140332 | L13: =+'Tong hop phan bo'!H11 -> #REF! | M13: =+#REF! -> #REF! | Q13: =+F13-L13 -> #REF! | R13: =+H13-M13 -> #REF! | T13: =+J13-O13 -> 0 | W13: =+R13+T13 -> #REF! | X13: =+Q13-W13 -> #REF!
A14: =+A13+1 -> 2 | B14: Máy thở thông thường | C14: =+D14+E14 -> 4904 | D14: 4512 | E14: 392 | F14: ='TH vien tro + trong nước'!E10 -> 4904 | G14: ='TH vien tro + trong nước'!F10 -> 614448 | H14: 4512 | I14: 454700 | J14: 392 | K14: 159748 | L14: =+'Tong hop phan bo'!G11 -> #REF! | M14: =+#REF! -> #REF! | O14: =+#REF! -> #REF! | Q14: =+F14-L14 -> #REF! | R14: =+H14-M14 -> #REF! | T14: =+J14-O14 -> #REF! | W14: =+R14+T14 -> #REF! | X14: =+Q14-W14 -> #REF!
A15: =+A14+1 -> 3 | B15: Máy tạo Oxy dòng cao HFNC và vật tư đi kèm | C15: =+D15+E15 -> 2187 | D15: 2100 | E15: 87 | F15: ='TH vien tro + trong nước'!E11 -> 2187 | G15: ='TH vien tro + trong nước'!F11 -> 150782 | H15: 2100 | I15: 146000 | J15: 87 | K15: 4782 | L15: =+'Tong hop phan bo'!I11+'Tong hop phan bo'!R11 -> #REF! | M15: =+#REF! -> #REF! | O15: =+#REF! -> #REF! | Q15: =+F15-L15 -> #REF! | R15: =+H15-M15 -> #REF! | T15: =+J15-O15 -> #REF! | W15: =+R15+T15 -> #REF! | X15: =+Q15-W15 -> #REF!
A16: =+A15+1 -> 4 | B16: Monitor theo dõi bệnh nhân | C16: =+D16+E16 -> 951 | D16: 530 | E16: 421 | F16: ='TH vien tro + trong nước'!E12 -> 951 | G16: ='TH vien tro + trong nước'!F12 -> 16498 | H16: 530 | J16: 421 | K16: 16498 | L16: =+'Tong hop phan bo'!Q11 -> #REF! | O16: =+#REF! -> #REF! | Q16: =+F16-L16 -> #REF! | R16: =+H16-M16 -> 530 | T16: =+J16-O16 -> #REF! | W16: =+R16+T16 -> #REF! | X16: =+Q16-W16 -> #REF!
A17: =+A16+1 -> 5 | B17: Hệ thống oxy | C17: =+D17+E17 -> 4 | E17: 4 | F17: ='TH vien tro + trong nước'!E13 -> 4 | G17: ='TH vien tro + trong nước'!F13 -> 715 | J17: 4 | K17: 715 | L17: =+'Tong hop phan bo'!P11 -> #REF! | O17: =+#REF! -> #REF! | Q17: =+F17-L17 -> #REF! | R17: =+H17-M17 -> 0 | T17: =+J17-O17 -> #REF! | W17: =+R17+T17 -> #REF! | X17: =+Q17-W17 -> #REF!
A18: =+A17+1 -> 6 | B18: Hệ thống máy tuần hoàn ECMO | C18: =+D18+E18 -> 1 | E18: 1 | F18: ='TH vien tro + trong nước'!E14 -> 1 | G18: ='TH vien tro + trong nước'!F14 -> 8399 | J18: 1 | K18: 8399 | L18: =+'Tong hop phan bo'!O11 -> #REF! | O18: =+#REF! -> #REF! | Q18: =+F18-L18 -> #REF! | R18: =+H18-M18 -> 0 | T18: =+J18-O18 -> #REF! | W18: =+R18+T18 -> #REF! | X18: =+Q18-W18 -> #REF!
A19: =+A18+1 -> 7 | B19: Bơm tiêm điện | C19: =+D19+E19 -> 110 | D19: 10 | E19: 100 | F19: ='TH vien tro + trong nước'!E15 -> 110 | G19: ='TH vien tro + trong nước'!F15 -> 1629 | H19: 10 | J19: 100 | K19: 1629 | L19: =+'Tong hop phan bo'!T11 -> #REF! | O19: =+#REF! -> #REF! | Q19: =+F19-L19 -> #REF! | R19: =+H19-M19 -> 10 | T19: =+J19-O19 -> #REF! | W19: =+R19+T19 -> #REF! | X19: =+Q19-W19 -> #REF!
A20: =+A19+1 -> 8 | B20: Bơm khối | C20: =+D20+E20 -> 267 | E20: 267 | F20: ='TH vien tro + trong nước'!E16 -> 267 | G20: ='TH vien tro + trong nước'!F16 -> 0 | J20: 267 | L20: =+'Tong hop phan bo'!U11 -> #REF! | O20: =+#REF! -> #REF! | R20: =+H20-M20 -> 0 | T20: =+J20-O20 -> #REF! | W20: =+R20+T20 -> #REF! | X20: =+Q20-W20 -> #REF!
A21: =+A20+1 -> 9 | B21: Máy tạo Oxy | C21: =+D21+E21 -> 2054 | E21: 2054 | F21: ='TH vien tro + trong nước'!E17 -> 2054 | G21: ='TH vien tro + trong nước'!F17 -> 80100 | J21: 2054 | K21: 80100 | L21: =+'Tong hop phan bo'!S11 -> #REF! | O21: =+#REF! -> #REF! | Q21: =+F21-L21 -> #REF! | R21: =+H21-M21 -> 0 | T21: =+J21-O21 -> #REF! | W21: =+R21+T21 -> #REF! | X21: =+Q21-W21 -> #REF!
A22: =+A21+1 -> 10 | B22: Máy đo độ bão hòa oxy trong máu | C22: =+D22+E22 -> 21100 | E22: 21100 | F22: ='TH vien tro + trong nước'!E18 -> 21100 | G22: ='TH vien tro + trong nước'!F18 -> 5684 | J22: 21100 | K22: 5684 | Q22: =+F22-L22 -> 21100 | R22: =+H22-M22 -> 0 | T22: =+J22-O22 -> 21100 | W22: =+R22+T22 -> 21100 | X22: =+Q22-W22 -> 0
A23: =+A22+1 -> 11 | B23: Giường bệnh | C23: =+D23+E23 -> 200 | E23: 200 | F23: ='TH vien tro + trong nước'!E19 -> 200 | G23: ='TH vien tro + trong nước'!F19 -> 0 | J23: 200 | Q23: =+F23-L23 -> 200 | R23: =+H23-M23 -> 0 | T23: =+J23-O23 -> 200 | W23: =+R23+T23 -> 200 | X23: =+Q23-W23 -> 0
A24: =+A23+1 -> 12 | B24: Máy theo dõi nhịp tim | C24: =+D24+E24 -> 50 | E24: 50 | F24: ='TH vien tro + trong nước'!E20 -> 50 | G24: ='TH vien tro + trong nước'!F20 -> 4224 | J24: 50 | K24: 4224 | L24: =+'Tong hop phan bo'!V11 -> #REF! | O24: =+#REF! -> #REF! | Q24: =+F24-L24 -> #REF! | R24: =+H24-M24 -> 0 | T24: =+J24-O24 -> #REF! | W24: =+R24+T24 -> #REF! | X24: =+Q24-W24 -> #REF!
A25: =+A24+1 -> 13 | B25: Khí dung | C25: =+D25+E25 -> 12 | E25: 12 | F25: ='TH vien tro + trong nước'!E21 -> 12 | G25: ='TH vien tro + trong nước'!F21 -> 0 | J25: 12 | Q25: =+F25-L25 -> 12 | R25: =+H25-M25 -> 0 | T25: =+J25-O25 -> 12 | W25: =+R25+T25 -> 12 | X25: =+Q25-W25 -> 0
A26: =+A25+1 -> 14 | B26: Máy đo huyết áp | C26: =+D26+E26 -> 20 | E26: 20 | F26: ='TH vien tro + trong nước'!E22 -> 20 | G26: ='TH vien tro + trong nước'!F22 -> 0 | J26: 20 | Q26: =+F26-L26 -> 20 | R26: =+H26-M26 -> 0 | T26: =+J26-O26 -> 20 | W26: =+R26+T26 -> 20 | X26: =+Q26-W26 -> 0
A27: =+A26+1 -> 15 | B27: Phế dung kế | C27: =+D27+E27 -> 25 | E27: 25 | F27: ='TH vien tro + trong nước'!E23 -> 25 | G27: ='TH vien tro + trong nước'!F23 -> 0 | J27: 25 | Q27: =+F27-L27 -> 25 | R27: =+H27-M27 -> 0 | T27: =+J27-O27 -> 25 | W27: =+R27+T27 -> 25 | X27: =+Q27-W27 -> 0
A28: =+A27+1 -> 16 | B28: Kít 24 giờ | C28: =+D28+E28 -> 10 | E28: 10 | F28: ='TH vien tro + trong nước'!E24 -> 10 | G28: ='TH vien tro + trong nước'!F24 -> 0 | J28: 10 | Q28: =+F28-L28 -> 10 | R28: =+H28-M28 -> 0 | T28: =+J28-O28 -> 10 | W28: =+R28+T28 -> 10 | X28: =+Q28-W28 -> 0
B29: Trang thiết bị xét nghiệm | C29: =+D29+E29 -> 0 | W29: =+R29+T29 -> 0 | X29: =+Q29-W29 -> 0
A30: =+A28+1 -> 17 | B30: Hệ thống Realtime PCR | C30: =+D30+E30 -> 106 | D30: 100 | E30: 6 | F30: ='TH vien tro + trong nước'!E26 -> 106 | G30: ='TH vien tro + trong nước'!F26 -> 124289 | H30: 100 | I30: 120000 | J30: 6 | K30: 4289 | L30: =+'Tong hop phan bo'!J11 -> #REF! | M30: =+#REF! -> #REF! | O30: =+#REF! -> #REF! | Q30: =+F30-L30 -> #REF! | R30: =+H30-M30 -> #REF! | T30: =+J30-O30 -> #REF! | W30: =+R30+T30 -> #REF! | X30: =+Q30-W30 -> #REF!
A31: =+A30+1 -> 18 | B31: Máy tách chiết tự động | C31: =+D31+E31 -> 67 | D31: 63 | E31: 4 | F31: ='TH vien tro + trong nước'!E27 -> 67 | G31: ='TH vien tro + trong nước'!F27 -> 5718 | H31: 63 | J31: 6 | K31: 5718 | L31: =+'Tong hop phan bo'!K11 -> #REF! | M31: =+#REF! -> #REF! | O31: =+#REF! -> #REF! | Q31: =+F31-L31 -> #REF! | R31: =+H31-M31 -> #REF! | T31: =+J31-O31 -> #REF! | W31: =+R31+T31 -> #REF! | X31: =+Q31-W31 -> #REF!
A32: =+A31+1 -> 19 | B32: Máy chiết xuất axit nuclecic | C32: =+D32+E32 -> 23040 | E32: 23040 | F32: =+H32+J32 -> 23040 | G32: ='TH vien tro + trong nước'!F28 -> 0 | J32: 23040 | Q32: =+F32-L32 -> 23040 | R32: =+H32-M32 -> 0 | T32: =+J32-O32 -> 23040 | W32: =+R32+T32 -> 23040 | X32: =+Q32-W32 -> 0
A33: =+A32+1 -> 20 | B33: Xe xét nghiệm lưu động (*) | C33: =+D33+E33 -> 20 | D33: 20 | F33: ='TH vien tro + trong nước'!E29 -> 20 | G33: ='TH vien tro + trong nước'!F29 -> 200000 | H33: 20 | I33: 200000 | L33: =+M33+O33 -> 20 | M33: 20 | Q33: =+F33-L33 -> 0 | R33: =+H33-M33 -> 0 | T33: =+J33-O33 -> 0 | W33: =+R33+T33 -> 0 | X33: =+Q33-W33 -> 0
B34: Trang thiết bị phục vụ tiêm chủng | C34: =+D34+E34 -> 0 | W34: =+R34+T34 -> 0 | X34: =+Q34-W34 -> 0
A35: =+A33+1 -> 21 | B35: Tủ lạnh -< 75 độ C | C35: =+D35+E35 -> 108 | D35: 23 | E35: 85 | F35: ='TH vien tro + trong nước'!E31 -> 108 | G35: ='TH vien tro + trong nước'!F31 -> 33812 | H35: 23 | I35: 5600 | J35: 85 | K35: 28212 | L35: =+'Tong hop phan bo'!N11 -> #REF! | O35: =+#REF! -> #REF! | Q35: =+F35-L35 -> #REF! | R35: =+H35-M35 -> 23 | T35: =+J35-O35 -> #REF! | W35: =+R35+T35 -> #REF! | X35: =+Q35-W35 -> #REF!
A36: =+A35+1 -> 22 | B36: Xe ô tô tải lạnh Mishubishi | C36: =+D36+E36 -> 5 | E36: 5 | F36: ='TH vien tro + trong nước'!E32 -> 5 | G36: ='TH vien tro + trong nước'!F32 -> 11315 | J36: 5 | K36: 11315 | Q36: =+F36-L36 -> 5 | R36: =+H36-M36 -> 0 | T36: =+J36-O36 -> 5 | W36: =+R36+T36 -> 5 | X36: =+Q36-W36 -> 0
A37: =+A36+1 -> 23 | B37: Xe tải phục vụ vận chuyển vắc xin (**) | C37: =+D37+E37 -> 63 | D37: 63 | F37: ='TH vien tro + trong nước'!E33 -> 63 | G37: ='TH vien tro + trong nước'!F33 -> 0 | H37: 63 | L37: =+M37+O37 -> 63 | M37: 63 | Q37: =+F37-L37 -> 0 | R37: =+H37-M37 -> 0 | T37: =+J37-O37 -> 0 | W37: =+R37+T37 -> 0 | X37: =+Q37-W37 -> 0
A38: =+A37+1 -> 24 | B38: Xe phục vụ tiêm chủng lưu động | C38: =+D38+E38 -> 63 | D38: 63 | F38: ='TH vien tro + trong nước'!E34 -> 63 | G38: ='TH vien tro + trong nước'!F34 -> 0 | H38: 63 | L38: =+'Tong hop phan bo'!L11 -> #REF! | M38: =+#REF! -> #REF! | Q38: =+F38-L38 -> #REF! | R38: =+H38-M38 -> #REF! | T38: =+J38-O38 -> 0 | W38: =+R38+T38 -> #REF! | X38: =+Q38-W38 -> #REF!
A39: =+A38+1 -> 25 | B39: Tủ lạnh | C39: =+D39+E39 -> 4837 | D39: 2195 | E39: 2642 | F39: ='TH vien tro + trong nước'!E35 -> 4837 | G39: ='TH vien tro + trong nước'!F35 -> 129111 | H39: 2195 | I39: 25000 | J39: 2642 | K39: 104111 | L39: =+'Tong hop phan bo'!M11 -> #REF! | M39: =+#REF! -> #REF! | O39: =+#REF! -> #REF! | Q39: =+F39-L39 -> #REF! | R39: =+H39-M39 -> #REF! | T39: =+J39-O39 -> #REF! | W39: =+R39+T39 -> #REF! | X39: =+Q39-W39 -> #REF!
A40: II | B40: Vật tư | C40: =SUM(C42:C65) -> 286163095 | D40: =SUM(D42:D65) -> 203937800 | E40: =SUM(E42:E65) -> 82225295 | F40: =SUM(F42:F65) -> 286163095 | G40: =SUM(G42:G65) -> 449158 | H40: =SUM(H42:H65) -> 203937800 | I40: =SUM(I42:I65) -> 185188 | J40: =SUM(J42:J65) -> 82225295 | ... Q40: =SUM(Q42:Q65) -> #REF! | R40: =+H40-M40 -> #REF! | T40: =+J40-O40 -> #REF! | W40: =+R40+T40 -> #REF! | X40: =+Q40-W40 -> #REF!
B41: Phục vụ tiêm vắc xin phòng COVID19 | W41: =+R41+T41 -> 0 | X41: =+Q41-W41 -> 0
A42: 1 | B42: Hộp an toàn (***) | C42: =+D42+E42 -> 1822150 | D42: 800000 | E42: 1022150 | F42: ='TH vien tro + trong nước'!E38 -> 1822150 | G42: ='TH vien tro + trong nước'!F38 -> 0 | H42: 800000 | J42: 1022150 | Q42: =+F42-L42 -> 1822150 | R42: =+H42-M42 -> 800000 | T42: =+J42-O42 -> 1022150 | W42: =+R42+T42 -> 1822150 | X42: =+Q42-W42 -> 0
...

Sheet Tong hop phan bo trong nuoc
A1: BỘ Y TẾ | B1: BỘ Y TẾ | R1: PHỤ LỤC 3B
B3: TỔNG HỢP PHÂN BỔ VẬT TƯ, TEST KIT, TTB, THUỐC PHÒNG CHỐNG DỊCH COVID -19 ĐẾN 15/01/2022 NGUỒN HỖ TRỢ TRONG NƯỚC
B4: (ĐẾN NGÀY 15/01/2022)
A7: STT | B7: STT | C7: Đơn vị, địa phương được phân bổ | D7: Chia ra | AP7: Ghi chú
D8: Test xét nghiệm | E8: TEST XÉT NGHIỆM | G8: Trang thiết bị | H8: TRANG THIẾT BỊ Y TẾ | X8: Thuốc | Y8: THUỐC SẢN PHẨM HỖ TRỢ PCD | AC8: Vật tư phòng chống dịch | AD8: VẬT TƯ PHÒNG CHỐNG DỊCH
E9: Test PCR (cái) | F9: Test nhanh (cái) | H9: Máy thở các loại (cái) | I9: Máy thở chức năng cao (hệ thống) | J9: Máy thở HFNC (Hệ thống) | K9: Máy XN PCR (hệ thống) | L9: Máy tách chiết (cái) | M9: Xe tiêm lưu động (cái) | N9: Tủ lạnh (cái) | O9: Tủ lạnh -75 độ C | P9: Hệ thống máy tuần hoàn ECMO | Q9: Hệ thống Oxy | R9: Monitor theo dõi bệnh nhân | S9: Máy tạo Oxy dòng cao HFNC | T9: Máy tạo Oxy | U9: Bơm điện | V9: Bơm khối | W9: Máy theo dõi nhịp tim | Y9: Thuốc Remdesivir (lọ) | Z9: Xuyên Tâm Liên (viên) | AA9: AVIGAN (viên) | AB9: Casirivimab và Imdevimab (liều) | AD9: Khẩu trang y tế (cái) | AE9: Khẩu trang N95 và tương đương (cái) | AF9: Khẩu trang phẫu thuật + KN95 (cái) | AG9: Bộ trang phục chống dịch cấp độ 2-3 (cái) | AH9: Bộ trang phục chống dịch cấp độ 4 (cái) | AI9: Trang phục bảo hộ Y tế | AJ9: Bộ mồi và probe gen RdRp: (TiBMoL gen RdRp) | AK9: Bộ mồi và probe gen E (TiBMoL gen E) | AL9: Oxy y tế dạng lỏng | AM9: Kính chống giọt bắn | AN9: Găng tay y tế
