Workbook

Sheet foxz

Sheet DS Tổng hợp viện trợ
A1: TỔNG HỢP HÀNG VIỆN TRỢ NƯỚC NGOÀI PHÒNG CHỐNG COVID-19
A2: (Tính đến 31/10/2021)
A3: STT | B3: Mốc thời gian | C3: Khoản viện trợ/ Nhà tài trợ | D3: Danh mục hàng | E3: Số Quyết định | F3: Đơn vị thực hiện tiếp nhận | G3: Phân bổ | H3: Tổng giá trị ước tính (một số lô hàng không có giá trị thương mại, hoặc nhà tài trợ không cung cấp giá trị) | N3: Test nhanh Kháng nguyên | S3: Test dùng cho máy PCR | X3: Khẩu trang N95 + FFP2 | AC3: Khẩu trang phẫu thuật + KN95 | AH3: Khẩu trang y tế/Khẩu trang bảo hộ | AM3: Trang phục bảo hộ Y tế | AR3: Máy thở | AW3: Máy tạo Oxy dòng cao HFNC và vật tư đi kèm | BB3: Máy tạo Oxy | BG3: Hệ thống Realtime PCR | BL3: Bơm Kim tiêm | BQ3: Găng tay y tế | BV3: Cồn sát khuẩn | CA3: Hòm lạnh kèm thiết bị theo dõi nhiệt độ | CF3: TL 2-8 độ C | CK3: TL -28 -18 độ C | CP3: TL -< 75 độ C | CU3: Máy chiết xuất axit nuclecic | CZ3: Bộ chiết xuất axit nuclecic | DE3: Hộp an toàn | DJ3: Giường bệnh | DO3: Bộ mồi và probe gen E (TiBMoL gen E) | DT3: Bộ mồi và probe gen RdRp: (TiBMoL gen RdRp): | DY3: Kem dưỡng ẩm Ziaja Med Atopic Dermatitis Soothing and Nourishing Hand Lotion (Ziaja Med AZS Emulsja Do Rak Lagodzaco-Natluszczajaca). | ED3: Ống lấy mẫu bệnh phẩm (spectimen Collection): | EI3: Máy theo dõi nhịp tim | EN3: Kính chống giọt bắn | ES3: Kính bảo vệ mắt | EX3: Dây truyền dịch (kim tiêm điện) | FC3: Găng tay phẫu thuật | FH3: Bơm tiêm điện | FM3: Oxy y tế dạng lỏng | FR3: Monitor theo dõi bệnh nhân | FW3: Máy đo độ bão hòa oxy trong máu | GB3: Xe ô tô tải lạnh Mishubishi | GG3: Hệ thống oxy | GL3: Máy tách chiết tự động | GQ3: Hệ thống máy tuần hoàn ECMO | GV3: Gạc mũi họng 150mm | HA3: Ống w/3ml nước muối đệm Phophat 10ml | HF3: Vắc xin Astra | HK3: Vắc xin Vero Cell | HP3: Vắc xin Moderna | HU3: Vắc xin Sputnik V
N4: Số lượng (Test) | O4: Đơn giá | Q4: Thành tiền | S4: Số lượng (Test) | T4: Đơn giá | V4: Thành tiền | X4: Số lượng (Chiếc) | Y4: Đơn giá | AA4: Thành tiền | AC4: Số lượng (Chiếc) | AD4: Đơn giá | AF4: Thành tiền | AH4: Số lượng (Chiếc) | AI4: Đơn giá | AK4: Thành tiền | AM4: Số lượng (Bộ) | AN4: Đơn giá | AP4: Thành tiền | AR4: Số lượng | AS4: Đơn giá | AU4: Thành tiền | AW4: Số lượng | AX4: Đơn giá | AZ4: Thành tiền | BB4: Số lượng | BC4: Đơn giá | BE4: Thành tiền | BG4: Số lượng | BH4: Đơn giá | BJ4: Thành tiền | BL4: Số lượng | BM4: Đơn giá | BO4: Thành tiền | BQ4: Số lượng | BR4: Đơn giá | BT4: Thành tiền | BV4: Số lượng | BW4: Đơn giá | BY4: Thành tiền | CA4: Số lượng | CB4: Đơn giá | CD4: Thành tiền | CF4: Số lượng | CG4: Đơn giá | CI4: Thành tiền | CK4: Số lượng | CL4: Đơn giá | CN4: Thành tiền | CP4: Số lượng | CQ4: Đơn giá | CS4: Thành tiền | CU4: Số lượng | CV4: Đơn giá | CX4: Thành tiền | CZ4: Số lượng | DA4: Đơn giá | DC4: Thành tiền | DE4: Số lượng | DF4: Đơn giá | DH4: Thành tiền | DJ4: Số lượng | DK4: Đơn giá | DM4: Thành tiền | DO4: Số lượng | DP4: Đơn giá | DR4: Thành tiền | DT4: Số lượng | DU4: Đơn giá | DW4: Thành tiền | DY4: Số lượng | DZ4: Đơn giá | EB4: Thành tiền | ED4: Số lượng | EE4: Đơn giá | EG4: Thành tiền | EI4: Số lượng | EJ4: Đơn giá | EL4: Thành tiền | EN4: Số lượng | EO4: Đơn giá | EQ4: Thành tiền | ES4: Số lượng | ET4: Đơn giá | EV4: Thành tiền | EX4: Số lượng | EY4: Đơn giá | FA4: Thành tiền | FC4: Số lượng | FD4: Đơn giá | FF4: Thành tiền | FH4: Số lượng | FI4: Đơn giá | FK4: Thành tiền | FM4: Số lượng | FN4: Đơn giá | FP4: Thành tiền | FR4: Số lượng | FS4: Đơn giá | FU4: Thành tiền | FW4: Số lượng | FX4: Đơn giá | FZ4: Thành tiền | GB4: Số lượng | GC4: Đơn giá | GE4: Thành tiền | GG4: Số lượng | GH4: Đơn giá | GJ4: Thành tiền | GL4: Số lượng | GM4: Đơn giá | GO4: Thành tiền | GQ4: Số lượng | GR4: Đơn giá | GT4: Thành tiền | GV4: Số lượng | GW4: Đơn giá | GY4: Thành tiền | HA4: Số lượng | HB4: Đơn giá | HD4: Thành tiền | HF4: Số lượng | HG4: Đơn giá | HI4: Thành tiền | HK4: Số lượng | HL4: Đơn giá | HN4: Thành tiền | HP4: Số lượng | HQ4: Đơn giá | HS4: Thành tiền | HU4: Số lượng | HV4: Đơn giá | HX4: Thành tiền
H5: Vốn viện trợ (nguyên tệ) | I5: Vốn viện trợ (VNĐ) | J5: Vốn đối ứng (quy đổi ngoại tệ) | K5: Vốn đối ứng (VNĐ) | L5: Tổng giá trị (nguyên tệ) | M5: Tổng giá trị (VNĐ) | O5: Nguyên tệ | P5: VNĐ | Q5: Nguyên tệ | R5: VNĐ | T5: Nguyên tệ | U5: VNĐ | V5: Nguyên tệ | W5: VNĐ | Y5: Nguyên tệ | Z5: VNĐ | AA5: Nguyên tệ | AB5: VNĐ | AD5: Nguyên tệ | AE5: VNĐ | AF5: Nguyên tệ | AG5: VNĐ | AI5: Nguyên tệ | AJ5: VNĐ | AK5: Nguyên tệ | AL5: VNĐ | AN5: Nguyên tệ | AO5: VNĐ | AP5: Nguyên tệ | AQ5: VNĐ | AS5: Nguyên tệ | AT5: VNĐ | AU5: Nguyên tệ | AV5: VNĐ | AX5: Nguyên tệ | AY5: VNĐ | AZ5: Nguyên tệ | BA5: VNĐ | BC5: Nguyên tệ | BD5: VNĐ | BE5: Nguyên tệ | BF5: VNĐ | BH5: Nguyên tệ | BI5: VNĐ | BJ5: Nguyên tệ | BK5: VNĐ | BM5: Nguyên tệ | BN5: VNĐ | BO5: Nguyên tệ | BP5: VNĐ | BR5: Nguyên tệ | BS5: VNĐ | BT5: Nguyên tệ | BU5: VNĐ | BW5: Nguyên tệ | BX5: VNĐ | BY5: Nguyên tệ | BZ5: VNĐ | CB5: Nguyên tệ | CC5: VNĐ | CD5: Nguyên tệ | CE5: VNĐ | CG5: Nguyên tệ | CH5: VNĐ | CI5: Nguyên tệ | CJ5: VNĐ | CL5: Nguyên tệ | CM5: VNĐ | CN5: Nguyên tệ | CO5: VNĐ | CQ5: Nguyên tệ | CR5: VNĐ | CS5: Nguyên tệ | CT5: VNĐ | CV5: Nguyên tệ | CW5: VNĐ | CX5: Nguyên tệ | CY5: VNĐ | DA5: Nguyên tệ | DB5: VNĐ | DC5: Nguyên tệ | DD5: VNĐ | DF5: Nguyên tệ | DG5: VNĐ | DH5: Nguyên tệ | DI5: VNĐ | DK5: Nguyên tệ | DL5: VNĐ | DM5: Nguyên tệ | DN5: VNĐ | DP5: Nguyên tệ | DQ5: VNĐ | DR5: Nguyên tệ | DS5: VNĐ | DU5: Nguyên tệ | DV5: VNĐ | DW5: Nguyên tệ | DX5: VNĐ | DZ5: Nguyên tệ | EA5: VNĐ | EB5: Nguyên tệ | EC5: VNĐ | EE5: Nguyên tệ | EF5: VNĐ | EG5: Nguyên tệ | EH5: VNĐ | EJ5: Nguyên tệ | EK5: VNĐ | EL5: Nguyên tệ | EM5: VNĐ | EO5: Nguyên tệ | EP5: VNĐ | EQ5: Nguyên tệ | ER5: VNĐ | ET5: Nguyên tệ | EU5: VNĐ | EV5: Nguyên tệ | EW5: VNĐ | EY5: Nguyên tệ | EZ5: VNĐ | FA5: Nguyên tệ | FB5: VNĐ | FD5: Nguyên tệ | FE5: VNĐ | FF5: Nguyên tệ | FG5: VNĐ | FI5: Nguyên tệ | FJ5: VNĐ | FK5: Nguyên tệ | FL5: VNĐ | FN5: Nguyên tệ | FO5: VNĐ | FP5: Nguyên tệ | FQ5: VNĐ | FS5: Nguyên tệ | FT5: VNĐ | FU5: Nguyên tệ | FV5: VNĐ | FX5: Nguyên tệ | FY5: VNĐ | FZ5: Nguyên tệ | GA5: VNĐ | GC5: Nguyên tệ | GD5: VNĐ | GE5: Nguyên tệ | GF5: VNĐ | GH5: Nguyên tệ | GI5: VNĐ | GJ5: Nguyên tệ | GK5: VNĐ | GM5: Nguyên tệ | GN5: VNĐ | GO5: Nguyên tệ | GP5: VNĐ | GR5: Nguyên tệ | GS5: VNĐ | GT5: Nguyên tệ | GU5: VNĐ | GW5: Nguyên tệ | GX5: VNĐ | GY5: Nguyên tệ | GZ5: VNĐ | HB5: Nguyên tệ | HC5: VNĐ | HD5: Nguyên tệ | HE5: VNĐ | HG5: Nguyên tệ | HH5: VNĐ | HI5: Nguyên tệ | HJ5: VNĐ | HL5: Nguyên tệ | HM5: VNĐ | HN5: Nguyên tệ | HO5: VNĐ | HQ5: Nguyên tệ | HR5: VNĐ | HS5: Nguyên tệ | HT5: VNĐ | HV5: Nguyên tệ | HW5: VNĐ | HX5: Nguyên tệ | HY5: VNĐ
C6: Tổng số lượng tính đến thời điểm hiện tại | H6: - | I6: =I8+I11+I22+I59 -> 2.3646165e+12 | J6: - | K6: =K8+K11+K22+K59 -> 74036448147 | L6: - | M6: =M8+M11+M22+M59 -> 2.438653e+12 | N6: =N8+N11+N22+N59 -> 1504695 | R6: =R8+R11+R22+R59 -> 101609927109 | S6: =S8+S11+S22+S59 -> 333000 | W6: =W8+W11+W22+W59 -> 49357948000 | X6: =X8+X11+X22+X59 -> 894200 | AB6: =AB8+AB11+AB22+AB59 -> 49944874259 | AC6: =AC8+AC11+AC22+AC59 -> 1623250 | AG6: =AG8+AG11+AG22+AG59 -> 8.2884983e+09 | AH6: =AH8+AH11+AH22+AH59 -> 731072.55 | AL6: =AL8+AL11+AL22+AL59 -> 7408382200 | AM6: =AM8+AM11+AM22+AM59 -> 493880 | AQ6: =AQ8+AQ11+AQ22+AQ59 -> 82459339954 | AR6: =AR8+AR11+AR22+AR59 -> 318 | AV6: =AV8+AV11+AV22+AV59 -> 1.5270613e+11 | AW6: =AW8+AW11+AW22+AW59 -> 50 | BA6: =BA8+BA11+BA22+BA59 -> 4759401550 | BB6: =BB8+BB11+BB22+BB59 -> 1786 | BF6: =BF8+BF11+BF22+BF59 -> 7.8260611e+10 | BG6: =BG8+BG11+BG22+BG59 -> 6 | BK6: =BK8+BK11+BK22+BK59 -> 4288800000 | BL6: =BL8+BL11+BL22+BL59 -> 48938000 | BP6: =BP8+BP11+BP22+BP59 -> 1113940550 | BQ6: =BQ8+BQ11+BQ22+BQ59 -> 963400 | BU6: =BU8+BU11+BU22+BU59 -> 0 | BV6: =BV8+BV11+BV22+BV59 -> 257460 | BZ6: =BZ8+BZ11+BZ22+BZ59 -> 1.9249847e+10 | CA6: =CA8+CA11+CA22+CA60 -> 1600 | CE6: =SUM(CE8+CE11+CE22+CE59) -> 20482200000 | CF6: =CF8+CF11+CF22+CF59 -> 2210 | CJ6: =CJ8+CJ11+CJ22+CJ59 -> 75620408000 | CK6: =CK8+CK11+CK22+CK59 -> 0 | CO6: =CO8+CO11+CO22+CO59 -> 0 | CP6: =CP8+CP11+CP22+CP59 -> 85 | CT6: =CT8+CT11+CT22+CT59 -> 2.8211906e+10 | CU6: =CU8+CU11+CU22+CU59 -> 2 | CY6: =CY8+CY11+CY22+CY59 -> 0 | CZ6: =CZ8+CZ11+CZ22+CZ59 -> 23040 | DD6: =DD8+DD11+DD22+DD59 -> 0 | DE6: =DE8+DE11+DE22+DE59 -> 907375 | DI6: =DI8+DI11+DI22+DI59 -> 0 | DJ6: =DJ8+DJ11+DJ22+DJ59 -> 200 | DN6: =DN8+DN11+DN22+DN59 -> 0 | DO6: =DO8+DO11+DO22+DO59 -> 202176 | DS6: =DS8+DS11+DS22+DS59 -> 7.5458391e+09 | DT6: =DT8+DT11+DT22+DT59 -> 185184 | DX6: =DX8+DX11+DX22+DX59 -> 3.8772641e+09 | DY6: =DY8+DY11+DY22+DY59 -> 12000 | EC6: =EC8+EC11+EC22+EC59 -> 0 | ED6: =ED8+ED11+ED22+ED59 -> 300000 | EH6: =EH8+EH11+EH22+EH59 -> 10923840000 | EI6: =SUM(EI8+EI11+EI22+EI59) -> 50 | EM6: =EM8+EM11+EM22+EM59 -> 0 | EN6: =SUM(EN8+EN11+EN22+EN59) -> 210000 | ER6: =SUM(ER8+ER11+ER22+ER59) -> 11395955538 | ES6: =ES8+ES11+ES22+ES59 -> 5000 | EW6: =SUM(EW8+EW11+EW22+EW59) -> 761085000 | EX6: =EX8+EX11+EX22+EX59 -> 267 | FB6: =SUM(FB8+FB11+FB22+FB59) -> 6611265173 | FC6: =FC8+FC11+FC22+FC59 -> 404500 | FG6: =SUM(FG8+FG11+FG22+FG59) -> 1356824460 | FH6: =FH8+FH11+FH22+FH60 -> 100 | FL6: =SUM(FL8+FL11+FL22+FL59) -> 1628989222 | FM6: =FM8+FM11+FM22+FM60 -> 100 | FQ6: =SUM(FQ8+FQ11+FQ22+FQ59) -> 455144760 | FR6: =FR8+FR11+FR22+FR59 -> 91 | FU6: =SUM(FT8+FU11+FU22+FU59) -> 0 | FV6: =SUM(FV8+FV11+FV22+FV59) -> 8974651169 | FW6: =FW8+FW11+FW22+FW59 -> 20000 | FZ6: =SUM(FY8+FZ11+FZ22+FZ59) -> 0 | GA6: =SUM(GA8+GA11+GA22+GA59) -> 5544175200 | GB6: =GB8+GB11+GB22+GB59 -> 5 | GE6: - | GF6: =SUM(GF8+GF11+GF22+GF59) -> 11315000000 | GG6: =GG8+GG11+GG22+GG59 -> 4 | GJ6: =SUM(GI8+GJ11+GJ22+GJ59) -> 0 | GK6: =SUM(GK8+GK11+GK22+GK59) -> 714800000 | GL6: =GL8+GL11+GL22+GL59 -> 4 | GO6: =SUM(GN8+GO11+GO22+GO59) -> 0 | GP6: =SUM(GP8+GP11+GP22+GP59) -> 5718400000 | GQ6: =GQ8+GQ11+GQ22+GQ59 -> 1 | GT6: =SUM(GS8+GT11+GT22+GT59) -> 0 | GU6: =SUM(GU8+GU11+GU22+GU59) -> 8398900000 | GV6: =GV8+GV11+GV22+GV59 -> 500000 | GY6: =SUM(GX8+GY11+GY22+GY59) -> 0 | GZ6: =SUM(GZ8+GZ11+GZ22+GZ59) -> 0 | HA6: =HA8+HA11+HA22+HA59 -> 100000 | HD6: =SUM(HC8+HD11+HD22+HD59) -> 0 | HE6: =SUM(HE8+HE11+HE22+HE59) -> 0 | HF6: =HF8+HF11+HF22+HF59 -> 43911670 | HJ6: =HJ8+HJ11+HJ22+HJ59 -> 1041319613200 | HK6: =HK8+HK11+HK22+HK59 -> 3300000 | HO6: =HO8+HO11+HO22+HO59 -> 257216220000 | HP6: =HP8+HP11+HP22+HP59 -> 5040900 | HT6: =HT8+HT11+HT22+HT59 -> 114558291120 | HU6: =HU8+HU11+HU22+HU59 -> 10000 | HX6: =SUM(HW8+HX11+HX22+HX59) -> 0 | HY6: =SUM(HY8+HY11+HY22+HY59) -> 0
B7: Năm 2021
B8: Quý I | H8: - | I8: =SUM(I9:I10) -> 378011520000 | J8: - | K8: =SUM(K9:K10) -> 0 | L8: - | M8: =SUM(M9:M10) -> 378011520000 | N8: =SUM(N9:N10) -> 0 | R8: =SUM(R9:R10) -> 0 | S8: =SUM(S9:S10) -> 0 | W8: =SUM(W9:W10) -> 0 | X8: =SUM(X9:X10) -> 0 | AB8: =SUM(AB9:AB10) -> 0 | AC8: =SUM(AC9:AC10) -> 0 | AG8: =SUM(AG9:AG10) -> 0 | AH8: =SUM(AH9:AH10) -> 0 | AL8: =SUM(AL9:AL10) -> 0 | AM8: =SUM(AM9:AM10) -> 0 | AQ8: =SUM(AQ9:AQ10) -> 0 | AR8: =SUM(AR9:AR10) -> 0 | AV8: =SUM(AV9:AV10) -> 0 | AW8: =SUM(AW9:AW10) -> 0 | BA8: =SUM(BA9:BA10) -> 0 | BB8: =SUM(BB9:BB10) -> 0 | BF8: =SUM(BF9:BF10) -> 0 | BG8: =SUM(BG9:BG10) -> 0 | BK8: =SUM(BK9:BK10) -> 0 | BL8: =SUM(BL9:BL10) -> 0 | BP8: =SUM(BP9:BP10) -> 0 | BQ8: =SUM(BQ9:BQ10) -> 0 | BU8: =SUM(BU9:BU10) -> 0 | BV8: =SUM(BV9:BV10) -> 0 | BZ8: =SUM(BZ9:BZ10) -> 0 | CA8: =SUM(CA9:CA10) -> 0 | CE8: =SUM(CE9:CE10) -> 0 | CF8: =SUM(CF9:CF10) -> 0 | CJ8: =SUM(CJ9:CJ10) -> 0 | CK8: =SUM(CK9:CK10) -> 0 | CO8: =SUM(CO9:CO10) -> 0 | CP8: =SUM(CP9:CP10) -> 0 | CT8: =SUM(CT9:CT10) -> 0 | CU8: =SUM(CU9:CU10) -> 0 | CY8: =SUM(CY9:CY10) -> 0 | CZ8: =SUM(CZ9:CZ10) -> 0 | DD8: =SUM(DD9:DD10) -> 0 | DE8: =SUM(DE9:DE10) -> 0 | DI8: =SUM(DI9:DI10) -> 0 | DJ8: =SUM(DJ9:DJ10) -> 0 | DN8: =SUM(DN9:DN10) -> 0 | DO8: =SUM(DO9:DO10) -> 0 | DS8: =SUM(DS9:DS10) -> 0 | DT8: =SUM(DT9:DT10) -> 0 | DX8: =SUM(DX9:DX10) -> 0 | DY8: =SUM(DY9:DY10) -> 0 | EC8: =SUM(EC9:EC10) -> 0 | ED8: =SUM(ED9:ED10) -> 0 | EH8: =SUM(EH9:EH10) -> 0 | EI8: =SUM(EI9:EI10) -> 0 | EM8: =SUM(EM9:EM10) -> 0 | EN8: =SUM(EN9:EN10) -> 0 | ER8: =SUM(ER9:ER10) -> 0 | ES8: =SUM(ES9:ES10) -> 0 | EW8: =SUM(EW9:EW10) -> 0 | EX8: =SUM(EX9:EX10) -> 0 | FB8: =SUM(FB9:FB10) -> 0 | FC8: =SUM(FC9:FC10) -> 0 | FG8: =SUM(FG9:FG10) -> 0 | FH8: =SUM(FH9:FH10) -> 0 | FL8: =SUM(FL9:FL10) -> 0 | FM8: =SUM(FM9:FM10) -> 0 | FQ8: =SUM(FQ9:FQ10) -> 0 | FR8: =SUM(FR9:FR10) -> 0 | FV8: =SUM(FV9:FV10) -> 0 | FW8: =SUM(FW9:FW10) -> 0 | GA8: =SUM(GA9:GA10) -> 0 | GB8: =SUM(GB9:GB10) -> 0 | GF8: =SUM(GF9:GF10) -> 0 | GG8: =SUM(GG9:GG10) -> 0 | GK8: =SUM(GK9:GK10) -> 0 | GL8: =SUM(GL9:GL10) -> 0 | GP8: =SUM(GP9:GP10) -> 0 | GQ8: =SUM(GQ9:GQ10) -> 0 | GU8: =SUM(GU9:GU10) -> 0 | GV8: =SUM(GV9:GV18) -> 0 | GZ8: =SUM(GZ9:GZ18) -> 0 | HA8: =SUM(HA9:HA18) -> 0 | HE8: =SUM(HE9:HE18) -> 0 | HF8: =SUM(HF9:HF10) -> 4176000 | HJ8: =SUM(HJ9:HJ10) -> 380149632000 | HK8: =SUM(HK9:HK10) -> 0 | HO8: =SUM(HO9:HO10) -> 0 | HP8: =SUM(HP9:HP10) -> 0 | HT8: =SUM(HT9:HT10) -> 0 | HU8: =SUM(HU9:HU10) -> 0 | HY8: =SUM(HY9:HY10) -> 0
A9: 1 | B9: 24/3/2021 | C9: “Hỗ trợ 4.176.000 liều vắc xin COVID-19 AstraZeneca để phòng chống COVID-19” do COVAX Facility viện trợ | D9: 4.176.000 liều vắc xin COVID-19 AstraZeneca | E9: 1662/QĐ-BYT | F9: Viện VSDT TƯ | G9: Đã sử dụng hết | H9: 16,704,000 USD | I9: =16704000*22630 -> 378011520000 | J9: 0 | K9: 0 | L9: 16,704,000 USD | M9: =+I9+K9 -> 378011520000 | HF9: 4176000 | HI9: 16,704,000 USD | HJ9: 380149632000
C10: Ô MẪU TẠO Ô THÊM BÊN TRÊN ĐỂ SỔ TỔNG TỰ ĐỘNG CỘNG
B11: Quý II | H11: - | I11: =+SUM(I12:I20) -> 4.7091092e+11 | J11: - | K11: =+SUM(K12:K20) -> 13957804558 | L11: - | M11: =+SUM(M12:M20) -> 4.8486872e+11 | N11: =SUM(N12:N21) -> 0 | R11: =SUM(R12:R21) -> 0 | S11: =SUM(S12:S21) -> 0 | W11: =SUM(W12:W21) -> 0 | X11: =SUM(X12:X21) -> 0 | AB11: =SUM(AB12:AB21) -> 0 | AC11: =SUM(AC12:AC21) -> 1230250 | AG11: =SUM(AG12:AG21) -> 0 | AH11: =SUM(AH12:AH21) -> 188000 | AL11: =SUM(AL12:AL21) -> 0 | AM11: =SUM(AM12:AM21) -> 150000 | AQ11: =SUM(AQ12:AQ21) -> 0 | AR11: =SUM(AR12:AR21) -> 0 | AV11: =SUM(AV12:AV21) -> 0 | AW11: =SUM(AW12:AW21) -> 0 | BA11: =SUM(BA12:BA21) -> 0 | BB11: =SUM(BB12:BB21) -> 0 | BF11: =SUM(BF12:BF21) -> 0 | BG11: =SUM(BG12:BG21) -> 0 | BK11: =SUM(BK12:BK21) -> 0 | BL11: =SUM(BL12:BL21) -> 39938000 | BP11: =SUM(BP12:BP21) -> 1113940550 | BQ11: =SUM(BQ12:BQ21) -> 950000 | BU11: =SUM(BU12:BU21) -> 0 | BV11: =SUM(BV12:BV21) -> 143500 | BZ11: =SUM(BZ12:BZ21) -> 18106000000 | CA11: =SUM(CA12:CA21) -> 0 | CE11: =SUM(CE12:CE21) -> 0 | CF11: =SUM(CF12:CF21) -> 0 | CJ11: =SUM(CJ12:CJ21) -> 0 | CK11: =SUM(CK12:CK21) -> 0 | CO11: =SUM(CO12:CO21) -> 0 | CP11: =SUM(CP12:CP21) -> 0 | CT11: =SUM(CT12:CT21) -> 0 | CU11: =SUM(CU12:CU21) -> 0 | CY11: =SUM(CY12:CY21) -> 0 | CZ11: =SUM(CZ12:CZ21) -> 0 | DD11: =SUM(DD12:DD21) -> 0 | DE11: =SUM(DE12:DE21) -> 389375 | DI11: =SUM(DI12:DI21) -> 0 | DJ11: =SUM(DJ12:DJ21) -> 0 | DN11: =SUM(DN12:DN21) -> 0 | DO11: =SUM(DO12:DO21) -> 202176 | DS11: =SUM(DS12:DS21) -> 7.5458391e+09 | DT11: =SUM(DT12:DT21) -> 185184 | DX11: =SUM(DX12:DX21) -> 3.8772641e+09 | DY11: =SUM(DY12:DY21) -> 0 | EC11: =SUM(EC12:EC21) -> 0 | ED11: =SUM(ED12:ED21) -> 300000 | EH11: =SUM(EH12:EH21) -> 10923840000 | EI11: =SUM(EI12:EI21) -> 0 | EM11: =SUM(EM12:EM21) -> 0 | EN11: =SUM(EN12:EN21) -> 0 | ER11: =SUM(ER12:ER21) -> 0 | ES11: =SUM(ES12:ES21) -> 0 | EW11: =SUM(EW12:EW21) -> 0 | EX11: =SUM(EX12:EX21) -> 0 | FB11: =SUM(FB12:FB21) -> 0 | FC11: =SUM(FC12:FC21) -> 0 | FG11: =SUM(FG12:FG21) -> 0 | FH11: =SUM(FH12:FH21) -> 0 | FL11: =SUM(FL12:FL21) -> 0 | FM11: =SUM(FM12:FM21) -> 0 | FQ11: =SUM(FQ12:FQ21) -> 0 | FR11: =SUM(FR12:FR21) -> 0 | FV11: =SUM(FV12:FV21) -> 0 | FW11: =SUM(FW12:FW21) -> 0 | GA11: =SUM(GA12:GA21) -> 0 | GB11: =SUM(GB12:GB21) -> 0 | GF11: =SUM(GF12:GF21) -> 0 | GG11: =SUM(GG12:GG21) -> 0 | GK11: =SUM(GK12:GK21) -> 0 | GL11: =SUM(GL12:GL21) -> 0 | GP11: =SUM(GP12:GP21) -> 0 | GQ11: =SUM(GQ12:GQ21) -> 0 | GU11: =SUM(GU12:GU21) -> 0 | GV11: =SUM(GV12:GV21) -> 0 | GZ11: =SUM(GZ12:GZ21) -> 0 | HA11: =SUM(HA12:HA21) -> 0 | HE11: =SUM(HE12:HE21) -> 0 | HF11: =SUM(HF12:HF21) -> 2000000 | HJ11: =SUM(HJ12:HJ21) -> 257315911200 | HK11: =SUM(HK12:HK21) -> 500000 | HO11: =SUM(HO12:HO21) -> 114016220000 | HP11: =SUM(HP12:HP21) -> 0 | HT11: =SUM(HT12:HT21) -> 0 | HU11: =SUM(HU12:HU21) -> 0 | HY11: =SUM(HY12:HY21) -> 0
A12: 2 | B12: 22/4/2021 | C12: Tiếp nhận sinh phẩm vật tư tiêu hao cho xét nghiệm SARS-COV2 tại Việt Nam do WHO viện trợ | D12: 2106 Bộ mồi và probe gen E (TiBMoL gen E) 1.929 Bộ mồi và probe gen RdRp: (TiBMoL gen RdRp) 6.000 ống lẫy mẫu bệnh phẩm | E12: 1803/QĐ-BYT | F12: Viện VSDT TƯ | G12: Đã sử dụng hết | H12: 981,937.92 USD (sinh phẩm) 267,517,65 USD (phí v/c) | I12: =(981937.92+267517.65)*23194 -> 2.8979872e+10 | J12: 0 | K12: 0 | L12: 1,249,455.57 USD | M12: =+I12+K12 -> 2.8979872e+10 | DO12: =2106*96 -> 202176 | DP12: 1,64 USD | DR12: 331,568.64 USD | DS12: 7.5458391e+09 | DT12: =1929*96 -> 185184 | DU12: 0,92 USD | DW12: 170,369.28 USD | DX12: 3.8772641e+09 | ED12: =6000*50 -> 300000 | EE12: 1,6 USD | EG12: 480,000 USD | EH12: 10923840000
A13: 3 | B13: 22/4/2021 | C13: Tiếp nhận 500.000 bơm kim tiêm tự khóa 0,5ml để triển khai tiêm vắc xin phòng COVID-19 do UNICEF viện trợ | D13: 500.000 bơm kim tiêm tự khóa 0,5ml | E13: 1802/QĐ-BYT | F13: Viện VSDT TƯ | G13: Đã sử dụng hết | H13: 23,825 USD | I13: =23825*23194 -> 552597050 | J13: 3,025 USD | K13: =3025*23194 -> 70161850 | L13: 26,850 USD | M13: =+I13+K13 -> 622758900 | BL13: 500000 | BO13: 23,825 USD | BP13: 542209350
A14: 4 | B14: 22/4/2021 | C14: Tiếp nhận khoản viện trợ phi dự án “Hỗ trợ 4.176.000 bơm kim tiêm tự khóa 0,5ml và 41.775 hộp an toàn để triển khai tiêm vắc xin phòng chống COVID-19” do COVAX Facility viện trợ | D14: 4.176.000 bơm kim tiêm tự khóa 0,5ml và 41.775 hộp an toàn | E14: 1955/QĐ-BYT | F14: Viện VSDT TƯ | G14: Đã sử dụng hết | H14: 198,100.9 USD | I14: =198100.9*23194 -> 4.5947523e+09 | J14: 10,778 USD | K14: =10778*23194 -> 249984932 | L14: 208,878.9 USD | M14: =+I14+K14 -> 4.8447372e+09 | BL14: 4176000 | DE14: 41775
A15: 5 | B15: 25/5/2021 | C15: Tiếp nhận vật tư y tế phòng chống dịch COVID-19 do Vương Quốc Ả Rập Xê Út viện trợ | D15: Găng tay y tế: 950.000 đôi Khẩu trang phẫu thuật: 1.230.250 Khẩu trang bảo vệ: 188.000 Trang phục phẫu thuật: 150.000 | E15: 2553/QĐ-BYT | F15: BV Chợ rẫy | G15: QĐ 4358/QĐ-BYT ngày 10/9/2021 - Bệnh viện Nhiệt đới TW (100.000 găng tay y tế, 130.250 Khẩu trang phẫu thuật, 15.000 Khẩu trang bảo vệ, 20.000 Bộ trang phục phẫu thuật) -Bệnh viện Phổi TW(90.000 Găng tay y tế, 120.000 khẩu trang phẫu thuật, 33.000 Khẩu trang bảo vệ, 20.000 Bộ trang phục phẫu thuật) –Bệnh viện Bạch Mai(90.000 Găng tay YT, 120.000 KT PT, 30.000 KT Bảo vệ, 20.000 trang phục phẫu thuật) - Bệnh viện ĐH Y Hà Nội ( 250.000 Găng tay YT, 150.000 KT PT, 30.000 KT Bảo vệ, 30.000 Bộ trang phục phẫu thuật) - Bệnh viện Việt Đức (70.000 Găng tay y tế, 150.000 KT PT, 10.000 KT BV, 10.000 Trang phục PT) - Bệnh viện Nhi TW (70.000 Găng tay YT, 120.000 KT PT, 10.000 KT BV, 10.000 Bộ TT PT) - Bệnh viện Nội Tiết TW (70.000 Găng tay YT, 120.000 KT PT, 15.000 KT BV, 10.000 Trang phục PT) - Bệnh viện Lão khoa TW (70.000 Găng tay YT, 120.000 Khẩu trang PT, 15.000 KT BV, 10.000 Trang phục PT) - Bệnh viện Quân Y 103 (70.000 GTYT, 100.000 KTPT, 15.000 KTBV, 10.000 Trang phục PT) - Bệnh viện E (70.000 GTYT, 100.000 Khẩu trang PT, 15.000 Khẩu trang BV, 10.000 trang phục PT) | H15: - | L15: 500,000 USD | M15: =+I15+K15 -> 0 | AC15: 1230250 | AH15: 188000 | AM15: 150000 | BQ15: 950000
A16: 6 | B16: 05/6/2021 | C16: Tiếp nhận bơm kim tiêm tự khóa 0,5ml và hộp an toàn để triển khai tiêm vắc xin phòng COVID-19 do COVAX Facility hỗ trợ thông qua UNICEF (Điều chỉnh QĐ 2781/QĐ-BYT) | D16: 1.000.000 bơm kim tiêm tự khóa 0,5ml và 10.000 hộp an toàn | E16: 2795/QĐ-BYT | F16: Viện VSDT TƯ | G16: Đã sử dụng hết | H16: 37,808 USD | I16: =37808*23141 -> 874914928 | J16: 2,590 USD | K16: 60000000 | L16: 40,398 USD | M16: =+I16+K16 -> 934914928 | BL16: 1000000 | DE16: 10000
A17: 7 | B17: 15/6/21 | C17: Tiếp nhận 2.000.000 liều vắc xin Astra Zeneca để phòng chống dịch COVID-19 do Chính phủ Nhật Bản viện trợ. | D17: 2.000.000 liều vắc xin Astra Zeneca | E17: 219/QĐ-BYT | F17: Viện VSDT TƯ | G17: Đã sử dụng hết | H17: 11,305,620 USD | I17: =11305620*23141 -> 261623352420 | J17: 419,458 USD | K17: =419458*23141 -> 9706677578 | L17: 11,725,078 USD | M17: =+I17+K17 -> 271330029998 | HF17: 2000000 | HI17: 11,305,620 USD | HJ17: 257315911200
A18: 8 | B18: 17/6/2021 | C18: Tiếp nhận vắc xin phòng COVID-19 và bơm kim do Chính phủ Trung Quốc viện trợ không hoàn lại. | E18: 225/QĐ-BYT | F18: Viện VSDT TƯ | G18: Đã sử dụng hết | H18: 5,034,620 USD | I18: =5034620*23141 -> 116506141420 | J18: 118,056 USD | K18: =118056*23141 -> 2731933896 | L18: 5,152,676 USD | M18: =+I18+K18 -> 119238075316 | BL18: 502400 | BO18: 25,120 USD | BP18: 571731200 | HK18: 500000 | HN18: 5,009,500 USD | HO18: 114016220000
A19: 9 | B19: 19/6/2021 | C19: Tiếp nhận 143.500 chai cồn sát khuẩn tay để phòng chống COVID-19 do Công ty TNHH SARAYA, Nhật Bản viện trợ không hoàn lại. | D19: 143.500 chai cồn sát khuẩn tay | E19: 3001/QĐ-BYT | F19: BV Phổi TW BV Chợ rẫy | G19: 4360/QĐ-BYT ngày 10/9/2021 -BV Chợ rẫy 12,250 - TT HSTC NB COVID-19 BV TW Huế tại TPHCM 6.000 - TT HSTC NB COVID-19 BV ĐH Y HN tại Bình Dường 6.000 - TT HSTC NB COVID-19 BV Nhi TW.tại Vĩnh Long 4.500 - BV Tâm thần TW 2 6.000 3770/QĐ-BYT ngày 08/8/2021 -BV Chợ Rẫy: 13.750 chai - TT HSTC NB COVID-19 BV Bạch Mai tại TPHCM: 8000 - TT HSTC NB COVID-19 BV TW Huế tại TPHCM: 8000 - TT HSTC NB COVID-19 BV Hữu Nghị Việt Đức tại TPHCM: 8000 - TT HSTC NB COVID-19 BV Phổi TW tại Đồng Nai: 8000 - TT HSTC NB COVID-19 BV Đại học Y Hà Nội tại Bình Dương: 8000 - TT HSTC NB COVID-19 BV TW Thái Nguyên tại Long An: 4000 - TT HSTC NB COVID-19 BV Nhi TW tại Vĩnh Long: 5000 - TT HSTC NB COVID-19 BV ĐH Y dược TPHCM : 5000 - TT HSTC NB COVID-19 BV đa khoa TW Cần Thơ: 4000 | H19: 85,813,000 Yên Nhật | I19: =85813000*209 -> 17934917000 | J19: 0 | L19: 85,813,000 Yên Nhật | M19: =+I19+K19 -> 17934917000 | BV19: 143500 | BZ19: 18106000000
A20: 10 | B20: 24/6/2021 | C20: Tiếp nhận bơm kim tiêm tự khóa 0,5ml và hộp an toàn để triển khai tiêm vắc xin phòng COVID-19 do COVAX Facility hỗ trợ thông qua UNICEF | D20: 33.759.600 chiếc bơm kim tiêm tự khóa 0,5 ml và 337.600 hộp an toàn | E20: 3059/QĐ-BYT | F20: Viện VSDT TƯ | G20: Đã sử dụng hết | H20: 1,721,808.46 USD | I20: =1721808.46*23141 -> 3.984437e+10 | J20: 49,222 USD | K20: =49222*23141 -> 1139046302 | L20: 1,771,030.46 USD | M20: =+I20+K20 -> 4.0983416e+10 | BL20: 33759600 | DE20: 337600
C21: Ô MẪU TẠO Ô THÊM BÊN TRÊN ĐỂ SỔ TỔNG TỰ ĐỘNG CỘNG
B22: Quý III | H22: - | I22: =SUM(I23:I57) -> 1.219848e+12 | J22: - | K22: =SUM(K23:K57) -> 55059850589 | L22: - | M22: =SUM(M23:M57) -> 1.2749078e+12 | N22: =SUM(N23:N58) -> 1254695 | R22: =SUM(R23:R58) -> 101609927109 | S22: =SUM(S23:S58) -> 270000 | W22: =SUM(W23:W58) -> 47928348000 | X22: =SUM(X23:X58) -> 894200 | AB22: =SUM(AB23:AB58) -> 49944874259 | AC22: =SUM(AC23:AC58) -> 357200 | AG22: =SUM(AG23:AG58) -> 7.7893497e+09 | AH22: =SUM(AH23:AJ58) -> 93272.55 | AL22: =SUM(AL23:AL58) -> 261811800 | AM22: =SUM(AM23:AM58) -> 133660 | AQ22: =SUM(AQ23:AQ58) -> 56306633954 | AR22: =SUM(AR23:AR58) -> 146 | AV22: =SUM(AV23:AV58) -> 121607257764 | AW22: =SUM(AW23:AW58) -> 50 | BA22: =SUM(BA23:BA58) -> 4759401550 | BB22: =SUM(BB23:BB58) -> 750 | BF22: =SUM(BF23:BF58) -> 7.9962889e+09 | BG22: =SUM(BG23:BG58) -> 0 | BK22: =SUM(BK23:BK58) -> 0 | BL22: =SUM(BL23:BL58) -> 9000000 | BP22: =SUM(BP23:BP58) -> 0 | BQ22: =SUM(BQ23:BQ58) -> 0 | BU22: =SUM(BU23:BU58) -> 0 | BV22: =SUM(BV23:BV58) -> 111400 | BZ22: =SUM(BZ23:BZ58) -> 1.1438466e+09 | CA22: =SUM(CA23:CA58) -> 1600 | CE22: =SUM(CE23:CE58) -> 20482200000 | CF22: =SUM(CF23:CF58) -> 2210 | CJ22: =SUM(CJ23:CJ58) -> 75620408000 | CK22: =SUM(CK23:CK58) -> 0 | CO22: =SUM(CO23:CO58) -> 0 | CP22: =SUM(CP23:CP58) -> 85 | CT22: =SUM(CT23:CT58) -> 2.8211906e+10 | CU22: =SUM(CU23:CU58) -> 0 | CY22: =SUM(CY23:CY58) -> 0 | CZ22: =SUM(CZ23:CZ58) -> 0 | DD22: =SUM(DD23:DD58) -> 0 | DE22: =SUM(DE23:DE58) -> 518000 | DI22: =SUM(DI23:DI58) -> 0 | DJ22: =SUM(DJ23:DJ58) -> 200 | DN22: =SUM(DN23:DN58) -> 0 | DO22: =SUM(DO23:DO58) -> 0 | DS22: =SUM(DS23:DS58) -> 0 | DT22: =SUM(DT23:DT58) -> 0 | DX22: =SUM(DX23:DX58) -> 0 | DY22: =SUM(DY23:DY58) -> 12000 | EC22: =SUM(EC23:EC58) -> 0 | ED22: =SUM(ED23:ED58) -> 0 | EH22: =SUM(EH23:EH58) -> 0 | EI22: =SUM(EI23:EI58) -> 50 | EM22: =SUM(EM23:EM58) -> 0 | EN22: =SUM(EN23:EN58) -> 210000 | ER22: =SUM(ER23:ER58) -> 11395955538 | ES22: =SUM(ES23:ES58) -> 5000 | EW22: =SUM(EW23:EW58) -> 761085000 | EX22: =SUM(EX23:EX58) -> 267 | FB22: =SUM(FB23:FB58) -> 6611265173 | FC22: =SUM(FC23:FC58) -> 404500 | FG22: =SUM(FG23:FG59) -> 1356824460 | FH22: =SUM(FH23:FH58) -> 100 | FL22: =SUM(FL23:FL58) -> 1628989222 | FM22: =SUM(FM23:FM58) -> 100 | FQ22: =SUM(FQ23:FQ58) -> 455144760 | FR22: =SUM(FR23:FR58) -> 0 | FV22: =SUM(FV23:FV58) -> 0 | FW22: =SUM(FW23:FW58) -> 0 | GA22: =SUM(GA23:GA58) -> 0 | GB22: =SUM(GB23:GB58) -> 5 | GF22: =SUM(GF23:GF58) -> 11315000000 | GG22: =SUM(GG23:GG58) -> 0 | GK22: =SUM(GK23:GK58) -> 0 | GL22: =SUM(GL23:GL58) -> 0 | GP22: =SUM(GP23:GP58) -> 0 | GQ22: =SUM(GQ23:GQ58) -> 0 | GU22: =SUM(GU23:GU58) -> 0 | GV22: =SUM(GV23:GV36) -> 0 | GZ22: =SUM(GZ23:GZ36) -> 0 | HA22: =SUM(HA23:HA36) -> 0 | HE22: =SUM(HE23:HE36) -> 0 | HF22: =SUM(HF23:HF58) -> 35647970 | HJ22: =SUM(HJ23:HJ58) -> 403854070000 | HK22: =SUM(HK23:HK58) -> 2000000 | HO22: =SUM(HO23:HO58) -> 0 | HP22: =SUM(HP23:HP58) -> 5040900 | HT22: =SUM(HT23:HT58) -> 114558291120 | HU22: =SUM(HU23:HU58) -> 10000 | HY22: =SUM(HY23:HY58) -> 0
A23: 11 | B23: 08/7/2021 | C23: Tiếp nhận “Hỗ trợ 2.000.040 liều vắc xin Moderna để phòng chống dịch COVID-19” do Chính phủ Hoa Kỳ viện trợ thông qua Cơ chế COVAX Facility. | D23: 2.000.040 liều vắc xin Moderna | E23: 3349/QĐ-BYT | F23: Viện VSDT TƯ | G23: Đã sử dụng hết | H23: 2,000,040 USD | I23: =2000040*23141 -> 46282925640 | J23: 21,175 USD | K23: 490000000 | L23: 2,021,215 USD | M23: =+I23+K23 -> 46772925640 | HP23: 2000040 | HS23: 2,000,040 USD | HT23: 46282925640
A24: 12 | B24: 08/7/2021 | C24: Viện trợ khẩn cấp trang thiết bị và vật tư y tế phòng COVID-19 do Chính phủ Cộng hoà Ba Lan viện trợ | E24: 452/QĐ-BYT | F24: Bệnh viện Thống Nhất | G24: Đã phân bổ | H24: 14,033,754 PLN | I24: =14033754*6096 -> 85549764384 | J24: 0 | L24: 14,033,754 PLN | M24: =+I24+K24 -> 85549764384 | X24: 5000 | AA24: 26,150,000 PLN | AB24: 156094057 | AM24: 5000 | AP24: 75,650 PLN | AQ24: 451568467 | AR24: 70 | AU24: 11,407,366.50 PLN | AV24: 68092623964 | EI24: 50 | EL24: 707,715.80 PLN | EM24: 4,224,482,999 | EN24: 10000 | EQ24: 209,100 PLN | ER24: 1248155538 | EX24: 267 | FA24: 1,107,566.73PLN | FB24: 6611265173 | FC24: 400000 | FF24: 227,305 PLN | FG24: 1356824460 | FH24: 100 | FK24: 272,900 PLN | FL24: 1628989222
A25: 13 | B25: 08/7/2021 | C25: Tiếp nhận vắc xin Astra Zeneca để phòng chống dịch COVID-19 do Chính phủ Nhật Bản viện trợ. | E25: 276/QĐ-BYT | F25: Viện VSDT TƯ | G25: Đã sử dụng hết | H25: 17,451,885 USD | I25: =17451885*23141 -> 403854070785 | J25: 549,120 USD | K25: =549120*23141 -> 12707185920 | L25: 18,001,005 USD | M25: =+I25+K25 -> 416561256705 | HF25: 3087190 | HI25: 17,451,885 USD | HJ25: 403854070000
A26: 14 | B26: 09/7/2021 | C26: Tiếp nhận và phân bổ 160.150 test xét nghiệm kháng nguyênCovid-19 do Chính quyền một số bang của CHLB Đức thông qua Tổ chức Hỗ trợ đại học (WUS) viện trợ. | D26: 160.150 test xét nghiệm kháng nguyênCovid-19 | E26: 3374/QĐ-BYT | F26: Viện VSDT TƯ | G26: 3374/QĐ-BYT -SYT Bình Dương 20.000 - SYT Quảng Ngãi 15.000 - SYT Phú Yên 15.000 - SYT Đồng Nai 15.000 - SYT Long An 15.000 - SYT Đồng Tháp 15.000 - SYT HƯng Yên 15.000 - SYT Vĩnh Long 14.000 - SYT Kiên Giang 12.000 - SYT Đắk Lắk 10.000 -SYT Đắk Nông 10.000 - Viện Vệ sinh Dịch tễ TW 4.150 | H26: 500,000 Euro | I26: =500000*27540 -> 13770000000 | J26: 0 | K26: 0 | L26: 500,000 Euro | M26: =+I26+K26 -> 13770000000 | N26: 160150 | O26: Gồm nhiều loại test | Q26: 549,774 EUR | R26: 14120585104
A27: 15 | B27: 09/7/2021 | C27: Tiếp nhận hàng viện trợ của các doanh nghiệp Lào cho hoạt động phòng, chống dịch COVID-19 (Thực hiện CV 5223/BYT-KH-TC) | D27: 50.000 Khẩu trang y tế/Khẩu trang bảo hộ 25.000 Trang phục bảo hộ 25.000 chai cồn sát khuẩn 200 giường bệnh | E27: 4338/UBND-VX1 | F27: Tỉnh Hà Tĩnh | G27: Đã phân bổ | M27: =+I27+K27 -> 0 | AH27: 50000 | AM27: 25000 | BV27: 25000 | DJ27: 200
B28: 19/7/2021 | C28: Phê duyệt văn kiện dự án, Kế hoạch tổng thể, Kế hoạch thực hiện, năm 2021 dự án:"Hỗ trợ triển khai tiêm chủng vắc xin phòng COVID-19 tại Việt Nam năm 2021-2023" do UNICEF viện trợ không hoàn lại | D28: 5.000.000 bơm kim tiêm 500.000 hộp an toàn 2.210 tủ lạnh 5 xe ô tô tải lạnh Mítubushi | E28: 3512/QĐ-BYT | F28: Viện VSDTTW | G28: - QĐ 1208/QĐ-VSDTTƯ ngày 04/10/2021 phân bổ 1,910 tủ lạnh chuyên dụng bảo quản vắc xin kèm ổn áp và 191 bộ phụ tùng tủ HBC-80 do UNICEF viện trợ cho các 04 BViện VSDT và 36 TTKSBT tỉnh/tp - QĐ 1209/QĐ-VSDTTƯ ngày 04/10/2021 phân bổ 300 tủ lạnh chuyên dụng bảo quản vắc xin TCW80AC và 30 bộ phụ tùng tủ TCW80AC do UNICEF viện trợ cho 63 TTKSBT tỉnh/tp và 04 Viện VSDT - CV 2130/VSDTTƯ-TCQG ngày 14/10/2021 phân bổ 300 tủ lạnh TCW80AC cho các TT Kiểm soát bệnh tật tịnh/tp và các TTYT huyện/tp | H28: 10.000.000 USD | I28: =10000000*23141 -> 231410000000 | J28: 337.527 USD | K28: =337527*23141 -> 7810712307 | L28: 10.337.527 USD | M28: =+I28+K28 -> 239220712307 | BL28: 5000000 | BO28: 350.000 USD | CF28: 2210 | CI28: 3.341.600 USD | CJ28: =3341600*22630 -> 75620408000 | DE28: 500000 | GB28: 5 | GE28: 500.000 USD | GF28: =500000*22630 -> 11315000000 | HZ28: Hậu
A29: 16 | B29: 21/7/2021 | C29: Tiếp nhận “Hỗ trợ 3.000.060 liều vắc xin Moderna để phòng chống dịch COVID-19” do Chính phủ Hoa Kỳ viện trợ thông qua Cơ chế COVAX Facility. | D29: 3.000.060 liều vắc xin Moderna | E29: 3541/QĐ-BYT | F29: Viện VSDT TƯ | G29: Đã sử dụng hết | H29: 3,000,060 USD | I29: =3000060*23141 -> 69424388460 | J29: 19,878 USD | K29: =19878*23141 -> 459996798 | L29: 3,019,938 USD | M29: =+I29+K29 -> 69884385258 | HP29: 3000060 | HS29: 3,000,060 USD | HT29: 68275365480
A30: 17 | B30: 30/7/2021 | C30: Tiếp nhận vắc xin Sputnik V phòng COVID-19 do Tập đoàn NOVATEK Liên bang Nga viện trợ. | D30: 10.000 liều vắc xin Spunik V | E30: 339/QĐ-BYT | F30: Viện VSDT TƯ | G30: Đã sử dụng hết | M30: =+I30+K30 -> 0 | HU30: 10000
A31: 18 | B31: 30/7/2021 | C31: Tiếp nhận khoản viện trợ 10 máy thở oxy dòng cao để phục vụ công tác phòng, chống dịch COVID-19 do Công ty Fisher and Paykel Healthcare New Zealand viện trợ. | D31: 10 máy thở oxy dòng cao | E31: 3742/QĐ-BYT | F31: Bệnh viện Chợ Rẫy Bệnh viện Bệnh Nhiệt đới Trung ương Bệnh viện Bệnh Nhiệt đới Trung ương Hồ Chí Minh | G31: 3742/QĐ-BYT ngày 4 tháng 8 năm 2021 - Bệnh viện Chợ Rẫy: 04 cái - Bệnh viện Bệnh Nhiệt đới Trung ương: 03 cái - Bệnh viện Bệnh Nhiệt đới Thành phố Hồ Chí Minh: 03 cái | M31: =+I31+K31 -> 0 | AR31: 10 | AV31: 1200000000
A32: 19 | B32: 05/8/2021 | C32: Tiếp nhận vắc xin Astra Zeneca để phòng chống dịch COVID-19 do Chính phủ Rumani viện trọ. | D32: 300.000 liều AZ | E32: 348/QĐ-BYT | F32: Viện VSDT TƯ | G32: Đã sử dụng hết | J32: 6,013 USD | K32: =6013*23198 -> 139489574 | M32: =+I32+K32 -> 139489574 | HF32: 300000
A33: 20 | B33: 05/8/2021 | C33: Tiếp nhận bơm kim tiêm và hộp an toàn để triển khai tiêm vắc xin phòng COVID-19 do KOICA, Hàn Quốc viện trợ (Viện trợ bằng tiền là 2,5 triệu USD để mua BKT, do nhà tài trợ thực hiện mua sắm, ước tính khoảng 30 triệu BKT) | E33: 3735/QĐ-BYT | F33: Viện VSDT TƯ | G33: Đã phân bổ theo từng đợt gửi hàng của Nhà tài trợ | H33: 2,900,000 USD | I33: =2900000*23198 -> 67274200000 | J33: 73,205 USD | K33: =73205*23198 -> 1698209590 | L33: 2,973,205 USD | M33: =+I33+K33 -> 68972409590
A34: 21 | B34: 08/8/2021 | C34: Viện trợ khẩn cấp trang thiết bị và vật tư y tế của Chính phủ Thụy Sỹ | D34: 30 Máy thở 500.000 Kít xét nghiệm kháng nguyên 300.000 Khẩu trang | E34: 3765/QĐ-BYT | F34: BV Chợ rẫy | G34: QĐ 4309/QĐ-BYT ngày 7/9/2021 - SYT Đồng Tháp 20.000 chiếc khẩu trang QĐ 4316/QĐ-BYT ngày 8/9/2021 -SYT TP.HCM 320.000 test -TT Nhiệt đới Việt Nga 10.000 test -BV Thống Nhất 29.200 test - BV Chợ Rẫy 20.000 test - BV ĐK TW Cần Thơ 20.000 test - BV Tâm thần TW 2 10.000 test - SYT Kiên Giang 32.000 test, 15.000 Khẩu trang FFP2 - SYT Sóc Trăng 20.000 test, 10.000 Khẩu trang FFP2 - SYT Bình Dương 30.000 test, 15.000 Khẩu trang FFP2 - Viện Pháp y tâm thần TW Biên Hoà 8.00 test QĐ 3998/QĐ-BYT ngày 18/8/2021 - 10 máy thở: TT HSTC người bệnh COVID-19 thuộc BV TƯ Huế - 10 máy thở: TT HSTC người bệnh COVID-19 thuộc BV Việt Đức - 10 máy thở: TT HSTC người bệnh COVID-19 thuộc BV TƯ Thái Nguyên | H34: 4,950,328 CHF | I34: 126193761376 | J34: 0 | L34: 4,950,328 CHF | M34: =+I34+K34 -> 126193761376 | N34: 500000 | O34: 4.5 CHF | Q34: 2.250.000 CHF | R34: 57357000000 | X34: 300000 | Y34: 2.5 CHF | AA34: 750,000 CHF | AB34: 19119000000 | AR34: 30 | AS34: 55,000 CHF | AU34: 1,650,000 CHF | AV34: 42061800000
A35: 22 | B35: 17/08/2021 | C35: Tiếp nhận vắc xin AstraZeneca để phòng COVID-19 do Chính phủ Cộng hoà Ba Lan viện trợ. | D35: 501.600 liều vắc xin AZ | E35: 375/QĐ-BYT | F35: Viện VSDT TƯ | G35: Đã sử dụng hết | J35: 6,578 USD | K35: =6578*23198 -> 152596444 | M35: =+I35+K35 -> 152596444 | HF35: 501600
A36: 23 | B36: 17/8/2021 | C36: Tiếp nhận test xét nghiệm nhanh kháng nguyên Covid-19 Ag do Tổ chức Golden Forest Equity Partners, Hàn Quốc viện trợ. | D36: 100.000 Test xét nghiệm nhanh kháng nguyên | E36: 3971/QĐ-BYT | F36: Viện VSDT TƯ | G36: 4219/QĐ-BYT ngày 1/9/2021 -Văn phòng Quốc hội 10.000 test - Uỷ ban dân tộc 7.000 test - Bệnh viện K 20.000 test- SYT Khánh Hoà 20.000 test - SYT Thái Bình 20.000 test - SYT Hậu Giang 20.000 test - Viện VSDT TƯ 3.000 test | H36: 4,000 USD | I36: =4000*23198 -> 92792000 | J36: 0 | L36: 4,000 USD | M36: =+I36+K36 -> 92792000 | N36: 100000 | Q36: 4,000 USD | R36: 91032000
A37: 24 | B37: 19/8/2021 | C37: Tiếp nhận và phân bổ 206,105 khay thử nghiệm kháng nguyên SARS-CoV-2 do Chính quyền một số bang của CHLB Đức thông qua Tổ chức Hỗ trợ đại học (WUS) viện trợ | D37: 206,105 khay thử nghiệm kháng nguyên SARS-CoV-2 | E37: 4015/QĐ-BYT | F37: Viện Pasteur Thành phố Hồ Chí Minh | G37: 4015/QĐ-BYT - SYT Bình Dương 60.000 bộ - SYT TP.HCM 95.000 bộ - SYT Tiền Giang 35.000 bộ - Viện Pasteur TPHCM 16.105 bộ | H37: 549,774 Euro | I37: =549774*27617 -> 15183108558 | J37: 0 | L37: 549,774 Euro | M37: =+I37+K37 -> 15183108558 | N37: 206105 | O37: Gồm nhiều loại test | Q37: 549,774 EUR | R37: 15140773565
A38: 25 | B38: 21/8/2021 | C38: Tiếp nhận viện trợ phi dự án vắc xin AstraZeneca và vật tư tiêm chủng do Chính phủ Ô-xtrây-lia viện trợ không hoàn lại | D38: 1.503.000 liều vắc xin AstraZeneca, 1,8 triệu chiếc bơm kim tiêm tự khóa 0,5ml và 18.000 hộp an toàn | E38: 4044/QĐ-BYT | F38: Viện VSDT TƯ | G38: Đã sử dụng hết 703,000 liều, còn lại 800,000 mới về ngày 30/10/2021 đang chờ kiểm định | J38: 14,548 USD | K38: =14548*23198 -> 337484504 | M38: =+I38+K38 -> 337484504 | BL38: 1800000 | DE38: 18000 | HF38: 1503000
A39: 26 | B39: 23/8/2021 | C39: Tiếp nhận “77 tủ bảo quản vắcxin phòng COVID-19 ở nhiệt độ âm sâu” do Chính phủ Hoa Kỳ viện trợ không hoàn lại | D39: 77 tủ bảo quản vắcxin phòng COVID-19 | E39: 4057/QĐ-BYT | F39: Viện VSDT TƯ | G39: Đã phân bổ | H39: 1,100,000 USD | I39: =1100000*23198 -> 25517800000 | J39: 51,895 USD | K39: =51895*23198 -> 1203860210 | L39: 1,151,895 USD | M39: =+I39+K39 -> 26721660210 | CP39: 77 | CS39: 1,100,000 USD | CT39: 25455100000
A40: 27 | B40: 24/8/2021 | C40: Tiếp nhận “8 tủ bảo quản vắc xin phòng COVID-19 ở nhiệt độ âm sâu” của UNICEF | D40: 8 tủ bảo quản vắc xin phòng COVID-19 | E40: 4066/QĐ-BYT | F40: Viện VSDT TƯ | G40: Đã phân bổ | H40: 118,838.08 USD | I40: =118838.08*23198 -> 2.7568058e+09 | J40: 12,932 USD | K40: =12932*23198 -> 299996536 | L40: 131,770.22 USD | M40: =+I40+K40 -> 3.0568023e+09 | CP40: 8 | CS40: 118838.08 | CT40: 2.7568058e+09
A41: 28 | B41: 24//8/2021 | C41: Tiếp nhận Hỗ trợ vắc xin để triển khai chiến dịch tiêm vắc xin phòng COVID-19 do COVAX Facility viện trợ | D41: 29.759.500 liều vắc xin AZ | E41: 4072/QĐ-BYT | F41: Viện VSDT TƯ | G41: Đã phân bổ theo từng đợt gửi vắc xin của Nhà tài trợ | J41: 128,595 USD | K41: =128595*23198 -> 2983146810 | M41: =+I41+K41 -> 2983146810 | HF41: 29759500
A42: 29 | B42: 26/8/2021 | C42: Tiếp nhận vắc xin AstraZeneca và Moderna để phòng chống dịch COVID-19” do Chính phủ Cộng hoà Séc viện trợ không hoàn lại; | D42: 210.000 liều vắc xin AZ và 40.800 liều vắc xin Moderna | E42: 4118/QĐ-BYT | F42: Viện VSDT TƯ | G42: Đã sử dụng hết | H42: 1,293,900 USD | I42: =1293900*23198 -> 30015892200 | J42: 5,873 USD | K42: =5873*23198 -> 136241854 | L42: 1,299,773 USD | M42: =+I42+K42 -> 30152134054 | HF42: 210000 | HP42: 40800
A43: 30 | B43: 26/8/2021 | C43: Tiếp nhận 250 máy tạo oxy, 12.000 khẩu trang N95 và 9.000 test kit phòng chống dịch COVID-19 do cộng đồng người Việt Nam tại Hoa Kỳ tài trợ | D43: 250 máy tạo oxy, 12.000 khẩu trang N95 và 9.000 test kit phòng chống dịch COVID-19 | E43: 4102/QĐ-BYT | F43: BV Phổi TƯ | G43: QĐ 4602/QĐ-BYT ngày 29/9/2021 - BV Phổi TW 8.120 test - Viện VSDTTW 200 test - BV Phổi TW 5.950 chiếc khẩu trang N95 -SYT Hà Nam: 6.000 chiếc khẩu trang -Viện Trang thiết bị và công trình y tế: 50 chiếc khẩu trang | M43: =+I43+K43 -> 0 | N43: 9000 | X43: 12000 | BB43: 250
A44: 31 | B44: 27/8/2021 | C44: Phê duyệt cho Bệnh viện Chợ Rẫy được tiếp nhận hàng viện trợ doCông ty TNHH Ziaja (Ba Lan) viện trợ. | D44: 12.000 Kem dưỡng ẩm | E44: 4138/QĐ-BYT | F44: BV Chợ rẫy | G44: Đã phân bổ | H44: 19,560 USD | I44: =19560*23198 -> 453752880 | J44: 0 | L44: 19,560 Euro | M44: =+I44+K44 -> 453752880 | DY44: 12000
A45: 32 | B45: 28/8/2021 | C45: Tiếp nhận viện trợ 300 máy tạo ô-xy và 100 tấn ô-xy y tế dạng lỏng do Ấn Độ tài trợ để phòng chống dịch COVID-19 | D45: 300 máy tạo ô-xy và 100 tấn ô-xy y tế dạng lỏng | E45: 4151/QĐ-BYT QĐ 4627/QĐ-BYT | F45: BV Chợ rẫy | G45: QĐ 4192/QĐ-BYT ngày 31/8/2021 - SYT Đồng Tháp 200 máy - Hội Thầy thuốc trẻ Việt Nam 100 máy QĐ 4627QĐ-BYT ngày 1/10/2021 -BV Chợ Rẫy 45 tấn Oxy -SYT TP.HCM 35 tấn Oxy -BV Quân Y 175 7.8 tấn Oxy | H45: 246,594.4 USD | I45: =246594.4*23198 -> 5.7204969e+09 | J45: 0 | L45: 246,594.4 USD | M45: =+I45+K45 -> 5.7204969e+09 | BB45: 300 | BC45: 756.578 USD | BF45: 5.2653289e+09 | FM45: 100 | FN45: 196.2 USD | FQ45: 455144760
A46: 33 | B46: 03/9/2021 | C46: Tiếp nhận 179.440 khay thử xét nghiệm kháng nguyên SARS-CoV-2 (lô thứ 3) do Chính quyền một số bang của CHLB Đức thông qua Tổ chức Hỗ trợ đại học (WUS) viện trợ | D46: 179.440 khay thử xét nghiệm kháng nguyên SARS-CoV-2 | E46: 4236/QĐ-BYT | F46: Viện Pasteur Nha Trang | G46: Đang kiểm định | H46: 538,320 Euro | I46: 14866783440 | J46: 0 | L46: 538,320 Euro | M46: =+I46+K46 -> 14866783440 | N46: 179440 | O46: Gồm nhiều loại test | Q46: 538,320 EUR | R46: 14886783440 | EB46: =DZ46*DY46 -> 0 | EC46: =EA46*DY46 -> 0
A47: 34 | B47: 03/9/2021 | C47: Phê duyệt tiếp nhận máy tạo oxy do Đài Loan viện trợ phục vụ công tác phòng chống dịch COVID-19 | D47: 200 máy tạo oxy | E47: 314/QĐ-BYT | F47: BV Phổi TƯ | G47: QĐ 4249/QĐ-BYT ngày 4/9/2021 - BVP Phạm Hữu Chí 3 cái - TTKSBT Bình Dương 15 cái - TTKSBT Bình Phước 5 cái - BVP Bình Thuận 5 cái - BVL&BP Ninh Thuận 10 cái - BVL&BP Tây Ninh 3 cái -BV Phạm Ngọc Thạch TPHCM 84 cái - TTKSBT An Giang 5 cái - TTKSBT Bến Tre 10 cái - BVL&BP Cần Thơ 5 cái - BV Mắt-Da liễu Cà Mau 5 cái - BVP Hậu Giang 5 cái - BVL&BP Kiên Giang 5 cái - BV 30/4 Sóc Trăng 10 cái - BVP Vĩnh Long 5 cái - BVP Đồng Tháp 20 cái - BVP Long An 5 cái | M47: =+I47+K47 -> 0 | BB47: 200 | BC47: 600 USD | BE47: 120,000 USD | BF47: 2730960000
A48: 35 | B48: 03/9/2021 | C48: Tiếp nhận vắc xin Astra Zeneca để phòng COVID-19 do Chính phủ Nhật Bản viện trợ | D48: 86.680 liều vắc xin AZ | E48: 435/QĐ-BYT | F48: Viện VSDT TƯ | G48: Đã sử dụng hết | J48: 1,293 USD | K48: =23161*1293 -> 29947173 | M48: =+I48+K48 -> 29947173 | HF48: 86680
A49: 36 | B49: 09/9/2021 | C49: Tiếp nhận vắc xin Astra Zeneca và test nhanh kháng nguyên SARS_CoV-2 để phòng, chống dịch COVID-19 do Hung-ga-ry viện trợ để phòng, chống dịch COVID-19 tại Việt Nam. | D49: 100.000 Test nhanh Kháng nguyên 100.000 liều vắc xin AZ | E49: 447/QĐ-BYT | F49: Viện VSDT TW | G49: QĐ 4914/QĐ-BYT ngày 23/10/2021 - SYT tỉnh Nam Định: 98.000 test nhanh kháng nguyên - Viện VSDTTƯ: 2.000 test | H49: 592,861 USD | I49: =592861*23161 -> 13731253621 | J49: 3,018 USD | K49: =3018*23161 -> 69899898 | L49: 595,879 USD | M49: =+I49+K49 -> 13801153519 | N49: 100000 | R49: 13753000 | HF49: 100000
A50: 37 | B50: 09/9/2021 | C50: Tiếp nhận vắc xin AstraZeneca để phòng chống dịch COVID-19 do Chính phủ Vương quốc Bỉ viện trợ. | D50: 100.000 liều vắc xin AZ | E50: 445/QĐ-BYT | F50: Viện VSDT TW | G50: Đã sử dụng hết | J50: 1,295 USD | K50: =1295*23161 -> 29993495 | M50: =+I50+K50 -> 29993495 | HF50: 100000
A51: 38 | B51: 09/9/2021 | C51: Tiếp nhận khoản viện trợ phi dự án do Tổ chức Sáng kiến Tiếp cận y tế Clinton (CHAI) tài trợ để phòng chống dịch COVID-19 | D51: 270.000 Test dùng cho máy PCR | E51: 4343/QĐ-BYT | F51: Viện Pasteur Thành phố Hồ Chí Minh | G51: 4465/QĐ-BYT ngày 16/9/2021 và 4636/QĐ-BYT ngày 01/10/2021: - Viện Pasteur TP.HCM 84.000 test - SYT An Giang: 40.000 test - SYT Thanh Hoá: 10.000 test -BV ĐH Y Dược TP.HCM: 40.000 test - BV Thống Nhất: 20.000 test - BV TW Thái Nguyên: 2.000 test -SYT Bình Dương: 29.000 test -Viện VSDT Tây Nguyên: 45.000 test | H51: 2,106,000 USD | I51: =2106000*23161 -> 48777066000 | J51: 0 | L51: 2,106,000 USD | M51: =+I51+K51 -> 48777066000 | S51: 270000 | T51: 7,800 USD | V51: 2,106,000 USD | W51: 47928348000
A52: 39 | B52: 09/9/2021 | C52: "Tiếp nhận vắc xin phòng COVID-19 và bơm kim tiêm" do Chính phủ Trung Quốc viện trợ không hoàn lại | D52: 2.000.000 lieu vắc xin SARS-CoV-2 (Vero Cell), Inactivated; 2.200.000 chiếc bơm kim tiêm, | E52: 4362/QĐ-BYT | F52: Viện VSDT TW | G52: Đã sử dụng hết | J52: 240,326 USD | K52: =240326*23161 -> 5566190486 | M52: =+I52+K52 -> 5566190486 | BL52: 2200000 | HK52: 2000000
A53: 40 | B53: 13/9/2021 | C53: Tiếp nhận, phân bổ trang thiết bị vật tư y tế để phòng, chống COVID-19 do WHO viện trợ. | D53: 70.000 chiếc khẩu trang FFPs 36.000 chiếc khẩu trang phẫu thuật 50 máy tạo oxy dòng cao HFNC 20 máy thở 3.660 trang phục bảo hộ y tế | E53: 4398/QĐ-BYT | F53: Bệnh viện Chợ Rẫy | G53: 4398/QĐ-BYT | M53: =+I53+K53 -> 0 | X53: 70000 | Y53: 1,805 USD | Z53: 41805.61 | AB53: =X53*Z53 -> 2926392700 | AH53: 36000 | AI53: 0,314 USD | AJ53: 7272.55 | AL53: =AH53*AJ53 -> 261811800 | AM53: 3660 | AN53: 20,45 USD | AO53: 473624.45 | AQ53: =AM53*AO53 -> 1733465487 | AR53: 20 | AS53: 4455 USD | AT53: 103347090 | AV53: =AR53*AT53 -> 2066941800 | AW53: 50 | BA53: 4759401550
A54: 41 | B54: 16/9/2021 | C54: Tiếp nhận trang thiết bị y tế và phân bổ 16 máy thở để phòng, chống dịch COVID-19 do Quỹ Temasek, Singapore viện trợ | D54: 4.500 đôi găng tay y tế Khẩu trang FFP2 200.000 chiếc Khẩu trang KN95 50.000 chiếc Kính chắn chống giọt bắn 200.000 chiếc Bộ trang phục bảo hộ, tiệt trùng - Yadu 100.000 chiếc Kính bảo vệ mắt 5.000 chiếc | E54: 4447/QĐ-BYT | F54: BV Đại học Y Hà Nội | G54: Đã phân bổ cho BV ĐHYHN | M54: =+I54+K54 -> 0 | X54: 200000 | AA54: 940.000 SGD | AB54: 15898220000 | AC54: 50000 | AF54: 175000 SGD | AG54: 2959775000 | AM54: 100000 | AP54: 3.200.000 SGD | AQ54: 54121600000 | AR54: 16 | AU54: 484.000 SGD | AV54: 8185892000 | EN54: 200000 | EQ54: 600000 SGD | ER54: 10147800000 | ES54: 5000 | EV54: 45.000 SGD | EW54: 761085000 | FC54: 4500 | FF54: 2.700 SGD
A55: 40 | B55: 21/9/2021 | C55: Tiếp nhận 1.600 hòm lạnh kèm thiết bị theo dõi nhiệt độ do JICA viện trọ không hoàn lại | D55: 1.600 hòm lạnh kèm thiết bị theo dõi nhiệt độ | E55: 4499/QĐ-BYT | F55: Viện VSDT TW | G55: Đang trình QĐ phân bổ (mới nhận đủ hàng ngày 30/10/2021) | H55: 14,570 USD | I55: =14570*23161 -> 337455770 | J55: 900,000 USD | K55: =900000*23161 -> 20844900000 | L55: 914,570 USD | M55: =+I55+K55 -> 21182355770 | CA55: 1600 | CD55: 900,000 USD | CE55: 20482200000
A56: 42 | B56: 23/9/2021 | C56: Viện trợ khẩn cấp các vật tư y tế của Ô-xtrây-lia cho Việt Nam để phòng, chống dịch COVID-19 | D56: 307.200 chiếc khẩu trang phẫu thuật 307.200 chiếc khẩu trang N95 | E56: 4519/QĐ-BYT | F56: BV ĐH Y HN | G56: Đang phân bổ | H56: 1,007,616 AUD | I56: =16906*1007616 -> 17034756096 | J56: 5,915 AUD | K56: =5915*16906 -> 99998990 | L56: 17,134,756,096 AUD | M56: =+I56+K56 -> 17134755086 | X56: 307200 | Y56: 2,33 AUD | AA56: 715,776 AUD | AB56: 11845167502 | AC56: 307200 | AD56: 0,95 AUD | AF56: 291,840 AUD | AG56: 4.8295747e+09
A57: 43 | B57: 23/9/2021 | C57: Phê duyệt Bệnh viện Thống Nhất tiếp nhận khoản viện trợ dung dịch sát khuẩn tay phòng COVID-19 do Công ty TNHH Borden (Singapore) viện trợ. | D57: 86.400 chai cồn sát khuẩn tay | E57: 4522/QĐ-BYT | F57: BV Thống Nhất | G57: Đang phân bổ | H57: 69,120 USD | I57: =69120*23161 -> 1600888320 | J57: 0 | L57: 69,120 USD | M57: =+I57+K57 -> 1600888320 | BV57: 86400 | BY57: 69,120 USD | BZ57: 1.1438466e+09
C58: Ô MẪU TẠO Ô THÊM BÊN TRÊN ĐỂ SỔ TỔNG TỰ ĐỘNG CỘNG
B59: Quý IV | H59: - | I59: =SUM(I60:I76) -> 2.9584614e+11 | J59: - | K59: =SUM(K60:K76) -> 5018793000 | L59: - | M59: =SUM(M60:M76) -> 3.0086493e+11 | N59: =SUM(N60:N77) -> 250000 | R59: =SUM(R60:R77) -> 0 | S59: =SUM(S60:S77) -> 63000 | W59: =SUM(W60:W77) -> 1429600000 | X59: =SUM(X60:X77) -> 0 | AB59: =SUM(AB60:AB77) -> 0 | AC59: =SUM(AC60:AC77) -> 35800 | AG59: =SUM(AG60:AG77) -> 499148570 | AH59: =SUM(AH60:AH77) -> 449800 | AL59: =SUM(AL60:AL77) -> 7146570400 | AM59: =SUM(AM60:AM77) -> 210220 | AQ59: =SUM(AQ60:AQ77) -> 26152706000 | AR59: =SUM(AR60:AR77) -> 172 | AV59: =SUM(AV60:AV77) -> 3.1098875e+10 | AW59: =SUM(AW60:AW77) -> 0 | BA59: =SUM(BA60:BA77) -> 0 | BB59: =SUM(BB60:BB77) -> 1036 | BF59: =SUM(BF60:BF77) -> 70264322560 | BG59: =SUM(BG60:BG77) -> 6 | BK59: =SUM(BK60:BK77) -> 4288800000 | BL59: =SUM(BL60:BL77) -> 0 | BP59: =SUM(BP60:BP77) -> 0 | BQ59: =SUM(BQ60:BQ77) -> 13400 | BU59: =SUM(BU60:BU77) -> 0 | BV59: =SUM(BV60:BV77) -> 2560 | BZ59: =SUM(BZ60:BZ77) -> 0 | CA59: =SUM(CA60:CA77) -> 0 | CE59: =SUM(CE60:CE77) -> 0 | CF59: =SUM(CF60:CF77) -> 0 | CJ59: =SUM(CJ60:CJ77) -> 0 | CK59: =SUM(CK60:CK77) -> 0 | CO59: =SUM(CO60:CO77) -> 0 | CP59: =SUM(CP60:CP77) -> 0 | CT59: =SUM(CT60:CT77) -> 0 | CU59: =SUM(CU60:CU77) -> 2 | CY59: =SUM(CY60:CY77) -> 0 | CZ59: =SUM(CZ60:CZ77) -> 23040 | DD59: =SUM(DD60:DD77) -> 0 | DE59: =SUM(DE60:DE77) -> 0 | DI59: =SUM(DI60:DI77) -> 0 | DJ59: =SUM(DJ60:DJ77) -> 0 | DN59: =SUM(DN60:DN77) -> 0 | DO59: =SUM(DO60:DO77) -> 0 | DS59: =SUM(DS60:DS77) -> 0 | DT59: =SUM(DT60:DT77) -> 0 | DX59: =SUM(DX60:DX77) -> 0 | DY59: =SUM(DY60:DY77) -> 0 | EC59: =SUM(EC60:EC77) -> 0 | ED59: =SUM(ED60:ED77) -> 0 | EH59: =SUM(EH60:EH77) -> 0 | EI59: =SUM(EI60:EI77) -> 0 | EM59: =SUM(EM60:EM77) -> 0 | EN59: =SUM(EN60:EN77) -> 0 | ER59: =SUM(ER60:ER77) -> 0 | ES59: =SUM(ES60:ES77) -> 0 | EW59: =SUM(EW60:EW77) -> 0 | EX59: =SUM(EX60:EX77) -> 0 | FB59: =SUM(FB60:FB77) -> 0 | FC59: =SUM(FC60:FC77) -> 0 | FG59: =SUM(FG60:FG77) -> 0 | FH59: =SUM(FH60:FH77) -> 0 | FL59: =SUM(FL60:FL77) -> 0 | FM59: =SUM(FM60:FM77) -> 0 | FQ59: =SUM(FQ60:FQ77) -> 0 | FR59: =SUM(FR60:FR77) -> 91 | FV59: =SUM(FV60:FV77) -> 8974651169 | FW59: =SUM(FW60:FW77) -> 20000 | GA59: =SUM(GA60:GA77) -> 5544175200 | GB59: =SUM(GB60:GB77) -> 0 | GF59: =SUM(GF60:GF77) -> 0 | GG59: =SUM(GG60:GG77) -> 4 | GK59: =SUM(GK60:GK77) -> 714800000 | GL59: =SUM(GL60:GL77) -> 4 | GP59: =SUM(GP60:GP77) -> 5718400000 | GQ59: =SUM(GQ60:GQ77) -> 1 | GU59: =SUM(GU60:GU77) -> 8398900000 | GV59: =SUM(GV60:GV77) -> 500000 | GZ59: =SUM(GZ60:GZ77) -> 0 | HA59: =SUM(HA60:HA77) -> 100000 | HE59: =SUM(HE60:HE77) -> 0 | HF59: =SUM(HF60:HF77) -> 2087700 | HJ59: =SUM(HJ60:HJ77) -> 0 | HK59: =SUM(HK60:HK77) -> 800000 | HO59: =SUM(HO60:HO77) -> 143200000000 | HP59: =SUM(HP60:HP77) -> 0 | HT59: =SUM(HT60:HT77) -> 0 | HU59: =SUM(HU60:HU77) -> 0 | HY59: =SUM(HY60:HY77) -> 0
A60: 44 | B60: 04/10/2021 | C60: "Hỗ trợ vắc xin đề phòng, chống dịch COVID-19" do Chính quyền nhân dân khu tự trị dân tộc Choang Quảng Tây, Trung Quốc viện trợ. | D60: 800.000 liều vắc xin Vero Cell | E60: 518/QĐ-BYT | F60: Viện VSDTTW | G60: 518/QĐ-BYT, mới nhận đủ ngày 30/10/2021, đang chờ kiểm định | H60: 6.182.807 USD | I60: 143200000000 | J60: 4,317 USD | K60: 100000000 | L60: 143300000000 | M60: =I60+K60 -> 143300000000 | HK60: 800000 | HO60: 143200000000
A61: 45 | B61: 04/10/2021 | C61: Tiếp nhận vật tư y tế để phòng, chống COVID-19 do Tổ chức hợp tác quốc tế Nhật Bản viện trợ. | D61: 13.400 đôi găng tay y tế 26.720 trang phục bảo hộ y tế 20.800 khẩu trang phẫu thuật 2.560 chai nước rửa tay khô | E61: 4690/QĐ-BYT | F61: BV Chợ rẫy | G61: Đang phân bổ | H61: 122.019,302 USD | I61: =122019.302*23161 -> 2.8260891e+09 | K61: 50000000 | M61: =I61+K61 -> 2.8760891e+09 | AC61: 20800 | AM61: 26720 | BQ61: 13400 | BV61: 2560
A62: 46 | B62: 04/10/2021 | C62: Tiếp nhận máy PCR, kít xét nghiệm để phòng chống dịch COVID-19 do Hàn Quốc viện trợ. | D62: 23.000 test dùng cho máy PCR 500 trang phục bảo hộ y tế 2 hệ thống Realtime PCR 2 máy chiết xuất axit nuclecic 23.040 Bộ chiết xuất axit nuclecic | E62: 4702/QĐ-BYT | F62: BV Phổi TW | G62: Đang phân bổ | H62: 404.076 USD | I62: =404076*23161 -> 9358804236 | M62: =I62+K62 -> 9358804236 | S62: 23000 | AM62: 500 | BG62: 2 | CU62: 2 | CZ62: 23040
A63: 47 | B63: 08/10/2021 | C63: "Viện trợ khẩn cấp các trang thiết bị và vật tư y tế của Đức cho Việt Nam để phòng, chống dịch COVID-19" | D63: 75 máy thở 15 monitor theo dõi bệnh nhân 20.000 máy đo độ bão hòa oxy trong máu | E63: 531/QĐ-BYT | F63: BVĐHYHN | G63: Đang phân bổ | H63: 824.989,80 EUR | I63: 22443022519 | K63: 300000000 | L63: 22.743.022.519 đồng | M63: =I63+K63 -> 22743022519 | AR63: 75 | AS63: gồm nhiều loại | AU63: 564.322,55 EUR | AV63: 1.5351831e+10 | FR63: 15 | FS63: 3791,15 EUR | FU63: 56.867,25 EUR | FV63: 1547016669 | FW63: 20000 | FX63: 10,19 EUR | FZ63: 203.800 EUR | GA63: 5544175200
A64: 48 | B64: 08/10/2021 | C64: "Tiếp nhận vắc xin AstraZeneca để phòng chống dịch COVID-19" do Chính phủ Hàn Quốc viện trợ không hoàn lại | D64: 1.100.000 liều vắc xin AZ | E64: 533/QĐ-BYT | F64: Viện VSDTTW | G64: Đã sử dụng hết | K64: 80000000 | M64: =I64+K64 -> 80000000 | HF64: 1100000
A65: 49 | B65: 10/10/2021 | C65: tiếp nhận khoản viện trợ khẩn cấp trang thiết bị và vật tư y tế do Ngân hàng Meganbank và nhóm cộng đồng người Việt Nam tại Đài Loan cho Việt Nam để phòng chống Covid-19 | D65: 16 máy tạo oxy Philips 05 máy theo dõi bệnh nhân Elegant-800 5.000 bộ đồ bảo hộ 20 máy tạo oxy ALL-X | E65: 4761/QĐ-BYT | F65: BV Thống Nhất | G65: Đang phân bổ | H65: 90.220 USD | I65: 2086157060 | M65: =I65+K65 -> 2086157060 | AM65: 5000 | AP65: 50.000 USD | AQ65: 1156150000 | BB65: 36 | BC65: 38720 USD | BF65: =525354560+369968000 -> 895322560 | FR65: 5 | FU65: 1.500 USD | FV65: 34684500
A66: 50 | B66: 10/10/2021 | C66: "Tiếp nhận vắc xin Astra Zeneca phòng COVID-19" do Chính phủ Cộng hòa Slovakia viện trợ | D66: 100.000 liều vắc xin AZ | E66: 4773/QĐ-BYT | F66: Viện VSDTTW | G66: Đã sử dụng hết | K66: 798793000 | M66: =I66+K66 -> 798793000 | HF66: 100000
A67: 51 | B67: 10/10/2021 | C67: "Tiếp nhận vắc xin Astra Zeneca phòng COVID-19" do Chính phủ Chính phủ Ba Lan viện trợ | D67: 887.700 liều vắc xin AZ | E67: 4777/QĐ-BYT | F67: Viện VSDTTW | G67: Đã sử dụng hết | K67: 80000000 | M67: =I67+K67 -> 80000000 | HF67: 887700
A68: 52 | B68: 12/10/2021 | C68: Tiếp nhận và phân bổ Khoản viện trợ phi dự án "1000 máy tạo oxy" do doanh nhân David Dương, Chủ tịch HĐQT Cty California Waste Solution, Hoa Kỳ viện trợ | D68: 1.000 máy tạo oxy | E68: 4787/QĐ-BYT | F68: TTHSTCNB COVID-19 Bệnh viện Bạch Mai | G68: Phân bổ theo đề nghị của nhà tài trợ, đang chờ hoàn thành thủ tục thông quan: Sở Y tế Thành Phố Hồ Chí Minh: 300 máy; - Sở Y tế tỉnh Bạc Liêu: 100 máy; - Sở Y tế Long An: 100 máy; - Sở Y tế tỉnh Kiên Giang: 150 máy; - Sở Y tế Quảng Nam: 150 máy; - Sở Y tế Thanh Hóa: 150 máy - Bệnh viện Bạch Mai (Trung tâm Hồi sức tích cực người bệnh COVID – 19 tại Thành phố Hồ Chí Minh): 50 máy; | H68: 3.000.000 USD | L68: 3.000.000 USD | M68: =I68+K68 -> 0 | BB68: 1000 | BE68: 3.000.000 USD | BF68: 69369000000
A69: 53 | B69: 13/10/2021 | C69: "Viện trợ khẩn cấp các tráng thiết bị và vật tư y tế cho Việt Nam phòng COVID-19" do Công ty Sea Logític Partner và Công ty Thiên Doanh của Trung Quốc viện trợ | D69: 50.000 Test nhanh Kháng nguyên 199.800 khẩu trang y tế 18.000 trang phục bảo hộ y tế 25 máy thở | E69: 548/QĐ-BYT | F69: BVĐHYHN | G69: Đang phân bổ | H69: 200.000 USD 3,703,600 CNY | I69: 17861266400 | K69: 100000000 | L69: 17961266400 | M69: =I69+K69 -> 17961266400 | N69: 50000 | Q69: 200.000 USD | AH69: 199800 | AK69: 399.600 CNY | AL69: =399600*3574 -> 1428170400 | AM69: 18000 | AP69: 594000 | AQ69: =AP69*3574 -> 2122956000 | AR69: 25 | AU69: =136000+70000+110000+90000 -> 406000 | AV69: =AU69*3574 -> 1451044000
A70: 54 | B70: 14/10/2021 | C70: Tiếp nhận và phân bổ "Viện trợ khẩn cấp các trang thiết bị và vật tư y tế đề phòng, chống dịch COVID-19" do Chính quyền nhân dân khu tự trị dân tộc Choang Quảng Tây, Trung Quốc viện trợ. | D70: 40.000 test dùng cho máy PCR 200.000 khẩu trang y tế 160.000 trang phục bảo hộ y tế 12 máy thở 4 hệ thống realtime PCR 64 monitor theo dõi bệnh nhân 4 hệ thống oxy 4 máy tách chiết tự động 1 hệ thống máy tuần hoàn ECMO | E70: 549/QĐ-BYT | F70: BVĐHYHN | G70: QĐ 549/QĐ-BYT ngày 14/10/2021 về việc tiếp nhận và phân bổ trang thiết bị và vật tư y tế cho 04 tỉnh Quảng Ninh, Lạng Sơn, Hà Giang, Cao Bằng (chia đều cho mỗi tỉnh) và Bệnh viện Đại học Y Hà Nội nhận ECMO | H70: 22.550.000 RMB | I70: 80593700000 | K70: 100000000 | L70: 80.693.700.000 đồng | M70: =I70+K70 -> 80693700000 | S70: 40000 | W70: =4*357400000 -> 1429600000 | AH70: 200000 | AL70: =4*1429600000 -> 5718400000 | AM70: 160000 | AQ70: =4*5718400000 -> 22873600000 | AR70: 12 | AU70: 16.000.000 RMB | AV70: =4*(2144400000+1429600000) -> 14296000000 | BG70: 4 | BJ70: 4.800.000 RMB | BK70: =4*1072200000 -> 4288800000 | FR70: 64 | FS70: 75.000 RMB | FT70: 4800000 | FU70: 268.050.000 RMB | FV70: 4288800000 | GG70: 4 | GK70: =4*178700000 -> 714800000 | GL70: 4 | GP70: =4*1429600000 -> 5718400000 | GQ70: 1 | GU70: 8398900000
A71: 55 | B71: 15/10/2021 | C71: Tiếp nhận thiết bị y tế để phòng, chống dịch COVID-19 do Tổ chức Facing the World, Vương Quốc Anh viện trợ | D71: 7 Máy theo dõi bệnh nhân Chủng loại: Carescape B450 | E71: 4820/QĐ-BYT | F71: Bệnh viện Hữu Nghị Việt Đức | G71: Đang phân bổ | H71: 98.000 GBP | I71: =31675*98000 -> 3104150000 | L71: 98.000 GBP | M71: =I71+K71 -> 3104150000 | FR71: 7 | FU71: 98.000 GBP | FV71: 3104150000
A72: 56 | B72: 15/10/2021 | C72: Tiếp nhận vật tư y tế để phòng, chống COVID-19 do doanh nghiệp kiều bào tại Anh viện trợ | D72: 15.000 chiếc khẩu trang KN95 | E72: 4824/QĐ-BYT | F72: Bệnh viện Thống Nhất | G72: Đang phân bổ | H72: 21.586,67 USD | I72: =21586.67*23123 -> 4.9914857e+08 | L72: 21.586,67 USD | M72: =I72+K72 -> 4.9914857e+08 | AC72: 15000 | AF72: 21.586,67 USD | AG72: 499148570
A73: 57 | B73: 18/10/2021 | C73: Tiếp nhận bổ sung trang thiết bị y tế để phòng, chống dịch COVID-19 do Singapore viện trợ | D73: 200.000 test nhanh kháng nguyên 500.000 gạc mũi họng 150mm 100.000 Ống w/3ml nước muối đệm Phophat 10ml | E73: 4861/QĐ-BYT | F73: BVĐHYHN | G73: Đang phân bổ | M73: =I73+K73 -> 0 | N73: 200000 | GV73: 500000 | HA73: 100000
A74: 58 | B74: 23/10/2021 | C74: Tiếp nhận 200.000 liều vắc xin Sinopharm do Chính phủ Campuchia viện trợ | D74: 200.000 liều vắc xin Sinopharm | E74: 571/QĐ-BYT | F74: Viện VSDTTƯ | G74: Mới nhận vắc xin ngày 29/10/2021, đang chờ kiểm định | M74: =I74+K74 -> 0
A75: 59 | B75: 22/10/2021 | C75: Tiếp nhận vắc xin AstraZeneca để phòng COVID-19 do Chính phủ Nhật Bản viện trợ | D75: 501.200 liều vắc xin AstraZeneca | E75: 4903/QĐ-BYT | F75: Viện VSDTTƯ | G75: Mới nhận vắc xin, đang chờ kiểm định | K75: 3260000000 | M75: =I75+K75 -> 3260000000
A76: 60 | B76: 20/10/2021 | C76: Tiếp nhận khoản viện trợ phi dự án do Công ty Lưới điện Phương Nam Trung Quốc (SCPG) và Tập đoàn Thái Bình Dương, Trung Quốc tài trợ cho Việt Nam phòng chống COVID 19. | D76: 60 máy thở y tế 50.000 khẩu trang | E76: 4882/QĐ-BYT | F76: Viện VSDTTƯ | G76: Đang phân bổ | H76: 600.000 USD | I76: =600000*23123 -> 13873800000 | K76: 150000000 | M76: =I76+K76 -> 14023800000 | AH76: 50000 | AR76: 60 | AU76: 600.000 USD
C77: Ô MẪU TẠO Ô THÊM BÊN TRÊN ĐỂ SỔ TỔNG TỰ ĐỘNG CỘNG

Sheet BTC.B7 phân bổ viện trợ hiện vậ
AF1: Biểu 07
A2: BIỂU TỔNG HỢP TÌNH HÌNH PHÂN BỔ (Trang thiết bị y tế/vật tư/hóa chất/sinh phẩm/…….)
B3: Loại Máy thở/…
A4: TT | B4: Địa phương/Bộ, ngành | C4: Tổng số | F4: Từ nguồn NSTW | I4: Từ nguồn tài trợ, viện trợ
C5: Tổng cộng | D5: Loại … | E5: … | F5: Cộng | G5: Loại… | H5: ,,, | I5: Cộng | K5: Khẩu trang N95/FFP2 | M5: Khẩu trang phẫu thuật | O5: Khẩu trang y tế/bảo hộ | Q5: Bộ trang phục bảo hộ Y tế | S5: Găng tay y tế | U5: Test dùng cho máy PCR | W5: Test XN Kháng nguyên | Y5: Máy thở oxy | AA5: Máy tạo oxy | AC5: Oxy lỏng (tấn) | AE5: Cồn sát khuẩn tay
C6: 1=2+3 | D6: 2=5+8 | E6: 3 | F6: 4 =5+6+,,, | G6: 5 | H6: 6 | I6: Số lượng | J6: Thành tiền (triệu đồng) | K6: Số lượng | L6: Thành tiền (triệu đồng) | M6: Số lượng | N6: Thành tiền (triệu đồng) | O6: Số lượng | P6: Thành tiền (triệu đồng) | Q6: Số lượng | R6: Thành tiền (triệu đồng) | S6: Số lượng | T6: Thành tiền (triệu đồng) | U6: Số lượng | V6: Thành tiền (triệu đồng) | W6: Số lượng | X6: Thành tiền (triệu đồng) | Y6: Số lượng | Z6: Thành tiền (triệu đồng) | AA6: Số lượng | AB6: Thành tiền (triệu đồng) | AC6: Số lượng | AD6: Thành tiền (triệu đồng) | AE6: Số lượng | AF6: Thành tiền (triệu đồng)
A7: A | B7: Tổng số | K7: 624200 | M7: 1537450 | O7: 238000 | Q7: 180000 | S7: 950000 | U7: 270000 | W7: 1254695 | Y7: 135 | AA7: 1785 | AC7: 100 | AE7: 254900
A8: B | B8: Tổng số đã phân bổ | K8: =SUM(K12:K80) -> 71100 | M8: =SUM(M12:M80) -> 1260250 | O8: =SUM(O12:O80) -> 188000 | Q8: =SUM(Q12:Q80) -> 150000 | S8: =SUM(S12:S80) -> 950000 | U8: =SUM(U12:U80) -> 270000 | W8: =SUM(W12:W80) -> 1063775 | Y8: =SUM(Y12:Y80) -> 10 | AA8: =SUM(AA12:AA80) -> 500 | AC8: =SUM(AC12:AC80) -> 87.8 | AE8: =SUM(AE12:AE80) -> 34750
A9: C | B9: Số còn lại chưa phân bổ | K9: =K7-K8 -> 553100 | L9: =L7-L8 -> 0 | M9: =M7-M8 -> 277200 | N9: =N7-N8 -> 0 | O9: =O7-O8 -> 50000 | P9: =P7-P8 -> 0 | Q9: =Q7-Q8 -> 30000 | R9: =R7-R8 -> 0 | ... AF9: =AF7-AF8 -> 0
B10: Chi tiết số đã phân bổ
A11: I | B11: Cơ quan Trung ương
A12: 1 | B12: Bệnh viện Nhiệt đới TW | M12: 130250 | O12: 15000 | Q12: 20000 | S12: 100000 | Y12: 3
A13: 2 | B13: Bệnh viện Phổi TW | K13: 5050 | M13: 120000 | O13: 33000 | Q13: 20000 | S13: 90000 | W13: 8120
A14: 3 | B14: Bệnh viện Bạch Mai | M14: 120000 | O14: 30000 | Q14: 20000 | S14: 90000
A15: 4 | B15: Bệnh viện Nhi TW | M15: 150000 | O15: 10000 | Q15: 10000 | S15: 70000
A16: 5 | B16: Bệnh viện Nội Tiết TW | M16: 120000 | O16: 15000 | Q16: 10000 | S16: 70000
A17: 6 | B17: Bệnh viện Lão Khoa TW | M17: 120000 | O17: 15000 | Q17: 10000 | S17: 70000
A18: 7 | B18: Bệnh viện ĐH Y Hà Nội | M18: 150000 | O18: 30000 | Q18: 30000 | S18: 250000
A19: 8 | B19: Bệnh viện Việt Đức | M19: 150000 | O19: 10000 | Q19: 10000 | S19: 70000
A20: 9 | B20: Bệnh viện K | W20: 20000
A21: 10 | B21: Bệnh viện E | M21: 100000 | O21: 15000 | Q21: 10000 | S21: 70000
A22: 11 | B22: Bệnh viện Chợ Rẫy | W22: 20000 | Y22: 4 | AC22: 45 | AE22: 12250
A23: 12 | B23: Viện VSDT TW | W23: =4150+3000+200 -> 7350
A24: 13 | B24: TT HSTC người bệnh COVID-19 trực thuộc BV TW Huế tại TP.HCM | AE24: 6000
A25: 14 | B25: TT HSTC người bệnh COVID-19 BV ĐH Y HN tại Bình Dương | AE25: 6000
A26: 15 | B26: TT HSTC người bệnh COVID-19 trực thuộc Bv Nhi TW tại VĨnh Long | AE26: 4500
A27: 16 | B27: BV Tâm thần TW 2 | W27: 10000 | AE27: 6000
A28: 17 | B28: BV Quân Y 103 | M28: 100000 | O28: 15000 | Q28: 10000 | S28: 70000
A29: 18 | B29: Văn phòng Quốc hội | W29: 100000
A30: 19 | B30: Uỷ ban dân tộc | W30: 7000
A31: 20 | B31: Bệnh viện ĐK TW Cần Thơ | W31: 20000
A32: 21 | B32: Viện Pháp y tâm thần TW Biên Hoà | W32: 8000
A33: 22 | B33: Viện trang thiết bị và công trình y tế | K33: 50
A34: 23 | B34: Hội thầy thuốc trẻ Việt Nam | AA34: 100
A35: 24 | B35: BV ĐH Y Dược TPHCM | U35: 40000
A36: 25 | B36: BV TW Thái nguyên | U36: 2000
A37: 26 | B37: BV Quân y 175 | AC37: 7.8
A38: II | B38: Địa phương
A39: 1 | B39: SYT Bình Dương | K39: 15000 | U39: 29000 | W39: =20000+30000+60000 -> 110000
A40: 2 | B40: SYT Quảng Ngãi | W40: 15000
A41: 3 | B41: SYT Phú Yên | W41: 15000
A42: 4 | B42: SYT Đồng Nai | W42: 15000
A43: 5 | B43: SYT Long An | W43: 15000
A44: 6 | B44: SYT Đồng Tháp | K44: 20000 | W44: 15000 | AA44: 200
A45: 7 | B45: SYT Hưng Yên | W45: 15000
A46: 8 | B46: SYT Vĩnh Long | W46: 14000
A47: 9 | B47: SYT Kiên Giang | K47: 15000 | W47: =12000+32000 -> 44000
A48: 10 | B48: SYT Đắk Lắk | W48: 10000
A49: 11 | B49: SYT Đắk Nông | W49: 10000
A50: 12 | B50: SYT Khánh Hoà | W50: 20000
A51: 13 | B51: SYT Thái Bình | W51: 20000
A52: 14 | B52: SYT Hậu Giang | W52: 20000
A53: 15 | B53: SYT TP.HCM | W53: =320000+95000 -> 415000 | AC53: 35
A54: 16 | B54: SYT Tiền Giang | W54: 35000
A55: 17 | B55: Viện Pasteur TP.HCM | U55: 84000 | W55: 16105
A56: 18 | B56: Bệnh viện Phổi Phạm Hữu Chí | AA56: 3
A57: 19 | B57: TTKSBT Bình Dương | AA57: 15
A58: 20 | B58: TTKSBT Bình Phước | AA58: 5
A59: 21 | B59: BV Phổi Bình Thuận | AA59: 5
A60: 22 | B60: BV Lao & Bệnh phổi Ninh Thuận | AA60: 10
A61: 23 | B61: BV Lao&Bệnh phổi Tây Ninh | AA61: 3
A62: 24 | B62: BV Phạm Ngọc Thạch TP.HCM | AA62: 84
A63: 25 | B63: TTKSBT An Giang | AA63: 5
A64: 26 | B64: TTKSBT Bến Tre | AA64: 10
A65: 27 | B65: BV Lao&Bệnh phổi Cần Thơ | AA65: 5
A66: 28 | B66: BV Mắt-Da liễu Cà Mau | AA66: 5
A67: 29 | B67: BV Phổi Hậu Giang | AA67: 5
... A72: 34 | B72: BV Phổi Long An | AA72: 5
A73: 35 | B73: Bệnh viện Nhiệt đới TP.HCM | Y73: 3
A74: 36 | B74: TT Nhiệt đới Việt Nga | W74: 10000
A75: 37 | B75: Bệnh viện Thống Nhất | U75: 20000 | W75: 29200
A76: 38 | B76: SYT Sóc Trăng | K76: 10000 | W76: 20000
A77: 39 | B77: SYT Hà Nam | K77: 6000
A78: 40 | B78: SYT An Giang | U78: 40000
A79: 41 | B79: SYT Thanh Hoá | U79: 10000
A80: 42 | B80: Viện VSDT Tây Nguyên | U80: 45000
B83: Ghi chú:
A84: - | B84: Tài trợ, viện trợ phi thương mại; nhà tài trợ không cung cấp giá trị

Sheet TH vien tro + trong nước
A1: BIỂU TỔNG HỢP VẬT TƯ, HÓA CHẤT, SINH PHẨM, TRANG THIẾT BỊ PHÒNG, CHỐNG COVID-19
A2: TT | B2: Loại | C2: Tổng số cam kết | E2: Tổng cộng | G2: Đã phân phối, sử dụng | I2: Hàng hóa chưa sử dụng | K2: Hàng hóa còn lại theo Cam kết | M2: Hàng tiếp nhận trong nước | O2: Hàng viện trợ nước ngoài
C3: Số lượng | D3: Thành tiền (triệu đồng) | E3: Số lượng | F3: Thành tiền (triệu đồng) | G3: Số lượng | H3: Thành tiền (triệu đồng) | I3: Số lượng | J3: Thành tiền (triệu đồng) | K3: Số lượng | L3: Thành tiền (triệu đồng) | M3: Số lượng | N3: Thành tiền (triệu đồng) | O3: Số lượng | P3: Thành tiền (triệu đồng)
A5: 1 | B5: 2 | C5: 1 | D5: 2 | E5: 3 | F5: 4 | G5: 5 | H5: 6 | I5: 7=3-5 | J5: 8=4-6 | K5: 9=1-3 | L5: 10=2-4 | M5: 3 | N5: 4 | O5: 3 | P5: 4
B6: Tổng cộng | E6: =+M6+O6 -> 324402060 | F6: =+N6+P6 -> 2155719 | G6: =SUM(G7+G36+G62) -> 48754060 | H6: =SUM(H7+H36+H62) -> 65770.351 | I6: =E6-G6 -> 275648000 | J6: =F6-H6 -> 2089948.6 | M6: =M7+M36+M62+M69 -> 239079663 | N6: =N7+N36+N62+N69 -> 1276820 | O6: =O7+O36+O62+O69 -> 85322397 | P6: =P7+P36+P62+P69 -> 878899
A7: I | B7: Trang thiết bị y tế | E7: =+M7+O7 -> 39260 | F7: =+N7+P7 -> 1527056 | G7: =SUM(G17:G32) -> 508 | H7: =SUM(H17:H32) -> 7996.2889 | I7: =E7-G7 -> 38752 | J7: =F7-H7 -> 1519059.7 | M7: =SUM(M9:M35) -> 11773 | N7: =SUM(N9:N35) -> 1091632 | O7: =SUM(O9:O35) -> 27487 | P7: =SUM(P9:P35) -> 435424
B8: Trang thiết bị điều trị | E8: =+M8+O8 -> 0 | F8: =+N8+P8 -> 0
A9: 1 | B9: Máy thở chức năng cao | E9: =+M9+O9 -> 2094 | F9: =+N9+P9 -> 140332 | G9: 40 | H9: 13451.312 | I9: 278 | J9: 139254.82 | M9: 2094 | N9: 140332 | Q9: =SUM(M9:M11) -> 8706 | R9: =6606+2100 -> 8706
A10: =+A9+1 -> 2 | B10: Máy thở thông thường | E10: =+M10+O10 -> 4904 | F10: =+N10+P10 -> 614448 | M10: 4512 | N10: 454700 | O10: 392 | P10: 159748
A11: =+A10+1 -> 3 | B11: Máy tạo Oxy dòng cao HFNC và vật tư đi kèm | E11: =+M11+O11 -> 2187 | F11: =+N11+P11 -> 150782 | M11: 2100 | N11: 146000 | O11: 87 | P11: 4782
A12: =+A11+1 -> 4 | B12: Monitor theo dõi bệnh nhân | E12: =+M12+O12 -> 951 | F12: =+N12+P12 -> 16498 | M12: 530 | O12: 421 | P12: 16498
A13: =+A12+1 -> 5 | B13: Hệ thống oxy | E13: =+M13+O13 -> 4 | F13: =+N13+P13 -> 715 | O13: 4 | P13: 715
A14: =+A13+1 -> 6 | B14: Hệ thống máy tuần hoàn ECMO | E14: =+M14+O14 -> 1 | F14: =+N14+P14 -> 8399 | O14: 1 | P14: 8399
A15: =+A14+1 -> 7 | B15: Bơm tiêm điện | E15: =+M15+O15 -> 110 | F15: =+N15+P15 -> 1629 | M15: 10 | O15: 100 | P15: 1629
A16: =+A15+1 -> 8 | B16: Bơm khối | E16: =+M16+O16 -> 267 | F16: =+N16+P16 -> 0 | O16: 267
A17: =+A16+1 -> 9 | B17: Máy tạo Oxy | E17: =+M17+O17 -> 2054 | F17: =+N17+P17 -> 80100 | G17: 500 | H17: 7996.2889 | I17: 1286 | J17: 0 | O17: 2054 | P17: 80100
A18: =+A17+1 -> 10 | B18: Máy đo độ bão hòa oxy trong máu | E18: =+M18+O18 -> 21100 | F18: =+N18+P18 -> 5684 | O18: 21100 | P18: 5684
A19: =+A18+1 -> 11 | B19: Giường bệnh | E19: =+M19+O19 -> 200 | F19: =+N19+P19 -> 0 | G19: 0 | H19: 0 | I19: 200 | J19: 0 | O19: 200
A20: =+A19+1 -> 12 | B20: Máy theo dõi nhịp tim | E20: =+M20+O20 -> 50 | F20: =+N20+P20 -> 4224 | G20: 0 | H20: 0 | I20: 50 | J20: 0 | O20: 50 | P20: 4224
A21: =+A20+1 -> 13 | B21: Khí dung | E21: =+M21+O21 -> 12 | O21: 12
A22: =+A21+1 -> 14 | B22: Máy đo huyết áp | E22: =+M22+O22 -> 20 | O22: 20
A23: =+A22+1 -> 15 | B23: Phế dung kế | E23: =+M23+O23 -> 25 | O23: 25
A24: =+A23+1 -> 16 | B24: Kít 24 giờ | E24: =+M24+O24 -> 10 | O24: 10
B25: Trang thiết bị xét nghiệm | E25: =+M25+O25 -> 0 | F25: =+N25+P25 -> 0
A26: =+A24+1 -> 17 | B26: Hệ thống Realtime PCR | E26: =+M26+O26 -> 106 | F26: =+N26+P26 -> 124289 | M26: 100 | N26: 120000 | O26: 6 | P26: 4289
A27: =+A26+1 -> 18 | B27: Máy tách chiết tự động | E27: =+M27+O27 -> 67 | F27: =+N27+P27 -> 5718 | M27: 63 | O27: 4 | P27: 5718
A28: =+A27+1 -> 19 | B28: Máy chiết xuất axit nuclecic | E28: =+M28+O28 -> 2 | F28: =+N28+P28 -> 0 | O28: 2
A29: =+A28+1 -> 20 | B29: Xe xét nghiệm lưu động | E29: =+M29+O29 -> 20 | F29: =+N29+P29 -> 200000 | M29: 20 | N29: 200000
B30: Trang thiết bị phục vụ tiêm chủng | E30: =+M30+O30 -> 0 | F30: =+N30+P30 -> 0
A31: =+A29+1 -> 21 | B31: Tủ lạnh -< 75 độ C | E31: =+M31+O31 -> 108 | F31: =+N31+P31 -> 33812 | G31: 8 | H31: 0 | I31: 77 | J31: 28211.906 | M31: 23 | N31: 5600 | O31: 85 | P31: 28212
A32: =+A31+1 -> 22 | B32: Xe ô tô tải lạnh Mishubishi | E32: =+M32+O32 -> 5 | F32: =+N32+P32 -> 11315 | O32: 5 | P32: 11315
A33: =+A32+1 -> 23 | B33: Xe tải phục vụ vận chuyển vắc xin | E33: =+M33+O33 -> 63 | F33: =+N33+P33 -> 0 | M33: 63
A34: =+A33+1 -> 24 | B34: Xe phục vụ tiêm chủng lưu động | E34: =+M34+O34 -> 63 | F34: =+N34+P34 -> 0 | M34: 63
A35: =+A34+1 -> 25 | B35: Tủ lạnh | E35: =+M35+O35 -> 4837 | F35: =+N35+P35 -> 129111 | M35: 2195 | N35: 25000 | O35: 2642 | P35: 104111
A36: II | B36: Vật tư | E36: =+M36+O36 -> 286127095 | F36: =+N36+P36 -> 449158 | G36: 47415742 | H36: 9845.7142 | I36: -47415742 | J36: 212234.47 | M36: =SUM(M38:M61) -> 203901800 | N36: =SUM(N38:N61) -> 185188 | O36: =SUM(O38:O61) -> 82225295 | P36: =SUM(P38:P61) -> 263970
B37: Phục vụ tiêm vắc xin phòng COVID19 | E37: =+M37+O37 -> 0 | F37: =+N37+P37 -> 0
A38: 1 | B38: Hộp an toàn | E38: =+M38+O38 -> 1822150 | F38: =+N38+P38 -> 0 | G38: 407375 | H38: 0 | I38: 500000 | J38: 0 | M38: 800000 | O38: 1022150
A39: =+A38+1 -> 2 | B39: Bơm Kim tiêm | E39: =+M39+O39 -> 225110300 | F39: =+N39+P39 -> 124298 | G39: 43938000 | H39: 1113.9406 | I39: 5000000 | J39: 0 | M39: 156500000 | N39: 120000 | O39: 68610300 | P39: 4298
A40: =+A39+1 -> 3 | B40: Ống thuốc dung môi tiêm vacxin | E40: =+M40+O40 -> 9700000 | F40: =+N40+P40 -> 0 | M40: 9700000
A41: =+A40+1 -> 4 | B41: Hòm lạnh kèm thiết bị theo dõi nhiệt độ | E41: =+M41+O41 -> 1600 | F41: =+N41+P41 -> 20482 | G41: 0 | H41: 0 | I41: 1600 | J41: 20482.2 | O41: 1600 | P41: 20482
B42: Phục vụ xét nghiệm | E42: =+M42+O42 -> 0 | F42: =+N42+P42 -> 0
A43: =+A41+1 -> 5 | B43: Ống lấy mẫu bệnh phẩm (spectimen Collection): | E43: =+M43+O43 -> 300000 | F43: =+N43+P43 -> 10924 | G43: 6000 | H43: 0 | I43: 294000 | J43: 10923.84 | O43: 300000 | P43: 10924
B44: Trang bị phòng hộ và điều trị | E44: =+M44+O44 -> 0 | F44: =+N44+P44 -> 0
A45: =+A43+1 -> 6 | B45: Kính bảo vệ mắt | E45: =+M45+O45 -> 5000 | F45: =+N45+P45 -> 761 | O45: 5000 | P45: 761
A46: =+A45+1 -> 7 | B46: Kính chống giọt bắn | E46: =+M46+O46 -> 247475 | F46: =+N46+P46 -> 11753 | G46: 10000 | H46: 0 | I46: 200000 | J46: 11395.956 | O46: 247475 | P46: 11753
A47: =+A46+1 -> 8 | B47: Dây truyền dịch (kim tiêm điện) | E47: =+M47+O47 -> 0 | F47: =+N47+P47 -> 0 | G47: 267 | H47: 0 | I47: 0 | J47: 6611.2652
A48: =+A47+1 -> 9 | B48: Găng tay phẫu thuật | E48: =+M48+O48 -> 4500 | F48: =+N48+P48 -> 0 | G48: 400000 | H48: 0 | I48: 4500 | J48: 1356.8245 | O48: 4500
A49: =+A48+1 -> 10 | B49: Găng tay y tế | E49: =+M49+O49 -> 1163400 | F49: =+N49+P49 -> 1357 | G49: 950000 | H49: 0 | I49: 13400 | J49: 0 | O49: 1163400 | P49: 1357
A50: =+A49+1 -> 11 | B50: Trang phục bảo hộ Y tế | E50: =+M50+O50 -> 926080 | F50: =+N50+P50 -> 116931 | G50: 150000 | H50: 0 | I50: 343880 | J50: 82459.34 | M50: 391400 | N50: 31300 | O50: 534680 | P50: 85631
A51: =+A50+1 -> 12 | B51: Khẩu trang N95 + FFP2 | E51: =+M51+O51 -> 8845800 | F51: =+N51+P51 -> 94964 | G51: 71100 | H51: 4347.2197 | I51: 823100 | J51: 45597.655 | M51: 2290400 | N51: 5400 | O51: 6555400 | P51: 89564
A52: =+A51+1 -> 13 | B52: Khẩu trang phẫu thuật + KN95 | E52: =+M52+O52 -> 1923250 | F52: =+N52+P52 -> 9912 | G52: 1260250 | H52: 0 | I52: 363000 | J52: 8288.4983 | O52: 1923250 | P52: 9912
A53: =+A52+1 -> 14 | B53: Khẩu trang y tế/Khẩu trang bảo hộ | E53: =+M53+O53 -> 35290020 | F53: =+N53+P53 -> 38071 | G53: 188000 | H53: 0 | I53: 543072.55 | J53: 7408.3822 | M53: 34220000 | N53: 28488 | O53: 1070020 | P53: 9583
A54: =+A53+1 -> 15 | B54: Cồn sát khuẩn | E54: =+M54+O54 -> 257460 | F54: =+N54+P54 -> 19250 | G54: 34750 | H54: 4384.554 | I54: 222710 | J54: 14865.293 | O54: 257460 | P54: 19250
A55: =+A54+1 -> 16 | B55: Oxy y tế dạng lỏng | E55: =+M55+O55 -> 100 | F55: =+N55+P55 -> 455 | O55: 100 | P55: 455
A56: =+A55+1 -> 17 | B56: Gạc mũi họng 150mm | E56: =+M56+O56 -> 500000 | F56: =+N56+P56 -> 0 | O56: 500000
A57: =+A56+1 -> 18 | B57: Nhiệt kế | E57: =+M57+O57 -> 10400 | F57: =+N57+P57 -> 0 | O57: 10400
A58: =+A57+1 -> 19 | B58: Kem dưỡng ẩm | E58: =+M58+O58 -> 12000 | F58: =+N58+P58 -> 0 | G58: 0 | I58: 12000 | J58: 0 | O58: 12000 | P58: 0
A59: =+A58+1 -> 20 | B59: Mặt nạ các loại | E59: =+M59+O59 -> 210 | F59: =+N59+P59 -> 0 | O59: 210
A60: =+A59+1 -> 21 | B60: Bóng thở | E60: =+M60+O60 -> 150 | F60: =+N60+P60 -> 0 | O60: 150
A61: =+A60+1 -> 22 | B61: Phin lọc máy thở | E61: =+M61+O61 -> 7200 | F61: =+N61+P61 -> 0 | O61: 7200
A62: III | B62: Sinh phẩm | E62: =+M62+O62 -> 16039415 | F62: =+N62+P62 -> 179505 | G62: 1337810 | H62: 47928.348 | I62: 1010285 | J62: 114462.63 | M62: =SUM(M63:M68) -> 12969800 | N62: =SUM(N63:N68) -> 0 | O62: =SUM(O63:O68) -> 3069615 | P62: =SUM(P63:P68) -> 179505
A63: 1 | B63: Bộ mồi và probe gen E (TiBMoL gen E) | E63: =+M63+O63 -> 202176 | F63: =+N63+P63 -> 7546 | G63: 2106 | H63: 0 | I63: 200070 | J63: 7545.8391 | O63: 202176 | P63: 7546
A64: =+A63+1 -> 2 | B64: Bộ mồi và probe gen RdRp: (TiBMoL gen RdRp): | E64: =+M64+O64 -> 185184 | F64: =+N64+P64 -> 3877 | G64: 1929 | H64: 0 | I64: 183255 | J64: 3877.2641 | O64: 185184 | P64: 3877
A65: =+A64+1 -> 3 | B65: Bộ chiết xuất axit nuclecic | E65: =+M65+O65 -> 23040 | F65: =+N65+P65 -> 0 | O65: 23040
A66: =+A65+1 -> 4 | B66: Test nhanh Kháng nguyên | E66: =+M66+O66 -> 14186015 | F66: =+N66+P66 -> 118724 | G66: 1063775 | H66: 0 | I66: 440920 | J66: 101609.93 | M66: 11959800 | O66: 2226215 | P66: 118724
A67: =+A66+1 -> 5 | B67: Ống w/3ml nước muối đệm Phophat 10ml | E67: =+M67+O67 -> 100000 | F67: =+N67+P67 -> 0 | O67: 100000
A68: =+A67+1 -> 6 | B68: Test dùng cho máy PCR | E68: =+M68+O68 -> 1343000 | F68: =+N68+P68 -> 49358 | G68: 270000 | H68: 47928.348 | I68: 63000 | J68: 1429.6 | M68: 1010000 | O68: 333000 | P68: 49358
A69: IV | B69: Thuốc | E69: =+M69+O69 -> 22196290 | F69: =+N69+P69 -> 0 | J69: 0 | M69: =SUM(M70:M74) -> 22196290
A70: 1 | B70: Thuốc Remdesivir (lọ) | C70: 1880000 | E70: =+M70+O70 -> 1880000 | F70: =+N70+P70 -> 0 | M70: 1880000
A71: =+A70+1 -> 2 | B71: Thuốc Molnupiravir (viên) | E71: =+M71+O71 -> 14948000 | F71: =+N71+P71 -> 0 | M71: 14948000
A72: =+A71+1 -> 3 | B72: Casirivimab và Imdevimab | E72: =+M72+O72 -> 8290 | F72: =+N72+P72 -> 100 | M72: 8290 | N72: 100
A73: =+A72+1 -> 4 | B73: Favipiravir | E73: =+M73+O73 -> 2000000 | F73: =+N73+P73 -> 0 | M73: 2000000
A74: =+A73+1 -> 5 | B74: Xuyên Tâm liên (viên) | E74: =+M74+O74 -> 3360000 | F74: =+N74+P74 -> 0 | M74: 3360000
B75: Ghi chú:
A76: - | B76: Một số khoản viện trợ, tài trợ nhà tài trợ không cung cấp giá trị; Bộ Y tế đang đề nghị gửi hồ sơ để xác định giá trị.

Sheet Tong hop tiep nhan, xuat cap
A1: BỘ Y TẾ | V1: PHỤ LỤC 3A
A3: TỔNG HỢP TIẾP NHẬN, PHÂN BỔ VẬT TƯ, TEST KIT, TTB, THUỐC PHÒNG CHỐNG DỊCH COVID -19
A4: (Kèm theo Công văn số /BYT-KHTC ngày tháng năm 2021)
A6: STT | B6: Loại | C6: SỐ CAM KẾT | F6: SỐ TIẾP NHẬN | L6: SỐ ĐÃ XUẤT CẤP | Q6: SỐ TỒN | V6: Ghi chú
C7: Tổng cộng tiếp nhận | D7: Hàng tiếp nhận trong nước | E7: Hàng viện trợ nước ngoài | F7: Tổng cộng tiếp nhận | H7: Hàng tiếp nhận trong nước | J7: Hàng viện trợ nước ngoài | L7: Tổng cộng xuất cấp | M7: Hàng tiếp nhận trong nước | O7: Hàng viện trợ nước ngoài | Q7: Còn lại | R7: Hàng tiếp nhận trong nước | T7: Hàng viện trợ nước ngoài
F8: Số lượng | G8: Thành tiền (triệu đồng) | H8: Số lượng | I8: Thành tiền (triệu đồng) | J8: Số lượng | K8: Thành tiền (triệu đồng) | L8: Số lượng | M8: Số lượng | N8: Thành tiền (triệu đồng) | O8: Số lượng | P8: Thành tiền (triệu đồng) | Q8: Số lượng | R8: Số lượng | S8: Thành tiền (triệu đồng) | T8: Số lượng | U8: Thành tiền (triệu đồng)
A9: A | B9: B | F9: 1=2+3 | H9: 2 | J9: 3 | L9: 4=5+6 | M9: 5 | O9: 6 | Q9: 7=8+9 | R9: 8 | T9: 9 | V9: 10
B10: Tổng cộng | C10: =+C11+C40+C66+C73 -> 331563338 | D10: =+D11+D40+D66+D73 -> 246217903 | E10: =+E11+E40+E66+E73 -> 85345435 | F10: =F11+F40+F66+F73 -> 324454808 | G10: =G11+G40+G66+G73 -> 2155819 | H10: =H11+H40+H66+H73 -> 238903672 | I10: =I11+I40+I66+I73 -> 1276820 | J10: =J11+J40+J66+J73 -> 85345437 | K10: =K11+K40+K66+K73 -> 878899 | L10: =+L11+L40+L66+L73 -> #REF! | M10: =+M11+M40+M66+M73 -> #REF! | N10: =+N11+N40+N66+N73 -> 0 | O10: =+O11+O40+O66+O73 -> #REF! | P10: =+P11+P40+P66+P73 -> 0 | Q10: =+F10-L10 -> #REF! | R10: =+H10-M10 -> #REF! | T10: =+J10-O10 -> #REF! | W10: =+R10+T10 -> #REF! | X10: =+Q10-W10 -> #REF! | Y10: =+R10+T10 -> #REF!
A11: I | B11: Trang thiết bị y tế | C11: =SUM(C13:C39) -> 62298 | D11: =SUM(D13:D39) -> 11773 | E11: =SUM(E13:E39) -> 50525 | F11: =SUM(F13:F39) -> 62298 | G11: =SUM(G13:G39) -> 1527056 | H11: =SUM(H13:H39) -> 11773 | I11: =SUM(I13:I39) -> 1091632 | J11: =SUM(J13:J39) -> 50527 | ... P11: =SUM(P13:P39) -> 0 | Q11: =+F11-L11 -> #REF! | R11: =+H11-M11 -> #REF! | T11: =+J11-O11 -> #REF! | W11: =+R11+T11 -> #REF! | X11: =+Q11-W11 -> #REF!
B12: Trang thiết bị điều trị | W12: =+R12+T12 -> 0 | X12: =+Q12-W12 -> 0
A13: 1 | B13: Máy thở chức năng cao | C13: =+D13+E13 -> 2094 | D13: 2094 | F13: ='TH vien tro + trong nước'!E9 -> 2094 | G13: ='TH vien tro + trong nước'!F9 -> 140332 | H13: 2094 | I13: 140332 | L13: =+'Tong hop phan bo'!H11 -> #REF! | M13: =+#REF! -> #REF! | Q13: =+F13-L13 -> #REF! | R13: =+H13-M13 -> #REF! | T13: =+J13-O13 -> 0 | W13: =+R13+T13 -> #REF! | X13: =+Q13-W13 -> #REF!
A14: =+A13+1 -> 2 | B14: Máy thở thông thường | C14: =+D14+E14 -> 4904 | D14: 4512 | E14: 392 | F14: ='TH vien tro + trong nước'!E10 -> 4904 | G14: ='TH vien tro + trong nước'!F10 -> 614448 | H14: 4512 | I14: 454700 | J14: 392 | K14: 159748 | L14: =+'Tong hop phan bo'!G11 -> #REF! | M14: =+#REF! -> #REF! | O14: =+#REF! -> #REF! | Q14: =+F14-L14 -> #REF! | R14: =+H14-M14 -> #REF! | T14: =+J14-O14 -> #REF! | W14: =+R14+T14 -> #REF! | X14: =+Q14-W14 -> #REF!
A15: =+A14+1 -> 3 | B15: Máy tạo Oxy dòng cao HFNC và vật tư đi kèm | C15: =+D15+E15 -> 2187 | D15: 2100 | E15: 87 | F15: ='TH vien tro + trong nước'!E11 -> 2187 | G15: ='TH vien tro + trong nước'!F11 -> 150782 | H15: 2100 | I15: 146000 | J15: 87 | K15: 4782 | L15: =+'Tong hop phan bo'!I11+'Tong hop phan bo'!R11 -> #REF! | M15: =+#REF! -> #REF! | O15: =+#REF! -> #REF! | Q15: =+F15-L15 -> #REF! | R15: =+H15-M15 -> #REF! | T15: =+J15-O15 -> #REF! | W15: =+R15+T15 -> #REF! | X15: =+Q15-W15 -> #REF!
A16: =+A15+1 -> 4 | B16: Monitor theo dõi bệnh nhân | C16: =+D16+E16 -> 951 | D16: 530 | E16: 421 | F16: ='TH vien tro + trong nước'!E12 -> 951 | G16: ='TH vien tro + trong nước'!F12 -> 16498 | H16: 530 | J16: 421 | K16: 16498 | L16: =+'Tong hop phan bo'!Q11 -> #REF! | O16: =+#REF! -> #REF! | Q16: =+F16-L16 -> #REF! | R16: =+H16-M16 -> 530 | T16: =+J16-O16 -> #REF! | W16: =+R16+T16 -> #REF! | X16: =+Q16-W16 -> #REF!
A17: =+A16+1 -> 5 | B17: Hệ thống oxy | C17: =+D17+E17 -> 4 | E17: 4 | F17: ='TH vien tro + trong nước'!E13 -> 4 | G17: ='TH vien tro + trong nước'!F13 -> 715 | J17: 4 | K17: 715 | L17: =+'Tong hop phan bo'!P11 -> #REF! | O17: =+#REF! -> #REF! | Q17: =+F17-L17 -> #REF! | R17: =+H17-M17 -> 0 | T17: =+J17-O17 -> #REF! | W17: =+R17+T17 -> #REF! | X17: =+Q17-W17 -> #REF!
A18: =+A17+1 -> 6 | B18: Hệ thống máy tuần hoàn ECMO | C18: =+D18+E18 -> 1 | E18: 1 | F18: ='TH vien tro + trong nước'!E14 -> 1 | G18: ='TH vien tro + trong nước'!F14 -> 8399 | J18: 1 | K18: 8399 | L18: =+'Tong hop phan bo'!O11 -> #REF! | O18: =+#REF! -> #REF! | Q18: =+F18-L18 -> #REF! | R18: =+H18-M18 -> 0 | T18: =+J18-O18 -> #REF! | W18: =+R18+T18 -> #REF! | X18: =+Q18-W18 -> #REF!
A19: =+A18+1 -> 7 | B19: Bơm tiêm điện | C19: =+D19+E19 -> 110 | D19: 10 | E19: 100 | F19: ='TH vien tro + trong nước'!E15 -> 110 | G19: ='TH vien tro + trong nước'!F15 -> 1629 | H19: 10 | J19: 100 | K19: 1629 | L19: =+'Tong hop phan bo'!T11 -> #REF! | O19: =+#REF! -> #REF! | Q19: =+F19-L19 -> #REF! | R19: =+H19-M19 -> 10 | T19: =+J19-O19 -> #REF! | W19: =+R19+T19 -> #REF! | X19: =+Q19-W19 -> #REF!
A20: =+A19+1 -> 8 | B20: Bơm khối | C20: =+D20+E20 -> 267 | E20: 267 | F20: ='TH vien tro + trong nước'!E16 -> 267 | G20: ='TH vien tro + trong nước'!F16 -> 0 | J20: 267 | L20: =+'Tong hop phan bo'!U11 -> #REF! | O20: =+#REF! -> #REF! | R20: =+H20-M20 -> 0 | T20: =+J20-O20 -> #REF! | W20: =+R20+T20 -> #REF! | X20: =+Q20-W20 -> #REF!
A21: =+A20+1 -> 9 | B21: Máy tạo Oxy | C21: =+D21+E21 -> 2054 | E21: 2054 | F21: ='TH vien tro + trong nước'!E17 -> 2054 | G21: ='TH vien tro + trong nước'!F17 -> 80100 | J21: 2054 | K21: 80100 | L21: =+'Tong hop phan bo'!S11 -> #REF! | O21: =+#REF! -> #REF! | Q21: =+F21-L21 -> #REF! | R21: =+H21-M21 -> 0 | T21: =+J21-O21 -> #REF! | W21: =+R21+T21 -> #REF! | X21: =+Q21-W21 -> #REF!
A22: =+A21+1 -> 10 | B22: Máy đo độ bão hòa oxy trong máu | C22: =+D22+E22 -> 21100 | E22: 21100 | F22: ='TH vien tro + trong nước'!E18 -> 21100 | G22: ='TH vien tro + trong nước'!F18 -> 5684 | J22: 21100 | K22: 5684 | Q22: =+F22-L22 -> 21100 | R22: =+H22-M22 -> 0 | T22: =+J22-O22 -> 21100 | W22: =+R22+T22 -> 21100 | X22: =+Q22-W22 -> 0
A23: =+A22+1 -> 11 | B23: Giường bệnh | C23: =+D23+E23 -> 200 | E23: 200 | F23: ='TH vien tro + trong nước'!E19 -> 200 | G23: ='TH vien tro + trong nước'!F19 -> 0 | J23: 200 | Q23: =+F23-L23 -> 200 | R23: =+H23-M23 -> 0 | T23: =+J23-O23 -> 200 | W23: =+R23+T23 -> 200 | X23: =+Q23-W23 -> 0
A24: =+A23+1 -> 12 | B24: Máy theo dõi nhịp tim | C24: =+D24+E24 -> 50 | E24: 50 | F24: ='TH vien tro + trong nước'!E20 -> 50 | G24: ='TH vien tro + trong nước'!F20 -> 4224 | J24: 50 | K24: 4224 | L24: =+'Tong hop phan bo'!V11 -> #REF! | O24: =+#REF! -> #REF! | Q24: =+F24-L24 -> #REF! | R24: =+H24-M24 -> 0 | T24: =+J24-O24 -> #REF! | W24: =+R24+T24 -> #REF! | X24: =+Q24-W24 -> #REF!
A25: =+A24+1 -> 13 | B25: Khí dung | C25: =+D25+E25 -> 12 | E25: 12 | F25: ='TH vien tro + trong nước'!E21 -> 12 | G25: ='TH vien tro + trong nước'!F21 -> 0 | J25: 12 | Q25: =+F25-L25 -> 12 | R25: =+H25-M25 -> 0 | T25: =+J25-O25 -> 12 | W25: =+R25+T25 -> 12 | X25: =+Q25-W25 -> 0
A26: =+A25+1 -> 14 | B26: Máy đo huyết áp | C26: =+D26+E26 -> 20 | E26: 20 | F26: ='TH vien tro + trong nước'!E22 -> 20 | G26: ='TH vien tro + trong nước'!F22 -> 0 | J26: 20 | Q26: =+F26-L26 -> 20 | R26: =+H26-M26 -> 0 | T26: =+J26-O26 -> 20 | W26: =+R26+T26 -> 20 | X26: =+Q26-W26 -> 0
A27: =+A26+1 -> 15 | B27: Phế dung kế | C27: =+D27+E27 -> 25 | E27: 25 | F27: ='TH vien tro + trong nước'!E23 -> 25 | G27: ='TH vien tro + trong nước'!F23 -> 0 | J27: 25 | Q27: =+F27-L27 -> 25 | R27: =+H27-M27 -> 0 | T27: =+J27-O27 -> 25 | W27: =+R27+T27 -> 25 | X27: =+Q27-W27 -> 0
A28: =+A27+1 -> 16 | B28: Kít 24 giờ | C28: =+D28+E28 -> 10 | E28: 10 | F28: ='TH vien tro + trong nước'!E24 -> 10 | G28: ='TH vien tro + trong nước'!F24 -> 0 | J28: 10 | Q28: =+F28-L28 -> 10 | R28: =+H28-M28 -> 0 | T28: =+J28-O28 -> 10 | W28: =+R28+T28 -> 10 | X28: =+Q28-W28 -> 0
B29: Trang thiết bị xét nghiệm | C29: =+D29+E29 -> 0 | W29: =+R29+T29 -> 0 | X29: =+Q29-W29 -> 0
A30: =+A28+1 -> 17 | B30: Hệ thống Realtime PCR | C30: =+D30+E30 -> 106 | D30: 100 | E30: 6 | F30: ='TH vien tro + trong nước'!E26 -> 106 | G30: ='TH vien tro + trong nước'!F26 -> 124289 | H30: 100 | I30: 120000 | J30: 6 | K30: 4289 | L30: =+'Tong hop phan bo'!J11 -> #REF! | M30: =+#REF! -> #REF! | O30: =+#REF! -> #REF! | Q30: =+F30-L30 -> #REF! | R30: =+H30-M30 -> #REF! | T30: =+J30-O30 -> #REF! | W30: =+R30+T30 -> #REF! | X30: =+Q30-W30 -> #REF!
A31: =+A30+1 -> 18 | B31: Máy tách chiết tự động | C31: =+D31+E31 -> 67 | D31: 63 | E31: 4 | F31: ='TH vien tro + trong nước'!E27 -> 67 | G31: ='TH vien tro + trong nước'!F27 -> 5718 | H31: 63 | J31: 6 | K31: 5718 | L31: =+'Tong hop phan bo'!K11 -> #REF! | M31: =+#REF! -> #REF! | O31: =+#REF! -> #REF! | Q31: =+F31-L31 -> #REF! | R31: =+H31-M31 -> #REF! | T31: =+J31-O31 -> #REF! | W31: =+R31+T31 -> #REF! | X31: =+Q31-W31 -> #REF!
A32: =+A31+1 -> 19 | B32: Máy chiết xuất axit nuclecic | C32: =+D32+E32 -> 23040 | E32: 23040 | F32: =+H32+J32 -> 23040 | G32: ='TH vien tro + trong nước'!F28 -> 0 | J32: 23040 | Q32: =+F32-L32 -> 23040 | R32: =+H32-M32 -> 0 | T32: =+J32-O32 -> 23040 | W32: =+R32+T32 -> 23040 | X32: =+Q32-W32 -> 0
A33: =+A32+1 -> 20 | B33: Xe xét nghiệm lưu động (*) | C33: =+D33+E33 -> 20 | D33: 20 | F33: ='TH vien tro + trong nước'!E29 -> 20 | G33: ='TH vien tro + trong nước'!F29 -> 200000 | H33: 20 | I33: 200000 | L33: =+M33+O33 -> 20 | M33: 20 | Q33: =+F33-L33 -> 0 | R33: =+H33-M33 -> 0 | T33: =+J33-O33 -> 0 | W33: =+R33+T33 -> 0 | X33: =+Q33-W33 -> 0
B34: Trang thiết bị phục vụ tiêm chủng | C34: =+D34+E34 -> 0 | W34: =+R34+T34 -> 0 | X34: =+Q34-W34 -> 0
A35: =+A33+1 -> 21 | B35: Tủ lạnh -< 75 độ C | C35: =+D35+E35 -> 108 | D35: 23 | E35: 85 | F35: ='TH vien tro + trong nước'!E31 -> 108 | G35: ='TH vien tro + trong nước'!F31 -> 33812 | H35: 23 | I35: 5600 | J35: 85 | K35: 28212 | L35: =+'Tong hop phan bo'!N11 -> #REF! | O35: =+#REF! -> #REF! | Q35: =+F35-L35 -> #REF! | R35: =+H35-M35 -> 23 | T35: =+J35-O35 -> #REF! | W35: =+R35+T35 -> #REF! | X35: =+Q35-W35 -> #REF!
A36: =+A35+1 -> 22 | B36: Xe ô tô tải lạnh Mishubishi | C36: =+D36+E36 -> 5 | E36: 5 | F36: ='TH vien tro + trong nước'!E32 -> 5 | G36: ='TH vien tro + trong nước'!F32 -> 11315 | J36: 5 | K36: 11315 | Q36: =+F36-L36 -> 5 | R36: =+H36-M36 -> 0 | T36: =+J36-O36 -> 5 | W36: =+R36+T36 -> 5 | X36: =+Q36-W36 -> 0
A37: =+A36+1 -> 23 | B37: Xe tải phục vụ vận chuyển vắc xin (**) | C37: =+D37+E37 -> 63 | D37: 63 | F37: ='TH vien tro + trong nước'!E33 -> 63 | G37: ='TH vien tro + trong nước'!F33 -> 0 | H37: 63 | L37: =+M37+O37 -> 63 | M37: 63 | Q37: =+F37-L37 -> 0 | R37: =+H37-M37 -> 0 | T37: =+J37-O37 -> 0 | W37: =+R37+T37 -> 0 | X37: =+Q37-W37 -> 0
A38: =+A37+1 -> 24 | B38: Xe phục vụ tiêm chủng lưu động | C38: =+D38+E38 -> 63 | D38: 63 | F38: ='TH vien tro + trong nước'!E34 -> 63 | G38: ='TH vien tro + trong nước'!F34 -> 0 | H38: 63 | L38: =+'Tong hop phan bo'!L11 -> #REF! | M38: =+#REF! -> #REF! | Q38: =+F38-L38 -> #REF! | R38: =+H38-M38 -> #REF! | T38: =+J38-O38 -> 0 | W38: =+R38+T38 -> #REF! | X38: =+Q38-W38 -> #REF!
A39: =+A38+1 -> 25 | B39: Tủ lạnh | C39: =+D39+E39 -> 4837 | D39: 2195 | E39: 2642 | F39: ='TH vien tro + trong nước'!E35 -> 4837 | G39: ='TH vien tro + trong nước'!F35 -> 129111 | H39: 2195 | I39: 25000 | J39: 2642 | K39: 104111 | L39: =+'Tong hop phan bo'!M11 -> #REF! | M39: =+#REF! -> #REF! | O39: =+#REF! -> #REF! | Q39: =+F39-L39 -> #REF! | R39: =+H39-M39 -> #REF! | T39: =+J39-O39 -> #REF! | W39: =+R39+T39 -> #REF! | X39: =+Q39-W39 -> #REF!
A40: II | B40: Vật tư | C40: =SUM(C42:C65) -> 286163095 | D40: =SUM(D42:D65) -> 203937800 | E40: =SUM(E42:E65) -> 82225295 | F40: =SUM(F42:F65) -> 286163095 | G40: =SUM(G42:G65) -> 449158 | H40: =SUM(H42:H65) -> 203937800 | I40: =SUM(I42:I65) -> 185188 | J40: =SUM(J42:J65) -> 82225295 | ... Q40: =SUM(Q42:Q65) -> #REF! | R40: =+H40-M40 -> #REF! | T40: =+J40-O40 -> #REF! | W40: =+R40+T40 -> #REF! | X40: =+Q40-W40 -> #REF!
B41: Phục vụ tiêm vắc xin phòng COVID19 | W41: =+R41+T41 -> 0 | X41: =+Q41-W41 -> 0
A42: 1 | B42: Hộp an toàn (***) | C42: =+D42+E42 -> 1822150 | D42: 800000 | E42: 1022150 | F42: ='TH vien tro + trong nước'!E38 -> 1822150 | G42: ='TH vien tro + trong nước'!F38 -> 0 | H42: 800000 | J42: 1022150 | Q42: =+F42-L42 -> 1822150 | R42: =+H42-M42 -> 800000 | T42: =+J42-O42 -> 1022150 | W42: =+R42+T42 -> 1822150 | X42: =+Q42-W42 -> 0
A43: =+A42+1 -> 2 | B43: Bơm Kim tiêm (***) | C43: =+D43+E43 -> 225110300 | D43: 156500000 | E43: 68610300 | F43: ='TH vien tro + trong nước'!E39 -> 225110300 | G43: ='TH vien tro + trong nước'!F39 -> 124298 | H43: 156500000 | I43: 120000 | J43: 68610300 | K43: 4298 | Q43: =+F43-L43 -> 225110300 | R43: =+H43-M43 -> 156500000 | T43: =+J43-O43 -> 68610300 | W43: =+R43+T43 -> 225110300 | X43: =+Q43-W43 -> 0
A44: =+A43+1 -> 3 | B44: Ống thuốc dung môi tiêm vacxin (***) | C44: =+D44+E44 -> 9700000 | D44: 9700000 | F44: ='TH vien tro + trong nước'!E40 -> 9700000 | G44: ='TH vien tro + trong nước'!F40 -> 0 | H44: 9700000 | Q44: =+F44-L44 -> 9700000 | R44: =+H44-M44 -> 9700000 | T44: =+J44-O44 -> 0 | W44: =+R44+T44 -> 9700000 | X44: =+Q44-W44 -> 0
A45: =+A44+1 -> 4 | B45: Hòm lạnh kèm thiết bị theo dõi nhiệt độ | C45: =+D45+E45 -> 1600 | E45: 1600 | F45: ='TH vien tro + trong nước'!E41 -> 1600 | G45: ='TH vien tro + trong nước'!F41 -> 20482 | J45: 1600 | K45: 20482 | Q45: =+F45-L45 -> 1600 | R45: =+H45-M45 -> 0 | T45: =+J45-O45 -> 1600 | W45: =+R45+T45 -> 1600 | X45: =+Q45-W45 -> 0
B46: Phục vụ xét nghiệm | C46: =+D46+E46 -> 0 | F46: =+'TH vien tro + trong nước'!E42 -> 0 | G46: =+'TH vien tro + trong nước'!F42 -> 0 | Q46: =+F46-L46 -> 0 | R46: =+H46-M46 -> 0 | T46: =+J46-O46 -> 0 | W46: =+R46+T46 -> 0 | X46: =+Q46-W46 -> 0
A47: =+A45+1 -> 5 | B47: Ống lấy mẫu bệnh phẩm (spectimen Collection): | C47: =+D47+E47 -> 300000 | E47: 300000 | F47: ='TH vien tro + trong nước'!E43 -> 300000 | G47: ='TH vien tro + trong nước'!F43 -> 10924 | J47: 300000 | K47: 10924 | Q47: =+F47-L47 -> 300000 | R47: =+H47-M47 -> 0 | T47: =+J47-O47 -> 300000 | W47: =+R47+T47 -> 300000 | X47: =+Q47-W47 -> 0
B48: Trang bị phòng hộ và điều trị | C48: =+D48+E48 -> 0 | W48: =+R48+T48 -> 0 | X48: =+Q48-W48 -> 0
A49: =+A47+1 -> 6 | B49: Kính bảo vệ mắt | C49: =+D49+E49 -> 5000 | E49: 5000 | F49: ='TH vien tro + trong nước'!E45 -> 5000 | G49: ='TH vien tro + trong nước'!F45 -> 761 | J49: 5000 | K49: 761 | Q49: =+F49-L49 -> 5000 | R49: =+H49-M49 -> 0 | T49: =+J49-O49 -> 5000 | W49: =+R49+T49 -> 5000 | X49: =+Q49-W49 -> 0
A50: =+A49+1 -> 7 | B50: Kính chống giọt bắn | C50: =+D50+E50 -> 247475 | E50: 247475 | F50: ='TH vien tro + trong nước'!E46 -> 247475 | G50: ='TH vien tro + trong nước'!F46 -> 11753 | J50: 247475 | K50: 11753 | L50: =+'Tong hop phan bo'!AL11 -> #REF! | O50: =+#REF! -> #REF! | Q50: =+F50-L50 -> #REF! | R50: =+H50-M50 -> 0 | T50: =+J50-O50 -> #REF! | W50: =+R50+T50 -> #REF! | X50: =+Q50-W50 -> #REF!
A51: =+A50+1 -> 8 | B51: Dây truyền dịch (kim tiêm điện) | C51: =+D51+E51 -> 0 | F51: ='TH vien tro + trong nước'!E47 -> 0 | G51: ='TH vien tro + trong nước'!F47 -> 0 | Q51: =+F51-L51 -> 0 | R51: =+H51-M51 -> 0 | T51: =+J51-O51 -> 0 | W51: =+R51+T51 -> 0 | X51: =+Q51-W51 -> 0
A52: =+A51+1 -> 9 | B52: Găng tay phẫu thuật | C52: =+D52+E52 -> 4500 | E52: 4500 | F52: ='TH vien tro + trong nước'!E48 -> 4500 | G52: ='TH vien tro + trong nước'!F48 -> 0 | J52: 4500 | Q52: =+F52-L52 -> 4500 | R52: =+H52-M52 -> 0 | T52: =+J52-O52 -> 4500 | W52: =+R52+T52 -> 4500 | X52: =+Q52-W52 -> 0
A53: =+A52+1 -> 10 | B53: Găng tay y tế | C53: =+D53+E53 -> 1163400 | E53: 1163400 | F53: ='TH vien tro + trong nước'!E49 -> 1163400 | G53: ='TH vien tro + trong nước'!F49 -> 1357 | J53: 1163400 | K53: 1357 | L53: =+'Tong hop phan bo'!AM11 -> #REF! | O53: =+#REF! -> #REF! | Q53: =+F53-L53 -> #REF! | R53: =+H53-M53 -> 0 | T53: =+J53-O53 -> #REF! | W53: =+R53+T53 -> #REF! | X53: =+Q53-W53 -> #REF!
A54: =+A53+1 -> 11 | B54: Trang phục bảo hộ Y tế | C54: =+D54+E54 -> 962080 | D54: 427400 | E54: 534680 | F54: =+H54+J54 -> 962080 | G54: ='TH vien tro + trong nước'!F50 -> 116931 | H54: 427400 | I54: 31300 | J54: 534680 | K54: 85631 | L54: =+'Tong hop phan bo'!AF11+'Tong hop phan bo'!AG11+'Tong hop phan bo'!AH11 -> #REF! | M54: =+#REF!+#REF! -> #REF! | O54: =+#REF! -> #REF! | Q54: =+F54-L54 -> #REF! | R54: =+H54-M54 -> #REF! | T54: =+J54-O54 -> #REF! | W54: =+R54+T54 -> #REF! | X54: =+Q54-W54 -> #REF!
A55: =+A54+1 -> 12 | B55: Khẩu trang N95 + FFP2 | C55: =+D55+E55 -> 8845800 | D55: 2290400 | E55: 6555400 | F55: ='TH vien tro + trong nước'!E51 -> 8845800 | G55: ='TH vien tro + trong nước'!F51 -> 94964 | H55: 2290400 | I55: 5400 | J55: 6555400 | K55: 89564 | L55: =+'Tong hop phan bo'!AD11 -> #REF! | M55: =+#REF! -> #REF! | O55: =+#REF! -> #REF! | Q55: =+F55-L55 -> #REF! | R55: =+H55-M55 -> #REF! | T55: =+J55-O55 -> #REF! | W55: =+R55+T55 -> #REF! | X55: =+Q55-W55 -> #REF!
A56: =+A55+1 -> 13 | B56: Khẩu trang phẫu thuật + KN95 | C56: =+D56+E56 -> 1923250 | E56: 1923250 | F56: ='TH vien tro + trong nước'!E52 -> 1923250 | G56: ='TH vien tro + trong nước'!F52 -> 9912 | J56: 1923250 | K56: 9912 | L56: =+'Tong hop phan bo'!AE11 -> #REF! | O56: =+#REF! -> #REF! | Q56: =+F56-L56 -> #REF! | R56: =+H56-M56 -> 0 | T56: =+J56-O56 -> #REF! | W56: =+R56+T56 -> #REF! | X56: =+Q56-W56 -> #REF!
A57: =+A56+1 -> 14 | B57: Khẩu trang y tế/Khẩu trang bảo hộ | C57: =+D57+E57 -> 35290020 | D57: 34220000 | E57: 1070020 | F57: ='TH vien tro + trong nước'!E53 -> 35290020 | G57: ='TH vien tro + trong nước'!F53 -> 38071 | H57: 34220000 | I57: 28488 | J57: 1070020 | K57: 9583 | L57: =+'Tong hop phan bo'!AC11 -> #REF! | M57: =+#REF! -> #REF! | O57: =+#REF! -> #REF! | Q57: =+F57-L57 -> #REF! | R57: =+H57-M57 -> #REF! | T57: =+J57-O57 -> #REF! | W57: =+R57+T57 -> #REF! | X57: =+Q57-W57 -> #REF!
A58: =+A57+1 -> 15 | B58: Cồn sát khuẩn | C58: =+D58+E58 -> 257460 | E58: 257460 | F58: ='TH vien tro + trong nước'!E54 -> 257460 | G58: ='TH vien tro + trong nước'!F54 -> 19250 | J58: 257460 | K58: 19250 | Q58: =+F58-L58 -> 257460 | R58: =+H58-M58 -> 0 | T58: =+J58-O58 -> 257460 | W58: =+R58+T58 -> 257460 | X58: =+Q58-W58 -> 0
A59: =+A58+1 -> 16 | B59: Oxy y tế dạng lỏng | C59: =+D59+E59 -> 100 | E59: 100 | F59: ='TH vien tro + trong nước'!E55 -> 100 | G59: ='TH vien tro + trong nước'!F55 -> 455 | J59: 100 | K59: 455 | L59: =+'Tong hop phan bo'!AK11 -> #REF! | O59: =+#REF! -> #REF! | Q59: =+F59-L59 -> #REF! | R59: =+H59-M59 -> 0 | T59: =+J59-O59 -> #REF! | W59: =+R59+T59 -> #REF! | X59: =+Q59-W59 -> #REF!
A60: =+A59+1 -> 17 | B60: Gạc mũi họng 150mm | C60: =+D60+E60 -> 500000 | E60: 500000 | F60: ='TH vien tro + trong nước'!E56 -> 500000 | G60: ='TH vien tro + trong nước'!F56 -> 0 | J60: 500000 | Q60: =+F60-L60 -> 500000 | R60: =+H60-M60 -> 0 | T60: =+J60-O60 -> 500000 | W60: =+R60+T60 -> 500000 | X60: =+Q60-W60 -> 0
A61: =+A60+1 -> 18 | B61: Nhiệt kế | C61: =+D61+E61 -> 10400 | E61: 10400 | F61: ='TH vien tro + trong nước'!E57 -> 10400 | G61: ='TH vien tro + trong nước'!F57 -> 0 | J61: 10400 | Q61: =+F61-L61 -> 10400 | R61: =+H61-M61 -> 0 | T61: =+J61-O61 -> 10400 | W61: =+R61+T61 -> 10400 | X61: =+Q61-W61 -> 0
A62: =+A61+1 -> 19 | B62: Kem dưỡng ẩm | C62: =+D62+E62 -> 12000 | E62: 12000 | F62: ='TH vien tro + trong nước'!E58 -> 12000 | G62: ='TH vien tro + trong nước'!F58 -> 0 | J62: 12000 | K62: 0 | Q62: =+F62-L62 -> 12000 | R62: =+H62-M62 -> 0 | T62: =+J62-O62 -> 12000 | W62: =+R62+T62 -> 12000 | X62: =+Q62-W62 -> 0
A63: =+A62+1 -> 20 | B63: Mặt nạ các loại | C63: =+D63+E63 -> 210 | E63: 210 | F63: ='TH vien tro + trong nước'!E59 -> 210 | G63: ='TH vien tro + trong nước'!F59 -> 0 | J63: 210 | Q63: =+F63-L63 -> 210 | R63: =+H63-M63 -> 0 | T63: =+J63-O63 -> 210 | W63: =+R63+T63 -> 210 | X63: =+Q63-W63 -> 0
A64: =+A63+1 -> 21 | B64: Bóng thở | C64: =+D64+E64 -> 150 | E64: 150 | F64: ='TH vien tro + trong nước'!E60 -> 150 | G64: ='TH vien tro + trong nước'!F60 -> 0 | J64: 150 | Q64: =+F64-L64 -> 150 | R64: =+H64-M64 -> 0 | T64: =+J64-O64 -> 150 | W64: =+R64+T64 -> 150 | X64: =+Q64-W64 -> 0
A65: =+A64+1 -> 22 | B65: Phin lọc máy thở | C65: =+D65+E65 -> 7200 | E65: 7200 | F65: ='TH vien tro + trong nước'!E61 -> 7200 | G65: ='TH vien tro + trong nước'!F61 -> 0 | J65: 7200 | Q65: =+F65-L65 -> 7200 | R65: =+H65-M65 -> 0 | T65: =+J65-O65 -> 7200 | W65: =+R65+T65 -> 7200 | X65: =+Q65-W65 -> 0
A66: III | B66: Sinh phẩm | C66: =SUM(C67:C72) -> 16039415 | D66: =SUM(D67:D72) -> 12969800 | E66: =SUM(E67:E72) -> 3069615 | F66: =SUM(F67:F72) -> 16039415 | G66: =SUM(G67:G72) -> 179505 | H66: =SUM(H67:H72) -> 12969800 | I66: =SUM(I67:I72) -> 0 | J66: =SUM(J67:J72) -> 3069615 | ... Q66: =SUM(Q67:Q72) -> #REF! | R66: =+H66-M66 -> #REF! | T66: =+J66-O66 -> #REF! | W66: =+R66+T66 -> #REF! | X66: =+Q66-W66 -> #REF!
A67: 1 | B67: Bộ mồi và probe gen E (TiBMoL gen E) | C67: =+D67+E67 -> 202176 | E67: 202176 | F67: ='TH vien tro + trong nước'!E63 -> 202176 | G67: ='TH vien tro + trong nước'!F63 -> 7546 | J67: 202176 | K67: 7546 | L67: =+'Tong hop phan bo'!AJ11 -> #REF! | O67: =+#REF! -> #REF! | Q67: =+F67-L67 -> #REF! | R67: =+H67-M67 -> 0 | T67: =+J67-O67 -> #REF! | W67: =+R67+T67 -> #REF! | X67: =+Q67-W67 -> #REF!
A68: =+A67+1 -> 2 | B68: Bộ mồi và probe gen RdRp: (TiBMoL gen RdRp): | C68: =+D68+E68 -> 185184 | E68: 185184 | F68: ='TH vien tro + trong nước'!E64 -> 185184 | G68: ='TH vien tro + trong nước'!F64 -> 3877 | J68: 185184 | K68: 3877 | L68: =+'Tong hop phan bo'!AI11 -> #REF! | O68: =+#REF! -> #REF! | Q68: =+F68-L68 -> #REF! | R68: =+H68-M68 -> 0 | T68: =+J68-O68 -> #REF! | W68: =+R68+T68 -> #REF! | X68: =+Q68-W68 -> #REF!
A69: =+A68+1 -> 3 | B69: Bộ chiết xuất axit nuclecic | C69: =+D69+E69 -> 23040 | E69: 23040 | F69: ='TH vien tro + trong nước'!E65 -> 23040 | G69: ='TH vien tro + trong nước'!F65 -> 0 | J69: 23040 | Q69: =+F69-L69 -> 23040 | R69: =+H69-M69 -> 0 | T69: =+J69-O69 -> 23040 | W69: =+R69+T69 -> 23040 | X69: =+Q69-W69 -> 0
A70: =+A69+1 -> 4 | B70: Test nhanh Kháng nguyên | C70: =+D70+E70 -> 14186015 | D70: 11959800 | E70: 2226215 | F70: ='TH vien tro + trong nước'!E66 -> 14186015 | G70: ='TH vien tro + trong nước'!F66 -> 118724 | H70: 11959800 | J70: 2226215 | K70: 118724 | L70: =+'Tong hop phan bo'!E11 -> #REF! | M70: =+#REF! -> #REF! | O70: =+#REF! -> #REF! | Q70: =+F70-L70 -> #REF! | R70: =+H70-M70 -> #REF! | T70: =+J70-O70 -> #REF! | W70: =+R70+T70 -> #REF! | X70: =+Q70-W70 -> #REF!
A71: =+A70+1 -> 5 | B71: Ống w/3ml nước muối đệm Phophat 10ml | C71: =+D71+E71 -> 100000 | E71: 100000 | F71: ='TH vien tro + trong nước'!E67 -> 100000 | G71: ='TH vien tro + trong nước'!F67 -> 0 | J71: 100000 | Q71: =+F71-L71 -> 100000 | R71: =+H71-M71 -> 0 | T71: =+J71-O71 -> 100000 | W71: =+R71+T71 -> 100000 | X71: =+Q71-W71 -> 0
A72: =+A71+1 -> 6 | B72: Test dùng cho máy PCR | C72: =+D72+E72 -> 1343000 | D72: 1010000 | E72: 333000 | F72: ='TH vien tro + trong nước'!E68 -> 1343000 | G72: ='TH vien tro + trong nước'!F68 -> 49358 | H72: 1010000 | J72: 333000 | K72: 49358 | L72: =+'Tong hop phan bo'!D11 -> #REF! | M72: =+#REF! -> #REF! | O72: =+#REF! -> #REF! | Q72: =+F72-L72 -> #REF! | R72: =+H72-M72 -> #REF! | T72: =+J72-O72 -> #REF! | W72: =+R72+T72 -> #REF! | X72: =+Q72-W72 -> #REF!
A73: IV | B73: Thuốc | C73: =SUM(C74:C78) -> 29298530 | D73: =SUM(D74:D78) -> 29298530 | E73: =SUM(E74:E78) -> 0 | F73: =SUM(F74:F78) -> 22190000 | G73: =SUM(G74:G78) -> 100 | H73: =SUM(H74:H78) -> 21984299 | L73: =SUM(L74:L78) -> #REF! | M73: =SUM(M74:M78) -> #REF! | N73: =SUM(N74:N78) -> 0 | O73: =SUM(O74:O78) -> 0 | P73: =SUM(P74:P78) -> 0 | Q73: =+F73-L73 -> #REF! | R73: =+H73-M73 -> #REF! | T73: =+J73-O73 -> 0 | W73: =+R73+T73 -> #REF! | X73: =+Q73-W73 -> #REF!
A74: 1 | B74: Thuốc Remdesivir (lọ) | C74: =+D74+E74 -> 1880000 | D74: 1880000 | F74: ='TH vien tro + trong nước'!E70 -> 1880000 | G74: ='TH vien tro + trong nước'!F70 -> 0 | H74: 1674299 | L74: =+'Tong hop phan bo'!X11 -> #REF! | M74: =+#REF! -> #REF! | Q74: =+F74-L74 -> #REF! | R74: =+H74-M74 -> #REF! | T74: =+J74-O74 -> 0 | W74: =+R74+T74 -> #REF! | X74: =+Q74-W74 -> #REF!
A75: =+A74+1 -> 2 | B75: Thuốc Molnupiravir (viên) | C75: =+D75+E75 -> 22050240 | D75: 22050240 | F75: ='TH vien tro + trong nước'!E71 -> 14948000 | G75: ='TH vien tro + trong nước'!F71 -> 0 | H75: 14948000 | L75: =+M75+O75 -> 4507920 | M75: 4507920 | Q75: =+F75-L75 -> 10440080 | R75: =+H75-M75 -> 10440080 | T75: =+J75-O75 -> 0 | W75: =+R75+T75 -> 10440080 | X75: =+Q75-W75 -> 0
A76: =+A75+1 -> 3 | B76: Casirivimab và Imdevimab | C76: =+D76+E76 -> 8290 | D76: 8290 | F76: =+H76 -> 2000 | G76: ='TH vien tro + trong nước'!F72 -> 100 | H76: 2000 | I76: 100000 | L76: =+'Tong hop phan bo'!AA11 -> #REF! | M76: =+#REF! -> #REF! | Q76: =+F76-L76 -> #REF! | R76: =+H76-M76 -> #REF! | T76: =+J76-O76 -> 0 | W76: =+R76+T76 -> #REF! | X76: =+Q76-W76 -> #REF!
A77: =+A76+1 -> 4 | B77: Favipiravir | C77: =+D77+E77 -> 2000000 | D77: 2000000 | F77: ='TH vien tro + trong nước'!E73 -> 2000000 | G77: ='TH vien tro + trong nước'!F73 -> 0 | H77: 2000000 | L77: =+'Tong hop phan bo'!Z11 -> #REF! | M77: =+#REF! -> #REF! | Q77: =+F77-L77 -> #REF! | R77: =+H77-M77 -> #REF! | T77: =+J77-O77 -> 0 | W77: =+R77+T77 -> #REF! | X77: =+Q77-W77 -> #REF!
A78: =+A77+1 -> 5 | B78: Xuyên Tâm liên (viên) | C78: =+D78+E78 -> 3360000 | D78: 3360000 | F78: ='TH vien tro + trong nước'!E74 -> 3360000 | G78: ='TH vien tro + trong nước'!F74 -> 0 | H78: 3360000 | L78: =+'Tong hop phan bo'!Y11 -> #REF! | M78: =+#REF! -> #REF! | Q78: =+F78-L78 -> #REF! | R78: =+H78-M78 -> #REF! | T78: =+J78-O78 -> 0 | W78: =+R78+T78 -> #REF! | X78: =+Q78-W78 -> #REF!
B79: Ghi chú:
A80: - | B80: Một số khoản viện trợ, tài trợ nhà tài trợ không cung cấp giá trị; Bộ Y tế đang đề nghị gửi hồ sơ để xác định giá trị.
B84: Ghi chú: | F84: (*) Đã tạm giao cho các đơn vị, địa phương sử dụng
F85: (**) Đã giao cho Bộ Quốc phòng quản lý, vận hành
F86: (***) Đã phân bổ cho Viện VSDT TW

Sheet Tong hop phan bo trong nuoc
A1: BỘ Y TẾ | B1: BỘ Y TẾ | R1: PHỤ LỤC 3B
B3: TỔNG HỢP PHÂN BỔ VẬT TƯ, TEST KIT, TTB, THUỐC PHÒNG CHỐNG DỊCH COVID -19 ĐẾN 15/01/2022 NGUỒN HỖ TRỢ TRONG NƯỚC
B4: (ĐẾN NGÀY 15/01/2022)
A7: STT | B7: STT | C7: Đơn vị, địa phương được phân bổ | D7: Chia ra | AP7: Ghi chú
D8: Test xét nghiệm | E8: TEST XÉT NGHIỆM | G8: Trang thiết bị | H8: TRANG THIẾT BỊ Y TẾ | X8: Thuốc | Y8: THUỐC SẢN PHẨM HỖ TRỢ PCD | AC8: Vật tư phòng chống dịch | AD8: VẬT TƯ PHÒNG CHỐNG DỊCH
E9: Test PCR (cái) | F9: Test nhanh (cái) | H9: Máy thở các loại (cái) | I9: Máy thở chức năng cao (hệ thống) | J9: Máy thở HFNC (Hệ thống) | K9: Máy XN PCR (hệ thống) | L9: Máy tách chiết (cái) | M9: Xe tiêm lưu động (cái) | N9: Tủ lạnh (cái) | O9: Tủ lạnh -75 độ C | P9: Hệ thống máy tuần hoàn ECMO | Q9: Hệ thống Oxy | R9: Monitor theo dõi bệnh nhân | S9: Máy tạo Oxy dòng cao HFNC | T9: Máy tạo Oxy | U9: Bơm điện | V9: Bơm khối | W9: Máy theo dõi nhịp tim | Y9: Thuốc Remdesivir (lọ) | Z9: Xuyên Tâm Liên (viên) | AA9: AVIGAN (viên) | AB9: Casirivimab và Imdevimab (liều) | AD9: Khẩu trang y tế (cái) | AE9: Khẩu trang N95 và tương đương (cái) | AF9: Khẩu trang phẫu thuật + KN95 (cái) | AG9: Bộ trang phục chống dịch cấp độ 2-3 (cái) | AH9: Bộ trang phục chống dịch cấp độ 4 (cái) | AI9: Trang phục bảo hộ Y tế | AJ9: Bộ mồi và probe gen RdRp: (TiBMoL gen RdRp) | AK9: Bộ mồi và probe gen E (TiBMoL gen E) | AL9: Oxy y tế dạng lỏng | AM9: Kính chống giọt bắn | AN9: Găng tay y tế
A10: A | B10: A | C10: B | D10: 1=2+3 | E10: 2 | F10: 3 | G10: 4=5+...+20 | H10: 5 | I10: 6 | J10: 7 | K10: 8 | L10: 9 | M10: 10 | N10: 11 | O10: 12 | P10: 13 | Q10: 14 | R10: 15 | S10: 16 | T10: 17 | U10: 18 | V10: 19 | W10: 20 | X10: 21=22+...+25 | Y10: 22 | Z10: 23 | AA10: 24 | AB10: 25 | AC10: 26=27+…+ 37 | AD10: 27 | AE10: 28 | AF10: 29 | AG10: 30 | AH10: 31 | AI10: 32 | AJ10: 33 | AK10: 34 | AL10: 35 | AM10: 36 | AN10: 37 | AP10: 38 | AQ10: =+AQ11-#REF! -> #REF!
C11: Tổng số đã phân bổ | D11: =+D12+D57+D121 -> #REF! | E11: =+E12+E57+E121 -> #REF! | F11: =+F12+F57+F121 -> #REF! | G11: =+G12+G57+G121 -> #REF! | H11: =+H12+H57+H121 -> #REF! | I11: =+I12+I57+I121 -> #REF! | J11: =+J12+J57+J121 -> #REF! | K11: =+K12+K57+K121 -> #REF! | ... AN11: =+AN12+AN57+AN121 -> 0 | AQ11: =SUM(D11:AN11)-D11-G11-X11-AC11 -> #REF! | AR11: =+AQ11-#REF! -> #REF!
A12: I | B12: I | C12: Bộ và các cơ quan khác | D12: =SUM(D13:D56)-D13 -> #REF! | E12: =SUM(E13:E56)-E13 -> #REF! | F12: =SUM(F13:F56)-F13 -> #REF! | G12: =SUM(G13:G56)-G13 -> #REF! | H12: =SUM(H13:H56)-H13 -> 0 | I12: =SUM(I13:I56)-I13 -> #REF! | J12: =SUM(J13:J56)-J13 -> #REF! | K12: =SUM(K13:K56)-K13 -> #REF! | ... AN12: =SUM(AN13:AN56)-AN13 -> 0 | AQ12: =SUM(D12:AN12)-D12-G12-X12-AC12 -> #REF! | AR12: =+AQ12-#REF! -> #REF!
A13: 1 | B13: 1 | C13: Bộ Quốc phòng | D13: =SUM(E13:F13) -> #REF! | E13: =+#REF! -> #REF! | F13: =+#REF! -> #REF! | G13: =SUM(H13:W13) -> #REF! | H13: =+'[1]Xuat TTB cac nguon'!D7 -> 60 | I13: =+#REF! -> #REF! | J13: =+#REF! -> #REF! | K13: =+#REF! -> #REF! | L13: =+#REF! -> #REF! | M13: =+#REF! -> #REF! | N13: =+#REF! -> #REF! | O13: =+#REF! -> #REF! | P13: =+#REF! -> #REF! | ... W13: =+#REF! -> #REF! | X13: =SUM(Y13:AB13) -> #REF! | Y13: =+#REF! -> #REF! | Z13: =+#REF! -> #REF! | AA13: =+#REF! -> #REF! | AB13: =+#REF! -> #REF! | AC13: =SUM(AD13:AN13) -> #REF! | AD13: =+#REF! -> #REF! | AE13: =+#REF! -> #REF! | AF13: =+#REF! -> #REF! | AG13: =+#REF! -> #REF! | AH13: =+#REF! -> #REF! | AQ13: =SUM(D13:AN13)-D13-G13-X13-AC13 -> #REF! | AR13: =+AQ13-#REF! -> #REF!
A14: 1.1 | B14: 1.1 | C14: Cục Quân Y - Bộ Quốc phòng | D14: =SUM(E14:F14) -> #REF! | E14: =+#REF! -> #REF! | F14: =+#REF! -> #REF! | G14: =SUM(H14:W14) -> #REF! | H14: =+'[1]Xuat TTB cac nguon'!D8 -> 0 | I14: =+#REF! -> #REF! | J14: =+#REF! -> #REF! | K14: =+#REF! -> #REF! | L14: =+#REF! -> #REF! | M14: =+#REF! -> #REF! | N14: =+#REF! -> #REF! | O14: =+#REF! -> #REF! | P14: =+#REF! -> #REF! | ... W14: =+#REF! -> #REF! | X14: =SUM(Y14:AB14) -> #REF! | Y14: =+'PL2. Tổng hợp SL cấp Remdesivir'!C47 -> 3860 | Z14: =+#REF! -> #REF! | AA14: =+#REF! -> #REF! | AB14: =+#REF! -> #REF! | AC14: =SUM(AD14:AN14) -> #REF! | AD14: =+#REF! -> #REF! | AE14: =+#REF! -> #REF! | AF14: =+#REF! -> #REF! | AG14: =+#REF! -> #REF! | AH14: =+#REF! -> #REF! | AQ14: =SUM(D14:AN14)-D14-G14-X14-AC14 -> #REF! | AR14: =+AQ14-#REF! -> #REF!
A15: 1.2 | B15: 1.2 | C15: Bệnh viện 103 | D15: =SUM(E15:F15) -> #REF! | E15: =+#REF! -> #REF! | F15: =+#REF! -> #REF! | G15: =SUM(H15:W15) -> #REF! | H15: =+'[1]Xuat TTB cac nguon'!D9 -> 0 | I15: =+#REF! -> #REF! | J15: =+#REF! -> #REF! | K15: =+#REF! -> #REF! | L15: =+#REF! -> #REF! | M15: =+#REF! -> #REF! | N15: =+#REF! -> #REF! | O15: =+#REF! -> #REF! | P15: =+#REF! -> #REF! | ... W15: =+#REF! -> #REF! | X15: =SUM(Y15:AB15) -> #REF! | Y15: =+#REF! -> #REF! | Z15: =+#REF! -> #REF! | AA15: =+#REF! -> #REF! | AB15: =+#REF! -> #REF! | AC15: =SUM(AD15:AN15) -> #REF! | AD15: =+#REF! -> #REF! | AE15: =+#REF! -> #REF! | AF15: =+#REF! -> #REF! | AG15: =+#REF! -> #REF! | AH15: =+#REF! -> #REF! | AQ15: =SUM(D15:AN15)-D15-G15-X15-AC15 -> #REF! | AR15: =+AQ15-#REF! -> #REF!
A16: 1.3 | B16: 1.3 | C16: Bệnh viện 108 | D16: =SUM(E16:F16) -> #REF! | E16: =+#REF! -> #REF! | F16: =+#REF! -> #REF! | G16: =SUM(H16:W16) -> #REF! | H16: =+'[1]Xuat TTB cac nguon'!D10 -> 0 | I16: =+#REF! -> #REF! | J16: =+#REF! -> #REF! | K16: =+#REF! -> #REF! | L16: =+#REF! -> #REF! | M16: =+#REF! -> #REF! | N16: =+#REF! -> #REF! | O16: =+#REF! -> #REF! | P16: =+#REF! -> #REF! | ... W16: =+#REF! -> #REF! | X16: =SUM(Y16:AB16) -> #REF! | Y16: =+'PL2. Tổng hợp SL cấp Remdesivir'!C51 -> 600 | Z16: =+#REF! -> #REF! | AA16: =+#REF! -> #REF! | AB16: =+'PL1. Tổng hợp SL cấp kháng thể'!C47 -> 90 | AC16: =SUM(AD16:AN16) -> #REF! | AD16: =+#REF! -> #REF! | AE16: =+#REF! -> #REF! | AF16: =+#REF! -> #REF! | AG16: =+#REF! -> #REF! | AH16: =+#REF! -> #REF! | AQ16: =SUM(D16:AN16)-D16-G16-X16-AC16 -> #REF! | AR16: =+AQ16-#REF! -> #REF!
A17: 1.4 | B17: 1.4 | C17: Bệnh viện quân y 175 | D17: =SUM(E17:F17) -> #REF! | E17: =+#REF! -> #REF! | F17: =+#REF! -> #REF! | G17: =SUM(H17:W17) -> #REF! | H17: =+'[1]Xuat TTB cac nguon'!D11 -> 0 | I17: =+#REF! -> #REF! | J17: =+#REF! -> #REF! | K17: =+#REF! -> #REF! | L17: =+#REF! -> #REF! | M17: =+#REF! -> #REF! | N17: =+#REF! -> #REF! | O17: =+#REF! -> #REF! | P17: =+#REF! -> #REF! | ... W17: =+#REF! -> #REF! | X17: =SUM(Y17:AB17) -> #REF! | Y17: =+#REF! -> #REF! | Z17: =+#REF! -> #REF! | AA17: =+#REF! -> #REF! | AB17: =+'PL1. Tổng hợp SL cấp kháng thể'!C45 -> 30 | AC17: =SUM(AD17:AN17) -> #REF! | AD17: =+#REF! -> #REF! | AE17: =+#REF! -> #REF! | AF17: =+#REF! -> #REF! | AG17: =+#REF! -> #REF! | AH17: =+#REF! -> #REF! | AQ17: =SUM(D17:AN17)-D17-G17-X17-AC17 -> #REF! | AR17: =+AQ17-#REF! -> #REF!
A18: 1.5 | B18: 1.5 | C18: Bệnh viện Y học cổ truyền quân đội | D18: =SUM(E18:F18) -> #REF! | E18: =+#REF! -> #REF! | F18: =+#REF! -> #REF! | G18: =SUM(H18:W18) -> #REF! | H18: =+'[1]Xuat TTB cac nguon'!D12 -> 0 | I18: =+#REF! -> #REF! | J18: =+#REF! -> #REF! | K18: =+#REF! -> #REF! | L18: =+#REF! -> #REF! | M18: =+#REF! -> #REF! | N18: =+#REF! -> #REF! | O18: =+#REF! -> #REF! | P18: =+#REF! -> #REF! | ... W18: =+#REF! -> #REF! | X18: =SUM(Y18:AB18) -> #REF! | Y18: =+#REF! -> #REF! | Z18: =+#REF! -> #REF! | AA18: =+#REF! -> #REF! | AB18: =+#REF! -> #REF! | AC18: =SUM(AD18:AN18) -> #REF! | AD18: =+#REF! -> #REF! | AE18: =+#REF! -> #REF! | AF18: =+#REF! -> #REF! | AG18: =+#REF! -> #REF! | AH18: =+#REF! -> #REF! | AQ18: =SUM(D18:AN18)-D18-G18-X18-AC18 -> #REF! | AR18: =+AQ18-#REF! -> #REF!
A19: 1.6 | B19: 1.6 | C19: Bộ Tư lệnh Thủ Đô | D19: =SUM(E19:F19) -> #REF! | E19: =+#REF! -> #REF! | F19: =+#REF! -> #REF! | G19: =SUM(H19:W19) -> #REF! | H19: =+'[1]Xuat TTB cac nguon'!D13 -> 0 | I19: =+#REF! -> #REF! | J19: =+#REF! -> #REF! | K19: =+#REF! -> #REF! | L19: =+#REF! -> #REF! | M19: =+#REF! -> #REF! | N19: =+#REF! -> #REF! | O19: =+#REF! -> #REF! | P19: =+#REF! -> #REF! | ... W19: =+#REF! -> #REF! | X19: =SUM(Y19:AB19) -> #REF! | Y19: =+#REF! -> #REF! | Z19: =+#REF! -> #REF! | AA19: =+#REF! -> #REF! | AB19: =+#REF! -> #REF! | AC19: =SUM(AD19:AN19) -> #REF! | AD19: =+#REF! -> #REF! | AE19: =+#REF! -> #REF! | AF19: =+#REF! -> #REF! | AG19: =+#REF! -> #REF! | AH19: =+#REF! -> #REF! | AQ19: =SUM(D19:AN19)-D19-G19-X19-AC19 -> #REF! | AR19: =+AQ19-#REF! -> #REF!
A20: 1.7 | B20: 1.7 | C20: Quân khu 1 | D20: =SUM(E20:F20) -> #REF! | E20: =+#REF! -> #REF! | F20: =+#REF! -> #REF! | G20: =SUM(H20:W20) -> #REF! | H20: =+'[1]Xuat TTB cac nguon'!D14 -> 0 | I20: =+#REF! -> #REF! | J20: =+#REF! -> #REF! | K20: =+#REF! -> #REF! | L20: =+#REF! -> #REF! | M20: =+#REF! -> #REF! | N20: =+#REF! -> #REF! | O20: =+#REF! -> #REF! | P20: =+#REF! -> #REF! | ... W20: =+#REF! -> #REF! | X20: =SUM(Y20:AB20) -> #REF! | Y20: =+#REF! -> #REF! | Z20: =+#REF! -> #REF! | AA20: =+#REF! -> #REF! | AB20: =+#REF! -> #REF! | AC20: =SUM(AD20:AN20) -> #REF! | AD20: =+#REF! -> #REF! | AE20: =+#REF! -> #REF! | AF20: =+#REF! -> #REF! | AG20: =+#REF! -> #REF! | AH20: =+#REF! -> #REF! | AQ20: =SUM(D20:AN20)-D20-G20-X20-AC20 -> #REF! | AR20: =+AQ20-#REF! -> #REF!
A21: 1.8 | B21: 1.8 | C21: Quân khu 2 | D21: =SUM(E21:F21) -> #REF! | E21: =+#REF! -> #REF! | F21: =+#REF! -> #REF! | G21: =SUM(H21:W21) -> #REF! | H21: =+'[1]Xuat TTB cac nguon'!D15 -> 0 | I21: =+#REF! -> #REF! | J21: =+#REF! -> #REF! | K21: =+#REF! -> #REF! | L21: =+#REF! -> #REF! | M21: =+#REF! -> #REF! | N21: =+#REF! -> #REF! | O21: =+#REF! -> #REF! | P21: =+#REF! -> #REF! | ... W21: =+#REF! -> #REF! | X21: =SUM(Y21:AB21) -> #REF! | Y21: =+#REF! -> #REF! | Z21: =+#REF! -> #REF! | AA21: =+#REF! -> #REF! | AB21: =+#REF! -> #REF! | AC21: =SUM(AD21:AN21) -> #REF! | AD21: =+#REF! -> #REF! | AE21: =+#REF! -> #REF! | AF21: =+#REF! -> #REF! | AG21: =+#REF! -> #REF! | AH21: =+#REF! -> #REF! | AQ21: =SUM(D21:AN21)-D21-G21-X21-AC21 -> #REF! | AR21: =+AQ21-#REF! -> #REF!
A22: 1.9 | B22: 1.9 | C22: Quân khu 3 | D22: =SUM(E22:F22) -> #REF! | E22: =+#REF! -> #REF! | F22: =+#REF! -> #REF! | G22: =SUM(H22:W22) -> #REF! | H22: =+'[1]Xuat TTB cac nguon'!D16 -> 0 | I22: =+#REF! -> #REF! | J22: =+#REF! -> #REF! | K22: =+#REF! -> #REF! | L22: =+#REF! -> #REF! | M22: =+#REF! -> #REF! | N22: =+#REF! -> #REF! | O22: =+#REF! -> #REF! | P22: =+#REF! -> #REF! | ... W22: =+#REF! -> #REF! | X22: =SUM(Y22:AB22) -> #REF! | Y22: =+#REF! -> #REF! | Z22: =+#REF! -> #REF! | AA22: =+#REF! -> #REF! | AB22: =+#REF! -> #REF! | AC22: =SUM(AD22:AN22) -> #REF! | AD22: =+#REF! -> #REF! | AE22: =+#REF! -> #REF! | AF22: =+#REF! -> #REF! | AG22: =+#REF! -> #REF! | AH22: =+#REF! -> #REF! | AQ22: =SUM(D22:AN22)-D22-G22-X22-AC22 -> #REF! | AR22: =+AQ22-#REF! -> #REF!
A23: 1.10 | B23: 1.10 | C23: Quân khu 4 | D23: =SUM(E23:F23) -> #REF! | E23: =+#REF! -> #REF! | F23: =+#REF! -> #REF! | G23: =SUM(H23:W23) -> #REF! | H23: =+'[1]Xuat TTB cac nguon'!D17 -> 0 | I23: =+#REF! -> #REF! | J23: =+#REF! -> #REF! | K23: =+#REF! -> #REF! | L23: =+#REF! -> #REF! | M23: =+#REF! -> #REF! | N23: =+#REF! -> #REF! | O23: =+#REF! -> #REF! | P23: =+#REF! -> #REF! | ... W23: =+#REF! -> #REF! | X23: =SUM(Y23:AB23) -> #REF! | Y23: =+#REF! -> #REF! | Z23: =+#REF! -> #REF! | AA23: =+#REF! -> #REF! | AB23: =+#REF! -> #REF! | AC23: =SUM(AD23:AN23) -> #REF! | AD23: =+#REF! -> #REF! | AE23: =+#REF! -> #REF! | AF23: =+#REF! -> #REF! | AG23: =+#REF! -> #REF! | AH23: =+#REF! -> #REF! | AQ23: =SUM(D23:AN23)-D23-G23-X23-AC23 -> #REF! | AR23: =+AQ23-#REF! -> #REF!
A24: 1.11 | B24: 1.11 | C24: Quân khu 5 | D24: =SUM(E24:F24) -> #REF! | E24: =+#REF! -> #REF! | F24: =+#REF! -> #REF! | G24: =SUM(H24:W24) -> #REF! | H24: =+'[1]Xuat TTB cac nguon'!D18 -> 0 | I24: =+#REF! -> #REF! | J24: =+#REF! -> #REF! | K24: =+#REF! -> #REF! | L24: =+#REF! -> #REF! | M24: =+#REF! -> #REF! | N24: =+#REF! -> #REF! | O24: =+#REF! -> #REF! | P24: =+#REF! -> #REF! | ... W24: =+#REF! -> #REF! | X24: =SUM(Y24:AB24) -> #REF! | Y24: =+#REF! -> #REF! | Z24: =+#REF! -> #REF! | AA24: =+#REF! -> #REF! | AB24: =+#REF! -> #REF! | AC24: =SUM(AD24:AN24) -> #REF! | AD24: =+#REF! -> #REF! | AE24: =+#REF! -> #REF! | AF24: =+#REF! -> #REF! | AG24: =+#REF! -> #REF! | AH24: =+#REF! -> #REF! | AQ24: =SUM(D24:AN24)-D24-G24-X24-AC24 -> #REF! | AR24: =+AQ24-#REF! -> #REF!
A25: 1.12 | B25: 1.12 | C25: Quân khu 7 | D25: =SUM(E25:F25) -> #REF! | E25: =+#REF! -> #REF! | F25: =+#REF! -> #REF! | G25: =SUM(H25:W25) -> #REF! | H25: =+'[1]Xuat TTB cac nguon'!D19 -> 0 | I25: =+#REF! -> #REF! | J25: =+#REF! -> #REF! | K25: =+#REF! -> #REF! | L25: =+#REF! -> #REF! | M25: =+#REF! -> #REF! | N25: =+#REF! -> #REF! | O25: =+#REF! -> #REF! | P25: =+#REF! -> #REF! | ... W25: =+#REF! -> #REF! | X25: =SUM(Y25:AB25) -> #REF! | Y25: =+#REF! -> #REF! | Z25: =+#REF! -> #REF! | AA25: =+#REF! -> #REF! | AB25: =+#REF! -> #REF! | AC25: =SUM(AD25:AN25) -> #REF! | AD25: =+#REF! -> #REF! | AE25: =+#REF! -> #REF! | AF25: =+#REF! -> #REF! | AG25: =+#REF! -> #REF! | AH25: =+#REF! -> #REF! | AQ25: =SUM(D25:AN25)-D25-G25-X25-AC25 -> #REF! | AR25: =+AQ25-#REF! -> #REF!
A26: 1.13 | B26: 1.13 | C26: Quân khu 9 | D26: =SUM(E26:F26) -> #REF! | E26: =+#REF! -> #REF! | F26: =+#REF! -> #REF! | G26: =SUM(H26:W26) -> #REF! | H26: =+'[1]Xuat TTB cac nguon'!D20 -> 0 | I26: =+#REF! -> #REF! | J26: =+#REF! -> #REF! | K26: =+#REF! -> #REF! | L26: =+#REF! -> #REF! | M26: =+#REF! -> #REF! | N26: =+#REF! -> #REF! | O26: =+#REF! -> #REF! | P26: =+#REF! -> #REF! | ... W26: =+#REF! -> #REF! | X26: =SUM(Y26:AB26) -> #REF! | Y26: =+#REF! -> #REF! | Z26: =+#REF! -> #REF! | AA26: =+#REF! -> #REF! | AB26: =+#REF! -> #REF! | AC26: =SUM(AD26:AN26) -> #REF! | AD26: =+#REF! -> #REF! | AE26: =+#REF! -> #REF! | AF26: =+#REF! -> #REF! | AG26: =+#REF! -> #REF! | AH26: =+#REF! -> #REF! | AQ26: =SUM(D26:AN26)-D26-G26-X26-AC26 -> #REF! | AR26: =+AQ26-#REF! -> #REF!
A27: 2 | B27: 2 | C27: Bộ Công an | D27: =SUM(E27:F27) -> #REF! | E27: =+#REF! -> #REF! | F27: =+#REF! -> #REF! | G27: =SUM(H27:W27) -> #REF! | H27: =+'[1]Xuat TTB cac nguon'!D21 -> 0 | I27: =+#REF! -> #REF! | J27: =+#REF! -> #REF! | K27: =+#REF! -> #REF! | L27: =+#REF! -> #REF! | M27: =+#REF! -> #REF! | N27: =+#REF! -> #REF! | O27: =+#REF! -> #REF! | P27: =+#REF! -> #REF! | ... W27: =+#REF! -> #REF! | X27: =SUM(Y27:AB27) -> #REF! | Y27: =+'PL2. Tổng hợp SL cấp Remdesivir'!C48 -> 500 | Z27: =+#REF! -> #REF! | AA27: =+#REF! -> #REF! | AB27: =+#REF! -> #REF! | AC27: =SUM(AD27:AN27) -> #REF! | AD27: =+#REF! -> #REF! | AE27: =+#REF! -> #REF! | AF27: =+#REF! -> #REF! | AG27: =+#REF! -> #REF! | AH27: =+#REF! -> #REF! | AQ27: =SUM(D27:AN27)-D27-G27-X27-AC27 -> #REF! | AR27: =+AQ27-#REF! -> #REF!
A28: 3 | B28: 3 | C28: Bộ Giao thông vận tải | D28: =SUM(E28:F28) -> #REF! | E28: =+#REF! -> #REF! | F28: =+#REF! -> #REF! | G28: =SUM(H28:W28) -> #REF! | H28: =+'[1]Xuat TTB cac nguon'!D22 -> 0 | I28: =+#REF! -> #REF! | J28: =+#REF! -> #REF! | K28: =+#REF! -> #REF! | L28: =+#REF! -> #REF! | M28: =+#REF! -> #REF! | N28: =+#REF! -> #REF! | O28: =+#REF! -> #REF! | P28: =+#REF! -> #REF! | ... W28: =+#REF! -> #REF! | X28: =SUM(Y28:AB28) -> #REF! | Y28: =+#REF! -> #REF! | Z28: =+#REF! -> #REF! | AA28: =+#REF! -> #REF! | AB28: =+#REF! -> #REF! | AC28: =SUM(AD28:AN28) -> #REF! | AD28: =+#REF! -> #REF! | AE28: =+#REF! -> #REF! | AF28: =+#REF! -> #REF! | AG28: =+#REF! -> #REF! | AH28: =+#REF! -> #REF! | AQ28: =SUM(D28:AN28)-D28-G28-X28-AC28 -> #REF! | AR28: =+AQ28-#REF! -> #REF!
A29: 4 | B29: 4 | C29: Bộ Khoa học công nghê | D29: =SUM(E29:F29) -> #REF! | E29: =+#REF! -> #REF! | F29: =+#REF! -> #REF! | G29: =SUM(H29:W29) -> #REF! | H29: =+'[1]Xuat TTB cac nguon'!D23 -> 0 | I29: =+#REF! -> #REF! | J29: =+#REF! -> #REF! | K29: =+#REF! -> #REF! | L29: =+#REF! -> #REF! | M29: =+#REF! -> #REF! | N29: =+#REF! -> #REF! | O29: =+#REF! -> #REF! | P29: =+#REF! -> #REF! | ... W29: =+#REF! -> #REF! | X29: =SUM(Y29:AB29) -> #REF! | Y29: =+#REF! -> #REF! | Z29: =+#REF! -> #REF! | AA29: =+#REF! -> #REF! | AB29: =+#REF! -> #REF! | AC29: =SUM(AD29:AN29) -> #REF! | AD29: =+#REF! -> #REF! | AE29: =+#REF! -> #REF! | AF29: =+#REF! -> #REF! | AG29: =+#REF! -> #REF! | AH29: =+#REF! -> #REF! | AQ29: =SUM(D29:AN29)-D29-G29-X29-AC29 -> #REF! | AR29: =+AQ29-#REF! -> #REF!
A30: 5 | B30: 5 | C30: Thông tấn xã VN | D30: =SUM(E30:F30) -> #REF! | E30: =+#REF! -> #REF! | F30: =+#REF! -> #REF! | G30: =SUM(H30:W30) -> #REF! | H30: =+'[1]Xuat TTB cac nguon'!D24 -> 0 | I30: =+#REF! -> #REF! | J30: =+#REF! -> #REF! | K30: =+#REF! -> #REF! | L30: =+#REF! -> #REF! | M30: =+#REF! -> #REF! | N30: =+#REF! -> #REF! | O30: =+#REF! -> #REF! | P30: =+#REF! -> #REF! | ... W30: =+#REF! -> #REF! | X30: =SUM(Y30:AB30) -> #REF! | Y30: =+#REF! -> #REF! | Z30: =+#REF! -> #REF! | AA30: =+#REF! -> #REF! | AB30: =+#REF! -> #REF! | AC30: =SUM(AD30:AN30) -> #REF! | AD30: =+#REF! -> #REF! | AE30: =+#REF! -> #REF! | AF30: =+#REF! -> #REF! | AG30: =+#REF! -> #REF! | AH30: =+#REF! -> #REF! | AQ30: =SUM(D30:AN30)-D30-G30-X30-AC30 -> #REF! | AR30: =+AQ30-#REF! -> #REF!
A31: 6 | B31: 6 | C31: Tòa án nhân dân tối cao | D31: =SUM(E31:F31) -> #REF! | E31: =+#REF! -> #REF! | F31: =+#REF! -> #REF! | G31: =SUM(H31:W31) -> #REF! | H31: =+'[1]Xuat TTB cac nguon'!D25 -> 0 | I31: =+#REF! -> #REF! | J31: =+#REF! -> #REF! | K31: =+#REF! -> #REF! | L31: =+#REF! -> #REF! | M31: =+#REF! -> #REF! | N31: =+#REF! -> #REF! | O31: =+#REF! -> #REF! | P31: =+#REF! -> #REF! | ... W31: =+#REF! -> #REF! | X31: =SUM(Y31:AB31) -> #REF! | Y31: =+#REF! -> #REF! | Z31: =+#REF! -> #REF! | AA31: =+#REF! -> #REF! | AB31: =+#REF! -> #REF! | AC31: =SUM(AD31:AN31) -> #REF! | AD31: =+#REF! -> #REF! | AE31: =+#REF! -> #REF! | AF31: =+#REF! -> #REF! | AG31: =+#REF! -> #REF! | AH31: =+#REF! -> #REF! | AQ31: =SUM(D31:AN31)-D31-G31-X31-AC31 -> #REF! | AR31: =+AQ31-#REF! -> #REF!
A32: 7 | B32: 7 | C32: Ban nội chính | D32: =SUM(E32:F32) -> #REF! | E32: =+#REF! -> #REF! | F32: =+#REF! -> #REF! | G32: =SUM(H32:W32) -> #REF! | H32: =+'[1]Xuat TTB cac nguon'!D26 -> 0 | I32: =+#REF! -> #REF! | J32: =+#REF! -> #REF! | K32: =+#REF! -> #REF! | L32: =+#REF! -> #REF! | M32: =+#REF! -> #REF! | N32: =+#REF! -> #REF! | O32: =+#REF! -> #REF! | P32: =+#REF! -> #REF! | ... W32: =+#REF! -> #REF! | X32: =SUM(Y32:AB32) -> #REF! | Y32: =+#REF! -> #REF! | Z32: =+#REF! -> #REF! | AA32: =+#REF! -> #REF! | AB32: =+#REF! -> #REF! | AC32: =SUM(AD32:AN32) -> #REF! | AD32: =+#REF! -> #REF! | AE32: =+#REF! -> #REF! | AF32: =+#REF! -> #REF! | AG32: =+#REF! -> #REF! | AH32: =+#REF! -> #REF! | AQ32: =SUM(D32:AN32)-D32-G32-X32-AC32 -> #REF! | AR32: =+AQ32-#REF! -> #REF!
A33: 8 | B33: 8 | C33: Bộ Ngoại giao | D33: =SUM(E33:F33) -> #REF! | E33: =+#REF! -> #REF! | F33: =+#REF! -> #REF! | G33: =SUM(H33:W33) -> #REF! | H33: =+'[1]Xuat TTB cac nguon'!D27 -> 0 | I33: =+#REF! -> #REF! | J33: =+#REF! -> #REF! | K33: =+#REF! -> #REF! | L33: =+#REF! -> #REF! | M33: =+#REF! -> #REF! | N33: =+#REF! -> #REF! | O33: =+#REF! -> #REF! | P33: =+#REF! -> #REF! | ... W33: =+#REF! -> #REF! | X33: =SUM(Y33:AB33) -> #REF! | Y33: =+#REF! -> #REF! | Z33: =+#REF! -> #REF! | AA33: =+#REF! -> #REF! | AB33: =+#REF! -> #REF! | AC33: =SUM(AD33:AN33) -> #REF! | AD33: =+#REF! -> #REF! | AE33: =+#REF! -> #REF! | AF33: =+#REF! -> #REF! | AG33: =+#REF! -> #REF! | AH33: =+#REF! -> #REF! | AQ33: =SUM(D33:AN33)-D33-G33-X33-AC33 -> #REF! | AR33: =+AQ33-#REF! -> #REF!
A34: 9 | B34: 9 | C34: Bộ Công an | D34: =SUM(E34:F34) -> #REF! | E34: =+#REF! -> #REF! | F34: =+#REF! -> #REF! | G34: =SUM(H34:W34) -> #REF! | H34: =+'[1]Xuat TTB cac nguon'!D28 -> 0 | I34: =+#REF! -> #REF! | J34: =+#REF! -> #REF! | K34: =+#REF! -> #REF! | L34: =+#REF! -> #REF! | M34: =+#REF! -> #REF! | N34: =+#REF! -> #REF! | O34: =+#REF! -> #REF! | P34: =+#REF! -> #REF! | ... W34: =+#REF! -> #REF! | X34: =SUM(Y34:AB34) -> #REF! | Y34: =+#REF! -> #REF! | Z34: =+#REF! -> #REF! | AA34: =+#REF! -> #REF! | AB34: =+#REF! -> #REF! | AC34: =SUM(AD34:AN34) -> #REF! | AD34: =+#REF! -> #REF! | AE34: =+#REF! -> #REF! | AF34: =+#REF! -> #REF! | AG34: =+#REF! -> #REF! | AH34: =+#REF! -> #REF! | AQ34: =SUM(D34:AN34)-D34-G34-X34-AC34 -> #REF! | AR34: =+AQ34-#REF! -> #REF!
A35: 10 | B35: 10 | C35: Bệnh viện 199 - BCA | D35: =SUM(E35:F35) -> #REF! | E35: =+#REF! -> #REF! | F35: =+#REF! -> #REF! | G35: =SUM(H35:W35) -> #REF! | H35: =+'[1]Xuat TTB cac nguon'!D29 -> 0 | I35: =+#REF! -> #REF! | J35: =+#REF! -> #REF! | K35: =+#REF! -> #REF! | L35: =+#REF! -> #REF! | M35: =+#REF! -> #REF! | N35: =+#REF! -> #REF! | O35: =+#REF! -> #REF! | P35: =+#REF! -> #REF! | ... W35: =+#REF! -> #REF! | X35: =SUM(Y35:AB35) -> #REF! | Y35: =+#REF! -> #REF! | Z35: =+#REF! -> #REF! | AA35: =+#REF! -> #REF! | AB35: =+#REF! -> #REF! | AC35: =SUM(AD35:AN35) -> #REF! | AD35: =+#REF! -> #REF! | AE35: =+#REF! -> #REF! | AF35: =+#REF! -> #REF! | AG35: =+#REF! -> #REF! | AH35: =+#REF! -> #REF! | AQ35: =SUM(D35:AN35)-D35-G35-X35-AC35 -> #REF! | AR35: =+AQ35-#REF! -> #REF!
A36: 11 | B36: 11 | C36: Ban Quân dân y-QK2 | D36: =SUM(E36:F36) -> #REF! | E36: =+#REF! -> #REF! | F36: =+#REF! -> #REF! | G36: =SUM(H36:W36) -> #REF! | H36: =+'[1]Xuat TTB cac nguon'!D30 -> 0 | I36: =+#REF! -> #REF! | J36: =+#REF! -> #REF! | K36: =+#REF! -> #REF! | L36: =+#REF! -> #REF! | M36: =+#REF! -> #REF! | N36: =+#REF! -> #REF! | O36: =+#REF! -> #REF! | P36: =+#REF! -> #REF! | ... W36: =+#REF! -> #REF! | X36: =SUM(Y36:AB36) -> #REF! | Y36: =+#REF! -> #REF! | Z36: =+#REF! -> #REF! | AA36: =+#REF! -> #REF! | AB36: =+#REF! -> #REF! | AC36: =SUM(AD36:AN36) -> #REF! | AD36: =+#REF! -> #REF! | AE36: =+#REF! -> #REF! | AF36: =+#REF! -> #REF! | AG36: =+#REF! -> #REF! | AH36: =+#REF! -> #REF! | AQ36: =SUM(D36:AN36)-D36-G36-X36-AC36 -> #REF! | AR36: =+AQ36-#REF! -> #REF!
A37: 12 | B37: 12 | C37: Ban BVCS sức khỏe CB TW | D37: =SUM(E37:F37) -> #REF! | E37: =+#REF! -> #REF! | F37: =+#REF! -> #REF! | G37: =SUM(H37:W37) -> #REF! | H37: =+'[1]Xuat TTB cac nguon'!D31 -> 0 | I37: =+#REF! -> #REF! | J37: =+#REF! -> #REF! | K37: =+#REF! -> #REF! | L37: =+#REF! -> #REF! | M37: =+#REF! -> #REF! | N37: =+#REF! -> #REF! | O37: =+#REF! -> #REF! | P37: =+#REF! -> #REF! | ... W37: =+#REF! -> #REF! | X37: =SUM(Y37:AB37) -> #REF! | Y37: =+#REF! -> #REF! | Z37: =+#REF! -> #REF! | AA37: =+#REF! -> #REF! | AB37: =+#REF! -> #REF! | AC37: =SUM(AD37:AN37) -> #REF! | AD37: =+#REF! -> #REF! | AE37: =+#REF! -> #REF! | AF37: =+#REF! -> #REF! | AG37: =+#REF! -> #REF! | AH37: =+#REF! -> #REF! | AQ37: =SUM(D37:AN37)-D37-G37-X37-AC37 -> #REF! | AR37: =+AQ37-#REF! -> #REF!
A38: 13 | B38: 13 | C38: Đài Tiếng nói Việt Nam | D38: =SUM(E38:F38) -> #REF! | E38: =+#REF! -> #REF! | F38: =+#REF! -> #REF! | G38: =SUM(H38:W38) -> #REF! | H38: =+'[1]Xuat TTB cac nguon'!D32 -> 0 | I38: =+#REF! -> #REF! | J38: =+#REF! -> #REF! | K38: =+#REF! -> #REF! | L38: =+#REF! -> #REF! | M38: =+#REF! -> #REF! | N38: =+#REF! -> #REF! | O38: =+#REF! -> #REF! | P38: =+#REF! -> #REF! | ... W38: =+#REF! -> #REF! | X38: =SUM(Y38:AB38) -> #REF! | Y38: =+#REF! -> #REF! | Z38: =+#REF! -> #REF! | AA38: =+#REF! -> #REF! | AB38: =+#REF! -> #REF! | AC38: =SUM(AD38:AN38) -> #REF! | AD38: =+#REF! -> #REF! | AE38: =+#REF! -> #REF! | AF38: =+#REF! -> #REF! | AG38: =+#REF! -> #REF! | AH38: =+#REF! -> #REF! | AQ38: =SUM(D38:AN38)-D38-G38-X38-AC38 -> #REF! | AR38: =+AQ38-#REF! -> #REF!
A39: 14 | B39: 14 | C39: Bệnh viện 354 | D39: =SUM(E39:F39) -> #REF! | E39: =+#REF! -> #REF! | F39: =+#REF! -> #REF! | G39: =SUM(H39:W39) -> #REF! | H39: =+'[1]Xuat TTB cac nguon'!D33 -> 0 | I39: =+#REF! -> #REF! | J39: =+#REF! -> #REF! | K39: =+#REF! -> #REF! | L39: =+#REF! -> #REF! | M39: =+#REF! -> #REF! | N39: =+#REF! -> #REF! | O39: =+#REF! -> #REF! | P39: =+#REF! -> #REF! | ... W39: =+#REF! -> #REF! | X39: =SUM(Y39:AB39) -> #REF! | Y39: =+#REF! -> #REF! | Z39: =+#REF! -> #REF! | AA39: =+#REF! -> #REF! | AB39: =+#REF! -> #REF! | AC39: =SUM(AD39:AN39) -> #REF! | AD39: =+#REF! -> #REF! | AE39: =+#REF! -> #REF! | AF39: =+#REF! -> #REF! | AG39: =+#REF! -> #REF! | AH39: =+#REF! -> #REF! | AQ39: =SUM(D39:AN39)-D39-G39-X39-AC39 -> #REF! | AR39: =+AQ39-#REF! -> #REF!
... A56: 31 | B56: 31 | C56: Văn phòng Quốc hội | D56: =SUM(E56:F56) -> #REF! | E56: =+#REF! -> #REF! | F56: =+#REF! -> #REF! | G56: =SUM(H56:W56) -> #REF! | H56: =+'[1]Xuat TTB cac nguon'!D50 -> 0 | I56: =+#REF! -> #REF! | J56: =+#REF! -> #REF! | K56: =+#REF! -> #REF! | L56: =+#REF! -> #REF! | M56: =+#REF! -> #REF! | N56: =+#REF! -> #REF! | O56: =+#REF! -> #REF! | P56: =+#REF! -> #REF! | ... W56: =+#REF! -> #REF! | X56: =SUM(Y56:AB56) -> #REF! | Y56: =+#REF! -> #REF! | Z56: =+#REF! -> #REF! | AA56: =+#REF! -> #REF! | AB56: =+#REF! -> #REF! | AC56: =SUM(AD56:AN56) -> #REF! | AD56: =+#REF! -> #REF! | AE56: =+#REF! -> #REF! | AF56: =+#REF! -> #REF! | AG56: =+#REF! -> #REF! | AH56: =+#REF! -> #REF! | AQ56: =SUM(D56:AN56)-D56-G56-X56-AC56 -> #REF! | AR56: =+AQ56-#REF! -> #REF!
A57: II | B57: II | C57: Địa phương (Sở Y tế) | D57: =SUM(D58:D120) -> #REF! | E57: =SUM(E58:E120) -> #REF! | F57: =SUM(F58:F120) -> #REF! | G57: =SUM(G58:G120) -> #REF! | H57: =SUM(H58:H120) -> 0 | I57: =SUM(I58:I120) -> #REF! | J57: =SUM(J58:J120) -> #REF! | K57: =SUM(K58:K120) -> #REF! | ... AN57: =SUM(AN58:AN120) -> 0 | AQ57: =SUM(D57:AN57)-D57-G57-X57-AC57 -> #REF! | AR57: =+AQ57-#REF! -> #REF!
A58: 1 | B58: 1 | C58: An Giang | D58: =SUM(E58:F58) -> #REF! | E58: =+#REF! -> #REF! | F58: =+#REF! -> #REF! | G58: =SUM(H58:W58) -> #REF! | H58: =+'[1]Xuat TTB cac nguon'!D52 -> 0 | I58: =+#REF! -> #REF! | J58: =+#REF! -> #REF! | K58: =+#REF! -> #REF! | L58: =+#REF! -> #REF! | M58: =+#REF! -> #REF! | N58: =+#REF! -> #REF! | O58: =+#REF! -> #REF! | P58: =+#REF! -> #REF! | ... W58: =+#REF! -> #REF! | X58: =SUM(Y58:AB58) -> #REF! | Y58: =+'PL2. Tổng hợp SL cấp Remdesivir'!C113 -> 4132 | Z58: =+#REF! -> #REF! | AA58: =+#REF! -> #REF! | AB58: =+'PL1. Tổng hợp SL cấp kháng thể'!C107 -> 70 | AC58: =SUM(AD58:AN58) -> #REF! | AD58: =+#REF! -> #REF! | AE58: =+#REF! -> #REF! | AF58: =+#REF! -> #REF! | AG58: =+#REF! -> #REF! | AH58: =+#REF! -> #REF! | AQ58: =SUM(D58:AN58)-D58-G58-X58-AC58 -> #REF! | AR58: =+AQ58-#REF! -> #REF!
A59: 2 | B59: 2 | C59: Bà Rịa Vũng Tàu | D59: =SUM(E59:F59) -> #REF! | E59: =+#REF! -> #REF! | F59: =+#REF! -> #REF! | G59: =SUM(H59:W59) -> #REF! | H59: =+'[1]Xuat TTB cac nguon'!D53 -> 0 | I59: =+#REF! -> #REF! | J59: =+#REF! -> #REF! | K59: =+#REF! -> #REF! | L59: =+#REF! -> #REF! | M59: =+#REF! -> #REF! | N59: =+#REF! -> #REF! | O59: =+#REF! -> #REF! | P59: =+#REF! -> #REF! | ... W59: =+#REF! -> #REF! | X59: =SUM(Y59:AB59) -> #REF! | Y59: =+'PL2. Tổng hợp SL cấp Remdesivir'!C105 -> 5000 | Z59: =+#REF! -> #REF! | AA59: =+#REF! -> #REF! | AB59: =+'PL1. Tổng hợp SL cấp kháng thể'!C99 -> 30 | AC59: =SUM(AD59:AN59) -> #REF! | AD59: =+#REF! -> #REF! | AE59: =+#REF! -> #REF! | AF59: =+#REF! -> #REF! | AG59: =+#REF! -> #REF! | AH59: =+#REF! -> #REF! | AQ59: =SUM(D59:AN59)-D59-G59-X59-AC59 -> #REF! | AR59: =+AQ59-#REF! -> #REF!
A60: 3 | B60: 3 | C60: Bắc Cạn | D60: =SUM(E60:F60) -> #REF! | E60: =+#REF! -> #REF! | F60: =+#REF! -> #REF! | G60: =SUM(H60:W60) -> #REF! | H60: =+'[1]Xuat TTB cac nguon'!D54 -> 0 | I60: =+#REF! -> #REF! | J60: =+#REF! -> #REF! | K60: =+#REF! -> #REF! | L60: =+#REF! -> #REF! | M60: =+#REF! -> #REF! | N60: =+#REF! -> #REF! | O60: =+#REF! -> #REF! | P60: =+#REF! -> #REF! | ... W60: =+#REF! -> #REF! | X60: =SUM(Y60:AB60) -> #REF! | Y60: =+'PL2. Tổng hợp SL cấp Remdesivir'!C70 -> 300 | Z60: =+#REF! -> #REF! | AA60: =+#REF! -> #REF! | AB60: =+'PL1. Tổng hợp SL cấp kháng thể'!C64 -> 30 | AC60: =SUM(AD60:AN60) -> #REF! | AD60: =+#REF! -> #REF! | AE60: =+#REF! -> #REF! | AF60: =+#REF! -> #REF! | AG60: =+#REF! -> #REF! | AH60: =+#REF! -> #REF! | AQ60: =SUM(D60:AN60)-D60-G60-X60-AC60 -> #REF! | AR60: =+AQ60-#REF! -> #REF!
A61: 4 | B61: 4 | C61: Bắc Giang | D61: =SUM(E61:F61) -> #REF! | E61: =+#REF! -> #REF! | F61: =+#REF! -> #REF! | G61: =SUM(H61:W61) -> #REF! | H61: =+'[1]Xuat TTB cac nguon'!D55 -> 0 | I61: =+#REF! -> #REF! | J61: =+#REF! -> #REF! | K61: =+#REF! -> #REF! | L61: =+#REF! -> #REF! | M61: =+#REF! -> #REF! | N61: =+#REF! -> #REF! | O61: =+#REF! -> #REF! | P61: =+#REF! -> #REF! | ... W61: =+#REF! -> #REF! | X61: =SUM(Y61:AB61) -> #REF! | Y61: =+'PL2. Tổng hợp SL cấp Remdesivir'!C76 -> 6132 | Z61: =+#REF! -> #REF! | AA61: =+#REF! -> #REF! | AB61: =+'PL1. Tổng hợp SL cấp kháng thể'!C70 -> 120 | AC61: =SUM(AD61:AN61) -> #REF! | AD61: =+#REF! -> #REF! | AE61: =+#REF! -> #REF! | AF61: =+#REF! -> #REF! | AG61: =+#REF! -> #REF! | AH61: =+#REF! -> #REF! | AQ61: =SUM(D61:AN61)-D61-G61-X61-AC61 -> #REF! | AR61: =+AQ61-#REF! -> #REF!
A62: 5 | B62: 5 | C62: Bạc Liêu | D62: =SUM(E62:F62) -> #REF! | E62: =+#REF! -> #REF! | F62: =+#REF! -> #REF! | G62: =SUM(H62:W62) -> #REF! | H62: =+'[1]Xuat TTB cac nguon'!D56 -> 0 | I62: =+#REF! -> #REF! | J62: =+#REF! -> #REF! | K62: =+#REF! -> #REF! | L62: =+#REF! -> #REF! | M62: =+#REF! -> #REF! | N62: =+#REF! -> #REF! | O62: =+#REF! -> #REF! | P62: =+#REF! -> #REF! | ... W62: =+#REF! -> #REF! | X62: =SUM(Y62:AB62) -> #REF! | Y62: =+'PL2. Tổng hợp SL cấp Remdesivir'!C118 -> 6224 | Z62: =+#REF! -> #REF! | AA62: =+#REF! -> #REF! | AB62: =+'PL1. Tổng hợp SL cấp kháng thể'!C112 -> 20 | AC62: =SUM(AD62:AN62) -> #REF! | AD62: =+#REF! -> #REF! | AE62: =+#REF! -> #REF! | AF62: =+#REF! -> #REF! | AG62: =+#REF! -> #REF! | AH62: =+#REF! -> #REF! | AQ62: =SUM(D62:AN62)-D62-G62-X62-AC62 -> #REF! | AR62: =+AQ62-#REF! -> #REF!
A63: 6 | B63: 6 | C63: Bắc Ninh | D63: =SUM(E63:F63) -> #REF! | E63: =+#REF! -> #REF! | F63: =+#REF! -> #REF! | G63: =SUM(H63:W63) -> #REF! | H63: =+'[1]Xuat TTB cac nguon'!D57 -> 0 | I63: =+#REF! -> #REF! | J63: =+#REF! -> #REF! | K63: =+#REF! -> #REF! | L63: =+#REF! -> #REF! | M63: =+#REF! -> #REF! | N63: =+#REF! -> #REF! | O63: =+#REF! -> #REF! | P63: =+#REF! -> #REF! | ... W63: =+#REF! -> #REF! | X63: =SUM(Y63:AB63) -> #REF! | Y63: =+'PL2. Tổng hợp SL cấp Remdesivir'!C59 -> 280 | Z63: =+#REF! -> #REF! | AA63: =+#REF! -> #REF! | AB63: =+'PL1. Tổng hợp SL cấp kháng thể'!C53 -> 20 | AC63: =SUM(AD63:AN63) -> #REF! | AD63: =+#REF! -> #REF! | AE63: =+#REF! -> #REF! | AF63: =+#REF! -> #REF! | AG63: =+#REF! -> #REF! | AH63: =+#REF! -> #REF! | AQ63: =SUM(D63:AN63)-D63-G63-X63-AC63 -> #REF! | AR63: =+AQ63-#REF! -> #REF!
A64: 7 | B64: 7 | C64: Bến Tre | D64: =SUM(E64:F64) -> #REF! | E64: =+#REF! -> #REF! | F64: =+#REF! -> #REF! | G64: =SUM(H64:W64) -> #REF! | H64: =+'[1]Xuat TTB cac nguon'!D58 -> 0 | I64: =+#REF! -> #REF! | J64: =+#REF! -> #REF! | K64: =+#REF! -> #REF! | L64: =+#REF! -> #REF! | M64: =+#REF! -> #REF! | N64: =+#REF! -> #REF! | O64: =+#REF! -> #REF! | P64: =+#REF! -> #REF! | ... W64: =+#REF! -> #REF! | X64: =SUM(Y64:AB64) -> #REF! | Y64: =+'PL2. Tổng hợp SL cấp Remdesivir'!C109 -> 2220 | Z64: =+#REF! -> #REF! | AA64: =+#REF! -> #REF! | AB64: =+'PL1. Tổng hợp SL cấp kháng thể'!C103 -> 30 | AC64: =SUM(AD64:AN64) -> #REF! | AD64: =+#REF! -> #REF! | AE64: =+#REF! -> #REF! | AF64: =+#REF! -> #REF! | AG64: =+#REF! -> #REF! | AH64: =+#REF! -> #REF! | AQ64: =SUM(D64:AN64)-D64-G64-X64-AC64 -> #REF! | AR64: =+AQ64-#REF! -> #REF!
A65: 8 | B65: 8 | C65: Bình Định | D65: =SUM(E65:F65) -> #REF! | E65: =+#REF! -> #REF! | F65: =+#REF! -> #REF! | G65: =SUM(H65:W65) -> #REF! | H65: =+'[1]Xuat TTB cac nguon'!D59 -> 0 | I65: =+#REF! -> #REF! | J65: =+#REF! -> #REF! | K65: =+#REF! -> #REF! | L65: =+#REF! -> #REF! | M65: =+#REF! -> #REF! | N65: =+#REF! -> #REF! | O65: =+#REF! -> #REF! | P65: =+#REF! -> #REF! | ... W65: =+#REF! -> #REF! | X65: =SUM(Y65:AB65) -> #REF! | Y65: =+'PL2. Tổng hợp SL cấp Remdesivir'!C91 -> 8000 | Z65: =+#REF! -> #REF! | AA65: =+#REF! -> #REF! | AB65: =+'PL1. Tổng hợp SL cấp kháng thể'!C85 -> 30 | AC65: =SUM(AD65:AN65) -> #REF! | AD65: =+#REF! -> #REF! | AE65: =+#REF! -> #REF! | AF65: =+#REF! -> #REF! | AG65: =+#REF! -> #REF! | AH65: =+#REF! -> #REF! | AQ65: =SUM(D65:AN65)-D65-G65-X65-AC65 -> #REF! | AR65: =+AQ65-#REF! -> #REF!
A66: 9 | B66: 9 | C66: Bình Dương | D66: =SUM(E66:F66) -> #REF! | E66: =+#REF! -> #REF! | F66: =+#REF! -> #REF! | G66: =SUM(H66:W66) -> #REF! | H66: =+'[1]Xuat TTB cac nguon'!D60 -> 0 | I66: =+#REF! -> #REF! | J66: =+#REF! -> #REF! | K66: =+#REF! -> #REF! | L66: =+#REF! -> #REF! | M66: =+#REF! -> #REF! | N66: =+#REF! -> #REF! | O66: =+#REF! -> #REF! | P66: =+#REF! -> #REF! | ... W66: =+#REF! -> #REF! | X66: =SUM(Y66:AB66) -> #REF! | Y66: =+'PL2. Tổng hợp SL cấp Remdesivir'!C103 -> 13900 | Z66: =+#REF! -> #REF! | AA66: =+#REF! -> #REF! | AB66: =+'PL1. Tổng hợp SL cấp kháng thể'!C97 -> 30 | AC66: =SUM(AD66:AN66) -> #REF! | AD66: =+#REF! -> #REF! | AE66: =+#REF! -> #REF! | AF66: =+#REF! -> #REF! | AG66: =+#REF! -> #REF! | AH66: =+#REF! -> #REF! | AQ66: =SUM(D66:AN66)-D66-G66-X66-AC66 -> #REF! | AR66: =+AQ66-#REF! -> #REF!
A67: 10 | B67: 10 | C67: Bình Phước | D67: =SUM(E67:F67) -> #REF! | E67: =+#REF! -> #REF! | F67: =+#REF! -> #REF! | G67: =SUM(H67:W67) -> #REF! | H67: =+'[1]Xuat TTB cac nguon'!D61 -> 0 | I67: =+#REF! -> #REF! | J67: =+#REF! -> #REF! | K67: =+#REF! -> #REF! | L67: =+#REF! -> #REF! | M67: =+#REF! -> #REF! | N67: =+#REF! -> #REF! | O67: =+#REF! -> #REF! | P67: =+#REF! -> #REF! | ... W67: =+#REF! -> #REF! | X67: =SUM(Y67:AB67) -> #REF! | Y67: =+'PL2. Tổng hợp SL cấp Remdesivir'!C101 -> 9432 | Z67: =+#REF! -> #REF! | AA67: =+#REF! -> #REF! | AB67: =+'PL1. Tổng hợp SL cấp kháng thể'!C95 -> 30 | AC67: =SUM(AD67:AN67) -> #REF! | AD67: =+#REF! -> #REF! | AE67: =+#REF! -> #REF! | AF67: =+#REF! -> #REF! | AG67: =+#REF! -> #REF! | AH67: =+#REF! -> #REF! | AQ67: =SUM(D67:AN67)-D67-G67-X67-AC67 -> #REF! | AR67: =+AQ67-#REF! -> #REF!
A68: 11 | B68: 11 | C68: Bình Thuận | D68: =SUM(E68:F68) -> #REF! | E68: =+#REF! -> #REF! | F68: =+#REF! -> #REF! | G68: =SUM(H68:W68) -> #REF! | H68: =+'[1]Xuat TTB cac nguon'!D62 -> 0 | I68: =+#REF! -> #REF! | J68: =+#REF! -> #REF! | K68: =+#REF! -> #REF! | L68: =+#REF! -> #REF! | M68: =+#REF! -> #REF! | N68: =+#REF! -> #REF! | O68: =+#REF! -> #REF! | P68: =+#REF! -> #REF! | ... W68: =+#REF! -> #REF! | X68: =SUM(Y68:AB68) -> #REF! | Y68: =+'PL2. Tổng hợp SL cấp Remdesivir'!C95 -> 5000 | Z68: =+#REF! -> #REF! | AA68: =+#REF! -> #REF! | AB68: =+'PL1. Tổng hợp SL cấp kháng thể'!C89 -> 30 | AC68: =SUM(AD68:AN68) -> #REF! | AD68: =+#REF! -> #REF! | AE68: =+#REF! -> #REF! | AF68: =+#REF! -> #REF! | AG68: =+#REF! -> #REF! | AH68: =+#REF! -> #REF! | AQ68: =SUM(D68:AN68)-D68-G68-X68-AC68 -> #REF! | AR68: =+AQ68-#REF! -> #REF!
A69: 12 | B69: 12 | C69: Cà Mau | D69: =SUM(E69:F69) -> #REF! | E69: =+#REF! -> #REF! | F69: =+#REF! -> #REF! | G69: =SUM(H69:W69) -> #REF! | H69: =+'[1]Xuat TTB cac nguon'!D63 -> 0 | I69: =+#REF! -> #REF! | J69: =+#REF! -> #REF! | K69: =+#REF! -> #REF! | L69: =+#REF! -> #REF! | M69: =+#REF! -> #REF! | N69: =+#REF! -> #REF! | O69: =+#REF! -> #REF! | P69: =+#REF! -> #REF! | ... W69: =+#REF! -> #REF! | X69: =SUM(Y69:AB69) -> #REF! | Y69: =+'PL2. Tổng hợp SL cấp Remdesivir'!C119 -> 11940 | Z69: =+#REF! -> #REF! | AA69: =+#REF! -> #REF! | AB69: =+'PL1. Tổng hợp SL cấp kháng thể'!C113 -> 20 | AC69: =SUM(AD69:AN69) -> #REF! | AD69: =+#REF! -> #REF! | AE69: =+#REF! -> #REF! | AF69: =+#REF! -> #REF! | AG69: =+#REF! -> #REF! | AH69: =+#REF! -> #REF! | AQ69: =SUM(D69:AN69)-D69-G69-X69-AC69 -> #REF! | AR69: =+AQ69-#REF! -> #REF!
A70: 13 | B70: 13 | C70: Cần Thơ | D70: =SUM(E70:F70) -> #REF! | E70: =+#REF! -> #REF! | F70: =+#REF! -> #REF! | G70: =SUM(H70:W70) -> #REF! | H70: =+'[1]Xuat TTB cac nguon'!D64 -> 0 | I70: =+#REF! -> #REF! | J70: =+#REF! -> #REF! | K70: =+#REF! -> #REF! | L70: =+#REF! -> #REF! | M70: =+#REF! -> #REF! | N70: =+#REF! -> #REF! | O70: =+#REF! -> #REF! | P70: =+#REF! -> #REF! | ... W70: =+#REF! -> #REF! | X70: =SUM(Y70:AB70) -> #REF! | Y70: =+'PL2. Tổng hợp SL cấp Remdesivir'!C115 -> 11392 | Z70: =+#REF! -> #REF! | AA70: =+#REF! -> #REF! | AB70: =+'PL1. Tổng hợp SL cấp kháng thể'!C109 -> 70 | AC70: =SUM(AD70:AN70) -> #REF! | AD70: =+#REF! -> #REF! | AE70: =+#REF! -> #REF! | AF70: =+#REF! -> #REF! | AG70: =+#REF! -> #REF! | AH70: =+#REF! -> #REF! | AQ70: =SUM(D70:AN70)-D70-G70-X70-AC70 -> #REF! | AR70: =+AQ70-#REF! -> #REF!
A71: 14 | B71: 14 | C71: Cao Bằng | D71: =SUM(E71:F71) -> #REF! | E71: =+#REF! -> #REF! | F71: =+#REF! -> #REF! | G71: =SUM(H71:W71) -> #REF! | H71: =+'[1]Xuat TTB cac nguon'!D65 -> 0 | I71: =+#REF! -> #REF! | J71: =+#REF! -> #REF! | K71: =+#REF! -> #REF! | L71: =+#REF! -> #REF! | M71: =+#REF! -> #REF! | N71: =+#REF! -> #REF! | O71: =+#REF! -> #REF! | P71: =+#REF! -> #REF! | ... W71: =+#REF! -> #REF! | X71: =SUM(Y71:AB71) -> #REF! | Y71: =+'PL2. Tổng hợp SL cấp Remdesivir'!C69 -> 25332 | Z71: =+#REF! -> #REF! | AA71: =+#REF! -> #REF! | AB71: =+'PL1. Tổng hợp SL cấp kháng thể'!C63 -> 150 | AC71: =SUM(AD71:AN71) -> #REF! | AD71: =+#REF! -> #REF! | AE71: =+#REF! -> #REF! | AF71: =+#REF! -> #REF! | AG71: =+#REF! -> #REF! | AH71: =+#REF! -> #REF! | AQ71: =SUM(D71:AN71)-D71-G71-X71-AC71 -> #REF! | AR71: =+AQ71-#REF! -> #REF!
A72: 15 | B72: 15 | C72: Đà Nẵng | D72: =SUM(E72:F72) -> #REF! | E72: =+#REF! -> #REF! | F72: =+#REF! -> #REF! | G72: =SUM(H72:W72) -> #REF! | H72: =+'[1]Xuat TTB cac nguon'!D66 -> 0 | I72: =+#REF! -> #REF! | J72: =+#REF! -> #REF! | K72: =+#REF! -> #REF! | L72: =+#REF! -> #REF! | M72: =+#REF! -> #REF! | N72: =+#REF! -> #REF! | O72: =+#REF! -> #REF! | P72: =+#REF! -> #REF! | ... W72: =+#REF! -> #REF! | X72: =SUM(Y72:AB72) -> #REF! | Y72: =+'PL2. Tổng hợp SL cấp Remdesivir'!C88 -> 37832 | Z72: =+#REF! -> #REF! | AA72: =+#REF! -> #REF! | AB72: =+'PL1. Tổng hợp SL cấp kháng thể'!C82 -> 70 | AC72: =SUM(AD72:AN72) -> #REF! | AD72: =+#REF! -> #REF! | AE72: =+#REF! -> #REF! | AF72: =+#REF! -> #REF! | AG72: =+#REF! -> #REF! | AH72: =+#REF! -> #REF! | AQ72: =SUM(D72:AN72)-D72-G72-X72-AC72 -> #REF! | AR72: =+AQ72-#REF! -> #REF!
A73: 16 | B73: 16 | C73: Đắk Lắk | D73: =SUM(E73:F73) -> #REF! | E73: =+#REF! -> #REF! | F73: =+#REF! -> #REF! | G73: =SUM(H73:W73) -> #REF! | H73: =+'[1]Xuat TTB cac nguon'!D67 -> 0 | I73: =+#REF! -> #REF! | J73: =+#REF! -> #REF! | K73: =+#REF! -> #REF! | L73: =+#REF! -> #REF! | M73: =+#REF! -> #REF! | N73: =+#REF! -> #REF! | O73: =+#REF! -> #REF! | P73: =+#REF! -> #REF! | ... W73: =+#REF! -> #REF! | X73: =SUM(Y73:AB73) -> #REF! | Y73: =+'PL2. Tổng hợp SL cấp Remdesivir'!C98 -> 18024 | Z73: =+#REF! -> #REF! | AA73: =+#REF! -> #REF! | AB73: =+'PL1. Tổng hợp SL cấp kháng thể'!C92 -> 40 | AC73: =SUM(AD73:AN73) -> #REF! | AD73: =+#REF! -> #REF! | AE73: =+#REF! -> #REF! | AF73: =+#REF! -> #REF! | AG73: =+#REF! -> #REF! | AH73: =+#REF! -> #REF! | AQ73: =SUM(D73:AN73)-D73-G73-X73-AC73 -> #REF! | AR73: =+AQ73-#REF! -> #REF!
A74: 17 | B74: 17 | C74: Đắk Nông | D74: =SUM(E74:F74) -> #REF! | E74: =+#REF! -> #REF! | F74: =+#REF! -> #REF! | G74: =SUM(H74:W74) -> #REF! | H74: =+'[1]Xuat TTB cac nguon'!D68 -> 0 | I74: =+#REF! -> #REF! | J74: =+#REF! -> #REF! | K74: =+#REF! -> #REF! | L74: =+#REF! -> #REF! | M74: =+#REF! -> #REF! | N74: =+#REF! -> #REF! | O74: =+#REF! -> #REF! | P74: =+#REF! -> #REF! | ... W74: =+#REF! -> #REF! | X74: =SUM(Y74:AB74) -> #REF! | Y74: =+'PL2. Tổng hợp SL cấp Remdesivir'!C99 -> 1800 | Z74: =+#REF! -> #REF! | AA74: =+#REF! -> #REF! | AB74: =+'PL1. Tổng hợp SL cấp kháng thể'!C93 -> 60 | AC74: =SUM(AD74:AN74) -> #REF! | AD74: =+#REF! -> #REF! | AE74: =+#REF! -> #REF! | AF74: =+#REF! -> #REF! | AG74: =+#REF! -> #REF! | AH74: =+#REF! -> #REF! | AQ74: =SUM(D74:AN74)-D74-G74-X74-AC74 -> #REF! | AR74: =+AQ74-#REF! -> #REF!
A75: 18 | B75: 18 | C75: Điện Biên | D75: =SUM(E75:F75) -> #REF! | E75: =+#REF! -> #REF! | F75: =+#REF! -> #REF! | G75: =SUM(H75:W75) -> #REF! | H75: =+'[1]Xuat TTB cac nguon'!D69 -> 0 | I75: =+#REF! -> #REF! | J75: =+#REF! -> #REF! | K75: =+#REF! -> #REF! | L75: =+#REF! -> #REF! | M75: =+#REF! -> #REF! | N75: =+#REF! -> #REF! | O75: =+#REF! -> #REF! | P75: =+#REF! -> #REF! | ... W75: =+#REF! -> #REF! | X75: =SUM(Y75:AB75) -> #REF! | Y75: =+'PL2. Tổng hợp SL cấp Remdesivir'!C78 -> 3000 | Z75: =+#REF! -> #REF! | AA75: =+#REF! -> #REF! | AB75: =+'PL1. Tổng hợp SL cấp kháng thể'!C72 -> 30 | AC75: =SUM(AD75:AN75) -> #REF! | AD75: =+#REF! -> #REF! | AE75: =+#REF! -> #REF! | AF75: =+#REF! -> #REF! | AG75: =+#REF! -> #REF! | AH75: =+#REF! -> #REF! | AQ75: =SUM(D75:AN75)-D75-G75-X75-AC75 -> #REF! | AR75: =+AQ75-#REF! -> #REF!
A76: 19 | B76: 19 | C76: Đồng Nai | D76: =SUM(E76:F76) -> #REF! | E76: =+#REF! -> #REF! | F76: =+#REF! -> #REF! | G76: =SUM(H76:W76) -> #REF! | H76: =+'[1]Xuat TTB cac nguon'!D70 -> 0 | I76: =+#REF! -> #REF! | J76: =+#REF! -> #REF! | K76: =+#REF! -> #REF! | L76: =+#REF! -> #REF! | M76: =+#REF! -> #REF! | N76: =+#REF! -> #REF! | O76: =+#REF! -> #REF! | P76: =+#REF! -> #REF! | ... W76: =+#REF! -> #REF! | X76: =SUM(Y76:AB76) -> #REF! | Y76: =+'PL2. Tổng hợp SL cấp Remdesivir'!C104 -> 8080 | Z76: =+#REF! -> #REF! | AA76: =+#REF! -> #REF! | AB76: =+'PL1. Tổng hợp SL cấp kháng thể'!C98 -> 60 | AC76: =SUM(AD76:AN76) -> #REF! | AD76: =+#REF! -> #REF! | AE76: =+#REF! -> #REF! | AF76: =+#REF! -> #REF! | AG76: =+#REF! -> #REF! | AH76: =+#REF! -> #REF! | AQ76: =SUM(D76:AN76)-D76-G76-X76-AC76 -> #REF! | AR76: =+AQ76-#REF! -> #REF!
A77: 20 | B77: 20 | C77: Đồng Tháp | D77: =SUM(E77:F77) -> #REF! | E77: =+#REF! -> #REF! | F77: =+#REF! -> #REF! | G77: =SUM(H77:W77) -> #REF! | H77: =+'[1]Xuat TTB cac nguon'!D71 -> 0 | I77: =+#REF! -> #REF! | J77: =+#REF! -> #REF! | K77: =+#REF! -> #REF! | L77: =+#REF! -> #REF! | M77: =+#REF! -> #REF! | N77: =+#REF! -> #REF! | O77: =+#REF! -> #REF! | P77: =+#REF! -> #REF! | ... W77: =+#REF! -> #REF! | X77: =SUM(Y77:AB77) -> #REF! | Y77: =+'PL2. Tổng hợp SL cấp Remdesivir'!C112 -> 1000 | Z77: =+#REF! -> #REF! | AA77: =+#REF! -> #REF! | AB77: =+'PL1. Tổng hợp SL cấp kháng thể'!C106 -> 40 | AC77: =SUM(AD77:AN77) -> #REF! | AD77: =+#REF! -> #REF! | AE77: =+#REF! -> #REF! | AF77: =+#REF! -> #REF! | AG77: =+#REF! -> #REF! | AH77: =+#REF! -> #REF! | AQ77: =SUM(D77:AN77)-D77-G77-X77-AC77 -> #REF! | AR77: =+AQ77-#REF! -> #REF!
A78: 21 | B78: 21 | C78: Gia Lai | D78: =SUM(E78:F78) -> #REF! | E78: =+#REF! -> #REF! | F78: =+#REF! -> #REF! | G78: =SUM(H78:W78) -> #REF! | H78: =+'[1]Xuat TTB cac nguon'!D72 -> 0 | I78: =+#REF! -> #REF! | J78: =+#REF! -> #REF! | K78: =+#REF! -> #REF! | L78: =+#REF! -> #REF! | M78: =+#REF! -> #REF! | N78: =+#REF! -> #REF! | O78: =+#REF! -> #REF! | P78: =+#REF! -> #REF! | ... W78: =+#REF! -> #REF! | X78: =SUM(Y78:AB78) -> #REF! | Y78: =+'PL2. Tổng hợp SL cấp Remdesivir'!C97 -> 540 | Z78: =+#REF! -> #REF! | AA78: =+#REF! -> #REF! | AB78: =+'PL1. Tổng hợp SL cấp kháng thể'!C91 -> 30 | AC78: =SUM(AD78:AN78) -> #REF! | AD78: =+#REF! -> #REF! | AE78: =+#REF! -> #REF! | AF78: =+#REF! -> #REF! | AG78: =+#REF! -> #REF! | AH78: =+#REF! -> #REF! | AQ78: =SUM(D78:AN78)-D78-G78-X78-AC78 -> #REF! | AR78: =+AQ78-#REF! -> #REF!
A79: 22 | B79: 22 | C79: Hà Giang | D79: =SUM(E79:F79) -> #REF! | E79: =+#REF! -> #REF! | F79: =+#REF! -> #REF! | G79: =SUM(H79:W79) -> #REF! | H79: =+'[1]Xuat TTB cac nguon'!D73 -> 0 | I79: =+#REF! -> #REF! | J79: =+#REF! -> #REF! | K79: =+#REF! -> #REF! | L79: =+#REF! -> #REF! | M79: =+#REF! -> #REF! | N79: =+#REF! -> #REF! | O79: =+#REF! -> #REF! | P79: =+#REF! -> #REF! | ... W79: =+#REF! -> #REF! | X79: =SUM(Y79:AB79) -> #REF! | Y79: =+'PL2. Tổng hợp SL cấp Remdesivir'!C68 -> 23984 | Z79: =+#REF! -> #REF! | AA79: =+#REF! -> #REF! | AB79: =+'PL1. Tổng hợp SL cấp kháng thể'!C62 -> 70 | AC79: =SUM(AD79:AN79) -> #REF! | AD79: =+#REF! -> #REF! | AE79: =+#REF! -> #REF! | AF79: =+#REF! -> #REF! | AG79: =+#REF! -> #REF! | AH79: =+#REF! -> #REF! | AQ79: =SUM(D79:AN79)-D79-G79-X79-AC79 -> #REF! | AR79: =+AQ79-#REF! -> #REF!
A80: 23 | B80: 23 | C80: Hà Nam | D80: =SUM(E80:F80) -> #REF! | E80: =+#REF! -> #REF! | F80: =+#REF! -> #REF! | G80: =SUM(H80:W80) -> #REF! | H80: =+'[1]Xuat TTB cac nguon'!D74 -> 0 | I80: =+#REF! -> #REF! | J80: =+#REF! -> #REF! | K80: =+#REF! -> #REF! | L80: =+#REF! -> #REF! | M80: =+#REF! -> #REF! | N80: =+#REF! -> #REF! | O80: =+#REF! -> #REF! | P80: =+#REF! -> #REF! | ... W80: =+#REF! -> #REF! | X80: =SUM(Y80:AB80) -> #REF! | Y80: =+'PL2. Tổng hợp SL cấp Remdesivir'!C65 -> 18928 | Z80: =+#REF! -> #REF! | AA80: =+#REF! -> #REF! | AB80: =+'PL1. Tổng hợp SL cấp kháng thể'!C59 -> 150 | AC80: =SUM(AD80:AN80) -> #REF! | AD80: =+#REF! -> #REF! | AE80: =+#REF! -> #REF! | AF80: =+#REF! -> #REF! | AG80: =+#REF! -> #REF! | AH80: =+#REF! -> #REF! | AQ80: =SUM(D80:AN80)-D80-G80-X80-AC80 -> #REF! | AR80: =+AQ80-#REF! -> #REF!
A81: 24 | B81: 24 | C81: Hà Nội | D81: =SUM(E81:F81) -> #REF! | E81: =+#REF! -> #REF! | F81: =+#REF! -> #REF! | G81: =SUM(H81:W81) -> #REF! | H81: =+'[1]Xuat TTB cac nguon'!D75 -> 0 | I81: =+#REF! -> #REF! | J81: =+#REF! -> #REF! | K81: =+#REF! -> #REF! | L81: =+#REF! -> #REF! | M81: =+#REF! -> #REF! | N81: =+#REF! -> #REF! | O81: =+#REF! -> #REF! | P81: =+#REF! -> #REF! | ... W81: =+#REF! -> #REF! | X81: =SUM(Y81:AB81) -> #REF! | Y81: =+'PL2. Tổng hợp SL cấp Remdesivir'!C57 -> 24732 | Z81: =+#REF! -> #REF! | AA81: =+#REF! -> #REF! | AB81: =+'PL1. Tổng hợp SL cấp kháng thể'!C51 -> 70 | AC81: =SUM(AD81:AN81) -> #REF! | AD81: =+#REF! -> #REF! | AE81: =+#REF! -> #REF! | AF81: =+#REF! -> #REF! | AG81: =+#REF! -> #REF! | AH81: =+#REF! -> #REF! | AQ81: =SUM(D81:AN81)-D81-G81-X81-AC81 -> #REF! | AR81: =+AQ81-#REF! -> #REF!
A82: 25 | B82: 25 | C82: Hà Tĩnh | D82: =SUM(E82:F82) -> #REF! | E82: =+#REF! -> #REF! | F82: =+#REF! -> #REF! | G82: =SUM(H82:W82) -> #REF! | H82: =+'[1]Xuat TTB cac nguon'!D76 -> 0 | I82: =+#REF! -> #REF! | J82: =+#REF! -> #REF! | K82: =+#REF! -> #REF! | L82: =+#REF! -> #REF! | M82: =+#REF! -> #REF! | N82: =+#REF! -> #REF! | O82: =+#REF! -> #REF! | P82: =+#REF! -> #REF! | ... W82: =+#REF! -> #REF! | X82: =SUM(Y82:AB82) -> #REF! | Y82: =+'PL2. Tổng hợp SL cấp Remdesivir'!C84 -> 8752 | Z82: =+#REF! -> #REF! | AA82: =+#REF! -> #REF! | AB82: =+'PL1. Tổng hợp SL cấp kháng thể'!C78 -> 40 | AC82: =SUM(AD82:AN82) -> #REF! | AD82: =+#REF! -> #REF! | AE82: =+#REF! -> #REF! | AF82: =+#REF! -> #REF! | AG82: =+#REF! -> #REF! | AH82: =+#REF! -> #REF! | AQ82: =SUM(D82:AN82)-D82-G82-X82-AC82 -> #REF! | AR82: =+AQ82-#REF! -> #REF!
A83: 26 | B83: 26 | C83: Hải Dương | D83: =SUM(E83:F83) -> #REF! | E83: =+#REF! -> #REF! | F83: =+#REF! -> #REF! | G83: =SUM(H83:W83) -> #REF! | H83: =+'[1]Xuat TTB cac nguon'!D77 -> 0 | I83: =+#REF! -> #REF! | J83: =+#REF! -> #REF! | K83: =+#REF! -> #REF! | L83: =+#REF! -> #REF! | M83: =+#REF! -> #REF! | N83: =+#REF! -> #REF! | O83: =+#REF! -> #REF! | P83: =+#REF! -> #REF! | ... W83: =+#REF! -> #REF! | X83: =SUM(Y83:AB83) -> #REF! | Y83: =+'PL2. Tổng hợp SL cấp Remdesivir'!C61 -> 18927 | Z83: =+#REF! -> #REF! | AA83: =+#REF! -> #REF! | AB83: =+'PL1. Tổng hợp SL cấp kháng thể'!C55 -> 90 | AC83: =SUM(AD83:AN83) -> #REF! | AD83: =+#REF! -> #REF! | AE83: =+#REF! -> #REF! | AF83: =+#REF! -> #REF! | AG83: =+#REF! -> #REF! | AH83: =+#REF! -> #REF! | AQ83: =SUM(D83:AN83)-D83-G83-X83-AC83 -> #REF! | AR83: =+AQ83-#REF! -> #REF!
A84: 27 | B84: 27 | C84: Hải Phòng | D84: =SUM(E84:F84) -> #REF! | E84: =+#REF! -> #REF! | F84: =+#REF! -> #REF! | G84: =SUM(H84:W84) -> #REF! | H84: =+'[1]Xuat TTB cac nguon'!D78 -> 0 | I84: =+#REF! -> #REF! | J84: =+#REF! -> #REF! | K84: =+#REF! -> #REF! | L84: =+#REF! -> #REF! | M84: =+#REF! -> #REF! | N84: =+#REF! -> #REF! | O84: =+#REF! -> #REF! | P84: =+#REF! -> #REF! | ... W84: =+#REF! -> #REF! | X84: =SUM(Y84:AB84) -> #REF! | Y84: =+'PL2. Tổng hợp SL cấp Remdesivir'!C62 -> 2800 | Z84: =+#REF! -> #REF! | AA84: =+#REF! -> #REF! | AB84: =+'PL1. Tổng hợp SL cấp kháng thể'!C56 -> 30 | AC84: =SUM(AD84:AN84) -> #REF! | AD84: =+#REF! -> #REF! | AE84: =+#REF! -> #REF! | AF84: =+#REF! -> #REF! | AG84: =+#REF! -> #REF! | AH84: =+#REF! -> #REF! | AQ84: =SUM(D84:AN84)-D84-G84-X84-AC84 -> #REF! | AR84: =+AQ84-#REF! -> #REF!
A85: 28 | B85: 28 | C85: Hậu Giang | D85: =SUM(E85:F85) -> #REF! | E85: =+#REF! -> #REF! | F85: =+#REF! -> #REF! | G85: =SUM(H85:W85) -> #REF! | H85: =+'[1]Xuat TTB cac nguon'!D79 -> 0 | I85: =+#REF! -> #REF! | J85: =+#REF! -> #REF! | K85: =+#REF! -> #REF! | L85: =+#REF! -> #REF! | M85: =+#REF! -> #REF! | N85: =+#REF! -> #REF! | O85: =+#REF! -> #REF! | P85: =+#REF! -> #REF! | ... W85: =+#REF! -> #REF! | X85: =SUM(Y85:AB85) -> #REF! | Y85: =+'PL2. Tổng hợp SL cấp Remdesivir'!C116 -> 1350 | Z85: =+#REF! -> #REF! | AA85: =+#REF! -> #REF! | AB85: =+'PL1. Tổng hợp SL cấp kháng thể'!C110 -> 20 | AC85: =SUM(AD85:AN85) -> #REF! | AD85: =+#REF! -> #REF! | AE85: =+#REF! -> #REF! | AF85: =+#REF! -> #REF! | AG85: =+#REF! -> #REF! | AH85: =+#REF! -> #REF! | AQ85: =SUM(D85:AN85)-D85-G85-X85-AC85 -> #REF! | AR85: =+AQ85-#REF! -> #REF!
A86: 29 | B86: 29 | C86: Hoà Bình | D86: =SUM(E86:F86) -> #REF! | E86: =+#REF! -> #REF! | F86: =+#REF! -> #REF! | G86: =SUM(H86:W86) -> #REF! | H86: =+'[1]Xuat TTB cac nguon'!D80 -> 0 | I86: =+#REF! -> #REF! | J86: =+#REF! -> #REF! | K86: =+#REF! -> #REF! | L86: =+#REF! -> #REF! | M86: =+#REF! -> #REF! | N86: =+#REF! -> #REF! | O86: =+#REF! -> #REF! | P86: =+#REF! -> #REF! | ... W86: =+#REF! -> #REF! | X86: =SUM(Y86:AB86) -> #REF! | Y86: =+'PL2. Tổng hợp SL cấp Remdesivir'!C81 -> 4532 | Z86: =+#REF! -> #REF! | AA86: =+#REF! -> #REF! | AB86: =+'PL1. Tổng hợp SL cấp kháng thể'!C75 -> 60 | AC86: =SUM(AD86:AN86) -> #REF! | AD86: =+#REF! -> #REF! | AE86: =+#REF! -> #REF! | AF86: =+#REF! -> #REF! | AG86: =+#REF! -> #REF! | AH86: =+#REF! -> #REF! | AQ86: =SUM(D86:AN86)-D86-G86-X86-AC86 -> #REF! | AR86: =+AQ86-#REF! -> #REF!
A87: 30 | B87: 30 | C87: Hưng Yên | D87: =SUM(E87:F87) -> #REF! | E87: =+#REF! -> #REF! | F87: =+#REF! -> #REF! | G87: =SUM(H87:W87) -> #REF! | H87: =+'[1]Xuat TTB cac nguon'!D81 -> 0 | I87: =+#REF! -> #REF! | J87: =+#REF! -> #REF! | K87: =+#REF! -> #REF! | L87: =+#REF! -> #REF! | M87: =+#REF! -> #REF! | N87: =+#REF! -> #REF! | O87: =+#REF! -> #REF! | P87: =+#REF! -> #REF! | ... W87: =+#REF! -> #REF! | X87: =SUM(Y87:AB87) -> #REF! | Y87: =+'PL2. Tổng hợp SL cấp Remdesivir'!C63 -> 5172 | Z87: =+#REF! -> #REF! | AA87: =+#REF! -> #REF! | AB87: =+'PL1. Tổng hợp SL cấp kháng thể'!C57 -> 50 | AC87: =SUM(AD87:AN87) -> #REF! | AD87: =+#REF! -> #REF! | AE87: =+#REF! -> #REF! | AF87: =+#REF! -> #REF! | AG87: =+#REF! -> #REF! | AH87: =+#REF! -> #REF! | AQ87: =SUM(D87:AN87)-D87-G87-X87-AC87 -> #REF! | AR87: =+AQ87-#REF! -> #REF!
A88: 31 | B88: 31 | C88: Khánh Hoà | D88: =SUM(E88:F88) -> #REF! | E88: =+#REF! -> #REF! | F88: =+#REF! -> #REF! | G88: =SUM(H88:W88) -> #REF! | H88: =+'[1]Xuat TTB cac nguon'!D82 -> 0 | I88: =+#REF! -> #REF! | J88: =+#REF! -> #REF! | K88: =+#REF! -> #REF! | L88: =+#REF! -> #REF! | M88: =+#REF! -> #REF! | N88: =+#REF! -> #REF! | O88: =+#REF! -> #REF! | P88: =+#REF! -> #REF! | ... W88: =+#REF! -> #REF! | X88: =SUM(Y88:AB88) -> #REF! | Y88: =+'PL2. Tổng hợp SL cấp Remdesivir'!C93 -> 1270 | Z88: =+#REF! -> #REF! | AA88: =+#REF! -> #REF! | AB88: =+'PL1. Tổng hợp SL cấp kháng thể'!C87 -> 30 | AC88: =SUM(AD88:AN88) -> #REF! | AD88: =+#REF! -> #REF! | AE88: =+#REF! -> #REF! | AF88: =+#REF! -> #REF! | AG88: =+#REF! -> #REF! | AH88: =+#REF! -> #REF! | AQ88: =SUM(D88:AN88)-D88-G88-X88-AC88 -> #REF! | AR88: =+AQ88-#REF! -> #REF!
A89: 32 | B89: 32 | C89: Kiên Giang | D89: =SUM(E89:F89) -> #REF! | E89: =+#REF! -> #REF! | F89: =+#REF! -> #REF! | G89: =SUM(H89:W89) -> #REF! | H89: =+'[1]Xuat TTB cac nguon'!D83 -> 0 | I89: =+#REF! -> #REF! | J89: =+#REF! -> #REF! | K89: =+#REF! -> #REF! | L89: =+#REF! -> #REF! | M89: =+#REF! -> #REF! | N89: =+#REF! -> #REF! | O89: =+#REF! -> #REF! | P89: =+#REF! -> #REF! | ... W89: =+#REF! -> #REF! | X89: =SUM(Y89:AB89) -> #REF! | Y89: =+'PL2. Tổng hợp SL cấp Remdesivir'!C114 -> 190902 | Z89: =+#REF! -> #REF! | AA89: =+#REF! -> #REF! | AB89: =+'PL1. Tổng hợp SL cấp kháng thể'!C108 -> 300 | AC89: =SUM(AD89:AN89) -> #REF! | AD89: =+#REF! -> #REF! | AE89: =+#REF! -> #REF! | AF89: =+#REF! -> #REF! | AG89: =+#REF! -> #REF! | AH89: =+#REF! -> #REF! | AQ89: =SUM(D89:AN89)-D89-G89-X89-AC89 -> #REF! | AR89: =+AQ89-#REF! -> #REF!
A90: 33 | B90: 33 | C90: Kon Tum | D90: =SUM(E90:F90) -> #REF! | E90: =+#REF! -> #REF! | F90: =+#REF! -> #REF! | G90: =SUM(H90:W90) -> #REF! | H90: =+'[1]Xuat TTB cac nguon'!D84 -> 0 | I90: =+#REF! -> #REF! | J90: =+#REF! -> #REF! | K90: =+#REF! -> #REF! | L90: =+#REF! -> #REF! | M90: =+#REF! -> #REF! | N90: =+#REF! -> #REF! | O90: =+#REF! -> #REF! | P90: =+#REF! -> #REF! | ... W90: =+#REF! -> #REF! | X90: =SUM(Y90:AB90) -> #REF! | Y90: =+'PL2. Tổng hợp SL cấp Remdesivir'!C96 -> 3132 | Z90: =+#REF! -> #REF! | AA90: =+#REF! -> #REF! | AB90: =+'PL1. Tổng hợp SL cấp kháng thể'!C90 -> 30 | AC90: =SUM(AD90:AN90) -> #REF! | AD90: =+#REF! -> #REF! | AE90: =+#REF! -> #REF! | AF90: =+#REF! -> #REF! | AG90: =+#REF! -> #REF! | AH90: =+#REF! -> #REF! | AQ90: =SUM(D90:AN90)-D90-G90-X90-AC90 -> #REF! | AR90: =+AQ90-#REF! -> #REF!
A91: 34 | B91: 34 | C91: Lai Châu | D91: =SUM(E91:F91) -> #REF! | E91: =+#REF! -> #REF! | F91: =+#REF! -> #REF! | G91: =SUM(H91:W91) -> #REF! | H91: =+'[1]Xuat TTB cac nguon'!D85 -> 0 | I91: =+#REF! -> #REF! | J91: =+#REF! -> #REF! | K91: =+#REF! -> #REF! | L91: =+#REF! -> #REF! | M91: =+#REF! -> #REF! | N91: =+#REF! -> #REF! | O91: =+#REF! -> #REF! | P91: =+#REF! -> #REF! | ... W91: =+#REF! -> #REF! | X91: =SUM(Y91:AB91) -> #REF! | Y91: =+'PL2. Tổng hợp SL cấp Remdesivir'!C79 -> 3000 | Z91: =+#REF! -> #REF! | AA91: =+#REF! -> #REF! | AB91: =+'PL1. Tổng hợp SL cấp kháng thể'!C73 -> 60 | AC91: =SUM(AD91:AN91) -> #REF! | AD91: =+#REF! -> #REF! | AE91: =+#REF! -> #REF! | AF91: =+#REF! -> #REF! | AG91: =+#REF! -> #REF! | AH91: =+#REF! -> #REF! | AQ91: =SUM(D91:AN91)-D91-G91-X91-AC91 -> #REF! | AR91: =+AQ91-#REF! -> #REF!
A92: 35 | B92: 35 | C92: Lâm Đồng | D92: =SUM(E92:F92) -> #REF! | E92: =+#REF! -> #REF! | F92: =+#REF! -> #REF! | G92: =SUM(H92:W92) -> #REF! | H92: =+'[1]Xuat TTB cac nguon'!D86 -> 0 | I92: =+#REF! -> #REF! | J92: =+#REF! -> #REF! | K92: =+#REF! -> #REF! | L92: =+#REF! -> #REF! | M92: =+#REF! -> #REF! | N92: =+#REF! -> #REF! | O92: =+#REF! -> #REF! | P92: =+#REF! -> #REF! | ... W92: =+#REF! -> #REF! | X92: =SUM(Y92:AB92) -> #REF! | Y92: =+'PL2. Tổng hợp SL cấp Remdesivir'!C100 -> 3832 | Z92: =+#REF! -> #REF! | AA92: =+#REF! -> #REF! | AB92: =+'PL1. Tổng hợp SL cấp kháng thể'!C94 -> 40 | AC92: =SUM(AD92:AN92) -> #REF! | AD92: =+#REF! -> #REF! | AE92: =+#REF! -> #REF! | AF92: =+#REF! -> #REF! | AG92: =+#REF! -> #REF! | AH92: =+#REF! -> #REF! | AQ92: =SUM(D92:AN92)-D92-G92-X92-AC92 -> #REF! | AR92: =+AQ92-#REF! -> #REF!
A93: 36 | B93: 36 | C93: Lạng sơn | D93: =SUM(E93:F93) -> #REF! | E93: =+#REF! -> #REF! | F93: =+#REF! -> #REF! | G93: =SUM(H93:W93) -> #REF! | H93: =+'[1]Xuat TTB cac nguon'!D87 -> 0 | I93: =+#REF! -> #REF! | J93: =+#REF! -> #REF! | K93: =+#REF! -> #REF! | L93: =+#REF! -> #REF! | M93: =+#REF! -> #REF! | N93: =+#REF! -> #REF! | O93: =+#REF! -> #REF! | P93: =+#REF! -> #REF! | ... W93: =+#REF! -> #REF! | X93: =SUM(Y93:AB93) -> #REF! | Y93: =+'PL2. Tổng hợp SL cấp Remdesivir'!C75 -> 17984 | Z93: =+#REF! -> #REF! | AA93: =+#REF! -> #REF! | AB93: =+'PL1. Tổng hợp SL cấp kháng thể'!C69 -> 180 | AC93: =SUM(AD93:AN93) -> #REF! | AD93: =+#REF! -> #REF! | AE93: =+#REF! -> #REF! | AF93: =+#REF! -> #REF! | AG93: =+#REF! -> #REF! | AH93: =+#REF! -> #REF! | AQ93: =SUM(D93:AN93)-D93-G93-X93-AC93 -> #REF! | AR93: =+AQ93-#REF! -> #REF!
A94: 37 | B94: 37 | C94: Lào Cai | D94: =SUM(E94:F94) -> #REF! | E94: =+#REF! -> #REF! | F94: =+#REF! -> #REF! | G94: =SUM(H94:W94) -> #REF! | H94: =+'[1]Xuat TTB cac nguon'!D88 -> 0 | I94: =+#REF! -> #REF! | J94: =+#REF! -> #REF! | K94: =+#REF! -> #REF! | L94: =+#REF! -> #REF! | M94: =+#REF! -> #REF! | N94: =+#REF! -> #REF! | O94: =+#REF! -> #REF! | P94: =+#REF! -> #REF! | ... W94: =+#REF! -> #REF! | X94: =SUM(Y94:AB94) -> #REF! | Y94: =+'PL2. Tổng hợp SL cấp Remdesivir'!C72 -> 7390 | Z94: =+#REF! -> #REF! | AA94: =+#REF! -> #REF! | AB94: =+'PL1. Tổng hợp SL cấp kháng thể'!C66 -> 30 | AC94: =SUM(AD94:AN94) -> #REF! | AD94: =+#REF! -> #REF! | AE94: =+#REF! -> #REF! | AF94: =+#REF! -> #REF! | AG94: =+#REF! -> #REF! | AH94: =+#REF! -> #REF! | AQ94: =SUM(D94:AN94)-D94-G94-X94-AC94 -> #REF! | AR94: =+AQ94-#REF! -> #REF!
A95: 38 | B95: 38 | C95: Long An | D95: =SUM(E95:F95) -> #REF! | E95: =+#REF! -> #REF! | F95: =+#REF! -> #REF! | G95: =SUM(H95:W95) -> #REF! | H95: =+'[1]Xuat TTB cac nguon'!D89 -> 0 | I95: =+#REF! -> #REF! | J95: =+#REF! -> #REF! | K95: =+#REF! -> #REF! | L95: =+#REF! -> #REF! | M95: =+#REF! -> #REF! | N95: =+#REF! -> #REF! | O95: =+#REF! -> #REF! | P95: =+#REF! -> #REF! | ... W95: =+#REF! -> #REF! | X95: =SUM(Y95:AB95) -> #REF! | Y95: =+'PL2. Tổng hợp SL cấp Remdesivir'!C107 -> 2150 | Z95: =+#REF! -> #REF! | AA95: =+#REF! -> #REF! | AB95: =+'PL1. Tổng hợp SL cấp kháng thể'!C101 -> 30 | AC95: =SUM(AD95:AN95) -> #REF! | AD95: =+#REF! -> #REF! | AE95: =+#REF! -> #REF! | AF95: =+#REF! -> #REF! | AG95: =+#REF! -> #REF! | AH95: =+#REF! -> #REF! | AQ95: =SUM(D95:AN95)-D95-G95-X95-AC95 -> #REF! | AR95: =+AQ95-#REF! -> #REF!
A96: 39 | B96: 39 | C96: Nam Định | D96: =SUM(E96:F96) -> #REF! | E96: =+#REF! -> #REF! | F96: =+#REF! -> #REF! | G96: =SUM(H96:W96) -> #REF! | H96: =+'[1]Xuat TTB cac nguon'!D90 -> 0 | I96: =+#REF! -> #REF! | J96: =+#REF! -> #REF! | K96: =+#REF! -> #REF! | L96: =+#REF! -> #REF! | M96: =+#REF! -> #REF! | N96: =+#REF! -> #REF! | O96: =+#REF! -> #REF! | P96: =+#REF! -> #REF! | ... W96: =+#REF! -> #REF! | X96: =SUM(Y96:AB96) -> #REF! | Y96: =+'PL2. Tổng hợp SL cấp Remdesivir'!C66 -> 8264 | Z96: =+#REF! -> #REF! | AA96: =+#REF! -> #REF! | AB96: =+'PL1. Tổng hợp SL cấp kháng thể'!C60 -> 80 | AC96: =SUM(AD96:AN96) -> #REF! | AD96: =+#REF! -> #REF! | AE96: =+#REF! -> #REF! | AF96: =+#REF! -> #REF! | AG96: =+#REF! -> #REF! | AH96: =+#REF! -> #REF! | AQ96: =SUM(D96:AN96)-D96-G96-X96-AC96 -> #REF! | AR96: =+AQ96-#REF! -> #REF!
A97: 40 | B97: 40 | C97: Nghệ An | D97: =SUM(E97:F97) -> #REF! | E97: =+#REF! -> #REF! | F97: =+#REF! -> #REF! | G97: =SUM(H97:W97) -> #REF! | H97: =+'[1]Xuat TTB cac nguon'!D91 -> 0 | I97: =+#REF! -> #REF! | J97: =+#REF! -> #REF! | K97: =+#REF! -> #REF! | L97: =+#REF! -> #REF! | M97: =+#REF! -> #REF! | N97: =+#REF! -> #REF! | O97: =+#REF! -> #REF! | P97: =+#REF! -> #REF! | ... W97: =+#REF! -> #REF! | X97: =SUM(Y97:AB97) -> #REF! | Y97: =+'PL2. Tổng hợp SL cấp Remdesivir'!C83 -> 95000 | Z97: =+#REF! -> #REF! | AA97: =+#REF! -> #REF! | AB97: =+'PL1. Tổng hợp SL cấp kháng thể'!C77 -> 30 | AC97: =SUM(AD97:AN97) -> #REF! | AD97: =+#REF! -> #REF! | AE97: =+#REF! -> #REF! | AF97: =+#REF! -> #REF! | AG97: =+#REF! -> #REF! | AH97: =+#REF! -> #REF! | AQ97: =SUM(D97:AN97)-D97-G97-X97-AC97 -> #REF! | AR97: =+AQ97-#REF! -> #REF!
A98: 41 | B98: 41 | C98: Ninh Bình | D98: =SUM(E98:F98) -> #REF! | E98: =+#REF! -> #REF! | F98: =+#REF! -> #REF! | G98: =SUM(H98:W98) -> #REF! | H98: =+'[1]Xuat TTB cac nguon'!D92 -> 0 | I98: =+#REF! -> #REF! | J98: =+#REF! -> #REF! | K98: =+#REF! -> #REF! | L98: =+#REF! -> #REF! | M98: =+#REF! -> #REF! | N98: =+#REF! -> #REF! | O98: =+#REF! -> #REF! | P98: =+#REF! -> #REF! | ... W98: =+#REF! -> #REF! | X98: =SUM(Y98:AB98) -> #REF! | Y98: =+'PL2. Tổng hợp SL cấp Remdesivir'!C67 -> 5000 | Z98: =+#REF! -> #REF! | AA98: =+#REF! -> #REF! | AB98: =+'PL1. Tổng hợp SL cấp kháng thể'!C61 -> 120 | AC98: =SUM(AD98:AN98) -> #REF! | AD98: =+#REF! -> #REF! | AE98: =+#REF! -> #REF! | AF98: =+#REF! -> #REF! | AG98: =+#REF! -> #REF! | AH98: =+#REF! -> #REF! | AQ98: =SUM(D98:AN98)-D98-G98-X98-AC98 -> #REF! | AR98: =+AQ98-#REF! -> #REF!
A99: 42 | B99: 42 | C99: Ninh Thuận | D99: =SUM(E99:F99) -> #REF! | E99: =+#REF! -> #REF! | F99: =+#REF! -> #REF! | G99: =SUM(H99:W99) -> #REF! | H99: =+'[1]Xuat TTB cac nguon'!D93 -> 0 | I99: =+#REF! -> #REF! | J99: =+#REF! -> #REF! | K99: =+#REF! -> #REF! | L99: =+#REF! -> #REF! | M99: =+#REF! -> #REF! | N99: =+#REF! -> #REF! | O99: =+#REF! -> #REF! | P99: =+#REF! -> #REF! | ... W99: =+#REF! -> #REF! | X99: =SUM(Y99:AB99) -> #REF! | Y99: =+'PL2. Tổng hợp SL cấp Remdesivir'!C94 -> 5132 | Z99: =+#REF! -> #REF! | AA99: =+#REF! -> #REF! | AB99: =+'PL1. Tổng hợp SL cấp kháng thể'!C88 -> 170 | AC99: =SUM(AD99:AN99) -> #REF! | AD99: =+#REF! -> #REF! | AE99: =+#REF! -> #REF! | AF99: =+#REF! -> #REF! | AG99: =+#REF! -> #REF! | AH99: =+#REF! -> #REF! | AQ99: =SUM(D99:AN99)-D99-G99-X99-AC99 -> #REF! | AR99: =+AQ99-#REF! -> #REF!
A100: 43 | B100: 43 | C100: Phú Thọ | D100: =SUM(E100:F100) -> #REF! | E100: =+#REF! -> #REF! | F100: =+#REF! -> #REF! | G100: =SUM(H100:W100) -> #REF! | H100: =+'[1]Xuat TTB cac nguon'!D94 -> 0 | I100: =+#REF! -> #REF! | J100: =+#REF! -> #REF! | K100: =+#REF! -> #REF! | L100: =+#REF! -> #REF! | M100: =+#REF! -> #REF! | N100: =+#REF! -> #REF! | O100: =+#REF! -> #REF! | P100: =+#REF! -> #REF! | ... W100: =+#REF! -> #REF! | X100: =SUM(Y100:AB100) -> #REF! | Y100: =+'PL2. Tổng hợp SL cấp Remdesivir'!C77 -> 4466 | Z100: =+#REF! -> #REF! | AA100: =+#REF! -> #REF! | AB100: =+'PL1. Tổng hợp SL cấp kháng thể'!C71 -> 30 | AC100: =SUM(AD100:AN100) -> #REF! | AD100: =+#REF! -> #REF! | AE100: =+#REF! -> #REF! | AF100: =+#REF! -> #REF! | AG100: =+#REF! -> #REF! | AH100: =+#REF! -> #REF! | AQ100: =SUM(D100:AN100)-D100-G100-X100-AC100 -> #REF! | AR100: =+AQ100-#REF! -> #REF!
A101: 44 | B101: 44 | C101: Phú Yên | D101: =SUM(E101:F101) -> #REF! | E101: =+#REF! -> #REF! | F101: =+#REF! -> #REF! | G101: =SUM(H101:W101) -> #REF! | H101: =+'[1]Xuat TTB cac nguon'!D95 -> 0 | I101: =+#REF! -> #REF! | J101: =+#REF! -> #REF! | K101: =+#REF! -> #REF! | L101: =+#REF! -> #REF! | M101: =+#REF! -> #REF! | N101: =+#REF! -> #REF! | O101: =+#REF! -> #REF! | P101: =+#REF! -> #REF! | ... W101: =+#REF! -> #REF! | X101: =SUM(Y101:AB101) -> #REF! | Y101: =+'PL2. Tổng hợp SL cấp Remdesivir'!C92 -> 12610 | Z101: =+#REF! -> #REF! | AA101: =+#REF! -> #REF! | AB101: =+'PL1. Tổng hợp SL cấp kháng thể'!C86 -> 30 | AC101: =SUM(AD101:AN101) -> #REF! | AD101: =+#REF! -> #REF! | AE101: =+#REF! -> #REF! | AF101: =+#REF! -> #REF! | AG101: =+#REF! -> #REF! | AH101: =+#REF! -> #REF! | AQ101: =SUM(D101:AN101)-D101-G101-X101-AC101 -> #REF! | AR101: =+AQ101-#REF! -> #REF!
A102: 45 | B102: 45 | C102: Quảng Bình | D102: =SUM(E102:F102) -> #REF! | E102: =+#REF! -> #REF! | F102: =+#REF! -> #REF! | G102: =SUM(H102:W102) -> #REF! | H102: =+'[1]Xuat TTB cac nguon'!D96 -> 0 | I102: =+#REF! -> #REF! | J102: =+#REF! -> #REF! | K102: =+#REF! -> #REF! | L102: =+#REF! -> #REF! | M102: =+#REF! -> #REF! | N102: =+#REF! -> #REF! | O102: =+#REF! -> #REF! | P102: =+#REF! -> #REF! | ... W102: =+#REF! -> #REF! | X102: =SUM(Y102:AB102) -> #REF! | Y102: =+'PL2. Tổng hợp SL cấp Remdesivir'!C85 -> 1220 | Z102: =+#REF! -> #REF! | AA102: =+#REF! -> #REF! | AB102: =+'PL1. Tổng hợp SL cấp kháng thể'!C79 -> 30 | AC102: =SUM(AD102:AN102) -> #REF! | AD102: =+#REF! -> #REF! | AE102: =+#REF! -> #REF! | AF102: =+#REF! -> #REF! | AG102: =+#REF! -> #REF! | AH102: =+#REF! -> #REF! | AQ102: =SUM(D102:AN102)-D102-G102-X102-AC102 -> #REF! | AR102: =+AQ102-#REF! -> #REF!
A103: 46 | B103: 46 | C103: Quảng Nam | D103: =SUM(E103:F103) -> #REF! | E103: =+#REF! -> #REF! | F103: =+#REF! -> #REF! | G103: =SUM(H103:W103) -> #REF! | H103: =+'[1]Xuat TTB cac nguon'!D97 -> 0 | I103: =+#REF! -> #REF! | J103: =+#REF! -> #REF! | K103: =+#REF! -> #REF! | L103: =+#REF! -> #REF! | M103: =+#REF! -> #REF! | N103: =+#REF! -> #REF! | O103: =+#REF! -> #REF! | P103: =+#REF! -> #REF! | ... W103: =+#REF! -> #REF! | X103: =SUM(Y103:AB103) -> #REF! | Y103: =+'PL2. Tổng hợp SL cấp Remdesivir'!C89 -> 0 | Z103: =+#REF! -> #REF! | AA103: =+#REF! -> #REF! | AB103: =+'PL1. Tổng hợp SL cấp kháng thể'!C83 -> 30 | AC103: =SUM(AD103:AN103) -> #REF! | AD103: =+#REF! -> #REF! | AE103: =+#REF! -> #REF! | AF103: =+#REF! -> #REF! | AG103: =+#REF! -> #REF! | AH103: =+#REF! -> #REF! | AQ103: =SUM(D103:AN103)-D103-G103-X103-AC103 -> #REF! | AR103: =+AQ103-#REF! -> #REF!
A104: 47 | B104: 47 | C104: Quảng Ngãi | D104: =SUM(E104:F104) -> #REF! | E104: =+#REF! -> #REF! | F104: =+#REF! -> #REF! | G104: =SUM(H104:W104) -> #REF! | H104: =+'[1]Xuat TTB cac nguon'!D98 -> 0 | I104: =+#REF! -> #REF! | J104: =+#REF! -> #REF! | K104: =+#REF! -> #REF! | L104: =+#REF! -> #REF! | M104: =+#REF! -> #REF! | N104: =+#REF! -> #REF! | O104: =+#REF! -> #REF! | P104: =+#REF! -> #REF! | ... W104: =+#REF! -> #REF! | X104: =SUM(Y104:AB104) -> #REF! | Y104: =+'PL2. Tổng hợp SL cấp Remdesivir'!C90 -> 0 | Z104: =+#REF! -> #REF! | AA104: =+#REF! -> #REF! | AB104: =+'PL1. Tổng hợp SL cấp kháng thể'!C84 -> 30 | AC104: =SUM(AD104:AN104) -> #REF! | AD104: =+#REF! -> #REF! | AE104: =+#REF! -> #REF! | AF104: =+#REF! -> #REF! | AG104: =+#REF! -> #REF! | AH104: =+#REF! -> #REF! | AQ104: =SUM(D104:AN104)-D104-G104-X104-AC104 -> #REF! | AR104: =+AQ104-#REF! -> #REF!
A105: 48 | B105: 48 | C105: Quảng Ninh | D105: =SUM(E105:F105) -> #REF! | E105: =+#REF! -> #REF! | F105: =+#REF! -> #REF! | G105: =SUM(H105:W105) -> #REF! | H105: =+'[1]Xuat TTB cac nguon'!D99 -> 0 | I105: =+#REF! -> #REF! | J105: =+#REF! -> #REF! | K105: =+#REF! -> #REF! | L105: =+#REF! -> #REF! | M105: =+#REF! -> #REF! | N105: =+#REF! -> #REF! | O105: =+#REF! -> #REF! | P105: =+#REF! -> #REF! | ... W105: =+#REF! -> #REF! | X105: =SUM(Y105:AB105) -> #REF! | Y105: =+'PL2. Tổng hợp SL cấp Remdesivir'!C60 -> 12600 | Z105: =+#REF! -> #REF! | AA105: =+#REF! -> #REF! | AB105: =+'PL1. Tổng hợp SL cấp kháng thể'!C54 -> 30 | AC105: =SUM(AD105:AN105) -> #REF! | AD105: =+#REF! -> #REF! | AE105: =+#REF! -> #REF! | AF105: =+#REF! -> #REF! | AG105: =+#REF! -> #REF! | AH105: =+#REF! -> #REF! | AQ105: =SUM(D105:AN105)-D105-G105-X105-AC105 -> #REF! | AR105: =+AQ105-#REF! -> #REF!
A106: 49 | B106: 49 | C106: Quảng Trị | D106: =SUM(E106:F106) -> #REF! | E106: =+#REF! -> #REF! | F106: =+#REF! -> #REF! | G106: =SUM(H106:W106) -> #REF! | H106: =+'[1]Xuat TTB cac nguon'!D100 -> 0 | I106: =+#REF! -> #REF! | J106: =+#REF! -> #REF! | K106: =+#REF! -> #REF! | L106: =+#REF! -> #REF! | M106: =+#REF! -> #REF! | N106: =+#REF! -> #REF! | O106: =+#REF! -> #REF! | P106: =+#REF! -> #REF! | ... W106: =+#REF! -> #REF! | X106: =SUM(Y106:AB106) -> #REF! | Y106: =+'PL2. Tổng hợp SL cấp Remdesivir'!C86 -> 1800 | Z106: =+#REF! -> #REF! | AA106: =+#REF! -> #REF! | AB106: =+'PL1. Tổng hợp SL cấp kháng thể'!C80 -> 30 | AC106: =SUM(AD106:AN106) -> #REF! | AD106: =+#REF! -> #REF! | AE106: =+#REF! -> #REF! | AF106: =+#REF! -> #REF! | AG106: =+#REF! -> #REF! | AH106: =+#REF! -> #REF! | AQ106: =SUM(D106:AN106)-D106-G106-X106-AC106 -> #REF! | AR106: =+AQ106-#REF! -> #REF!
A107: 50 | B107: 50 | C107: Sóc Trăng | D107: =SUM(E107:F107) -> #REF! | E107: =+#REF! -> #REF! | F107: =+#REF! -> #REF! | G107: =SUM(H107:W107) -> #REF! | H107: =+'[1]Xuat TTB cac nguon'!D101 -> 0 | I107: =+#REF! -> #REF! | J107: =+#REF! -> #REF! | K107: =+#REF! -> #REF! | L107: =+#REF! -> #REF! | M107: =+#REF! -> #REF! | N107: =+#REF! -> #REF! | O107: =+#REF! -> #REF! | P107: =+#REF! -> #REF! | ... W107: =+#REF! -> #REF! | X107: =SUM(Y107:AB107) -> #REF! | Y107: =+'PL2. Tổng hợp SL cấp Remdesivir'!C117 -> 2752 | Z107: =+#REF! -> #REF! | AA107: =+#REF! -> #REF! | AB107: =+'PL1. Tổng hợp SL cấp kháng thể'!C111 -> 70 | AC107: =SUM(AD107:AN107) -> #REF! | AD107: =+#REF! -> #REF! | AE107: =+#REF! -> #REF! | AF107: =+#REF! -> #REF! | AG107: =+#REF! -> #REF! | AH107: =+#REF! -> #REF! | AQ107: =SUM(D107:AN107)-D107-G107-X107-AC107 -> #REF! | AR107: =+AQ107-#REF! -> #REF!
A108: 51 | B108: 51 | C108: Sơn La | D108: =SUM(E108:F108) -> #REF! | E108: =+#REF! -> #REF! | F108: =+#REF! -> #REF! | G108: =SUM(H108:W108) -> #REF! | H108: =+'[1]Xuat TTB cac nguon'!D102 -> 0 | I108: =+#REF! -> #REF! | J108: =+#REF! -> #REF! | K108: =+#REF! -> #REF! | L108: =+#REF! -> #REF! | M108: =+#REF! -> #REF! | N108: =+#REF! -> #REF! | O108: =+#REF! -> #REF! | P108: =+#REF! -> #REF! | ... W108: =+#REF! -> #REF! | X108: =SUM(Y108:AB108) -> #REF! | Y108: =+'PL2. Tổng hợp SL cấp Remdesivir'!C80 -> 53004 | Z108: =+#REF! -> #REF! | AA108: =+#REF! -> #REF! | AB108: =+'PL1. Tổng hợp SL cấp kháng thể'!C74 -> 200 | AC108: =SUM(AD108:AN108) -> #REF! | AD108: =+#REF! -> #REF! | AE108: =+#REF! -> #REF! | AF108: =+#REF! -> #REF! | AG108: =+#REF! -> #REF! | AH108: =+#REF! -> #REF! | AQ108: =SUM(D108:AN108)-D108-G108-X108-AC108 -> #REF! | AR108: =+AQ108-#REF! -> #REF!
A109: 52 | B109: 52 | C109: Tây Ninh | D109: =SUM(E109:F109) -> #REF! | E109: =+#REF! -> #REF! | F109: =+#REF! -> #REF! | G109: =SUM(H109:W109) -> #REF! | H109: =+'[1]Xuat TTB cac nguon'!D103 -> 0 | I109: =+#REF! -> #REF! | J109: =+#REF! -> #REF! | K109: =+#REF! -> #REF! | L109: =+#REF! -> #REF! | M109: =+#REF! -> #REF! | N109: =+#REF! -> #REF! | O109: =+#REF! -> #REF! | P109: =+#REF! -> #REF! | ... W109: =+#REF! -> #REF! | X109: =SUM(Y109:AB109) -> #REF! | Y109: =+'PL2. Tổng hợp SL cấp Remdesivir'!C102 -> 2400 | Z109: =+#REF! -> #REF! | AA109: =+#REF! -> #REF! | AB109: =+'PL1. Tổng hợp SL cấp kháng thể'!C96 -> 30 | AC109: =SUM(AD109:AN109) -> #REF! | AD109: =+#REF! -> #REF! | AE109: =+#REF! -> #REF! | AF109: =+#REF! -> #REF! | AG109: =+#REF! -> #REF! | AH109: =+#REF! -> #REF! | AQ109: =SUM(D109:AN109)-D109-G109-X109-AC109 -> #REF! | AR109: =+AQ109-#REF! -> #REF!
A110: 53 | B110: 53 | C110: Thái Bình | D110: =SUM(E110:F110) -> #REF! | E110: =+#REF! -> #REF! | F110: =+#REF! -> #REF! | G110: =SUM(H110:W110) -> #REF! | H110: =+'[1]Xuat TTB cac nguon'!D104 -> 0 | I110: =+#REF! -> #REF! | J110: =+#REF! -> #REF! | K110: =+#REF! -> #REF! | L110: =+#REF! -> #REF! | M110: =+#REF! -> #REF! | N110: =+#REF! -> #REF! | O110: =+#REF! -> #REF! | P110: =+#REF! -> #REF! | ... W110: =+#REF! -> #REF! | X110: =SUM(Y110:AB110) -> #REF! | Y110: =+'PL2. Tổng hợp SL cấp Remdesivir'!C64 -> 13500 | Z110: =+#REF! -> #REF! | AA110: =+#REF! -> #REF! | AB110: =+'PL1. Tổng hợp SL cấp kháng thể'!C58 -> 30 | AC110: =SUM(AD110:AN110) -> #REF! | AD110: =+#REF! -> #REF! | AE110: =+#REF! -> #REF! | AF110: =+#REF! -> #REF! | AG110: =+#REF! -> #REF! | AH110: =+#REF! -> #REF! | AQ110: =SUM(D110:AN110)-D110-G110-X110-AC110 -> #REF! | AR110: =+AQ110-#REF! -> #REF!
A111: 54 | B111: 54 | C111: Thái Nguyên | D111: =SUM(E111:F111) -> #REF! | E111: =+#REF! -> #REF! | F111: =+#REF! -> #REF! | G111: =SUM(H111:W111) -> #REF! | H111: =+'[1]Xuat TTB cac nguon'!D105 -> 0 | I111: =+#REF! -> #REF! | J111: =+#REF! -> #REF! | K111: =+#REF! -> #REF! | L111: =+#REF! -> #REF! | M111: =+#REF! -> #REF! | N111: =+#REF! -> #REF! | O111: =+#REF! -> #REF! | P111: =+#REF! -> #REF! | ... W111: =+#REF! -> #REF! | X111: =SUM(Y111:AB111) -> #REF! | Y111: =+'PL2. Tổng hợp SL cấp Remdesivir'!C74 -> 11365 | Z111: =+#REF! -> #REF! | AA111: =+#REF! -> #REF! | AB111: =+'PL1. Tổng hợp SL cấp kháng thể'!C68 -> 30 | AC111: =SUM(AD111:AN111) -> #REF! | AD111: =+#REF! -> #REF! | AE111: =+#REF! -> #REF! | AF111: =+#REF! -> #REF! | AG111: =+#REF! -> #REF! | AH111: =+#REF! -> #REF! | AQ111: =SUM(D111:AN111)-D111-G111-X111-AC111 -> #REF! | AR111: =+AQ111-#REF! -> #REF!
A112: 55 | B112: 55 | C112: Thanh Hoá | D112: =SUM(E112:F112) -> #REF! | E112: =+#REF! -> #REF! | F112: =+#REF! -> #REF! | G112: =SUM(H112:W112) -> #REF! | H112: =+'[1]Xuat TTB cac nguon'!D106 -> 0 | I112: =+#REF! -> #REF! | J112: =+#REF! -> #REF! | K112: =+#REF! -> #REF! | L112: =+#REF! -> #REF! | M112: =+#REF! -> #REF! | N112: =+#REF! -> #REF! | O112: =+#REF! -> #REF! | P112: =+#REF! -> #REF! | ... W112: =+#REF! -> #REF! | X112: =SUM(Y112:AB112) -> #REF! | Y112: =+'PL2. Tổng hợp SL cấp Remdesivir'!C82 -> 25 | Z112: =+#REF! -> #REF! | AA112: =+#REF! -> #REF! | AB112: =+'PL1. Tổng hợp SL cấp kháng thể'!C76 -> 30 | AC112: =SUM(AD112:AN112) -> #REF! | AD112: =+#REF! -> #REF! | AE112: =+#REF! -> #REF! | AF112: =+#REF! -> #REF! | AG112: =+#REF! -> #REF! | AH112: =+#REF! -> #REF! | AQ112: =SUM(D112:AN112)-D112-G112-X112-AC112 -> #REF! | AR112: =+AQ112-#REF! -> #REF!
A113: 56 | B113: 56 | C113: Thừa Thiên Huế | D113: =SUM(E113:F113) -> #REF! | E113: =+#REF! -> #REF! | F113: =+#REF! -> #REF! | G113: =SUM(H113:W113) -> #REF! | H113: =+'[1]Xuat TTB cac nguon'!D107 -> 0 | I113: =+#REF! -> #REF! | J113: =+#REF! -> #REF! | K113: =+#REF! -> #REF! | L113: =+#REF! -> #REF! | M113: =+#REF! -> #REF! | N113: =+#REF! -> #REF! | O113: =+#REF! -> #REF! | P113: =+#REF! -> #REF! | ... W113: =+#REF! -> #REF! | X113: =SUM(Y113:AB113) -> #REF! | Y113: =+'PL2. Tổng hợp SL cấp Remdesivir'!C87 -> 12627 | Z113: =+#REF! -> #REF! | AA113: =+#REF! -> #REF! | AB113: =+'PL1. Tổng hợp SL cấp kháng thể'!C81 -> 70 | AC113: =SUM(AD113:AN113) -> #REF! | AD113: =+#REF! -> #REF! | AE113: =+#REF! -> #REF! | AF113: =+#REF! -> #REF! | AG113: =+#REF! -> #REF! | AH113: =+#REF! -> #REF! | AQ113: =SUM(D113:AN113)-D113-G113-X113-AC113 -> #REF! | AR113: =+AQ113-#REF! -> #REF!
A114: 57 | B114: 57 | C114: Tiền Giang | D114: =SUM(E114:F114) -> #REF! | E114: =+#REF! -> #REF! | F114: =+#REF! -> #REF! | G114: =SUM(H114:W114) -> #REF! | H114: =+'[1]Xuat TTB cac nguon'!D108 -> 0 | I114: =+#REF! -> #REF! | J114: =+#REF! -> #REF! | K114: =+#REF! -> #REF! | L114: =+#REF! -> #REF! | M114: =+#REF! -> #REF! | N114: =+#REF! -> #REF! | O114: =+#REF! -> #REF! | P114: =+#REF! -> #REF! | ... W114: =+#REF! -> #REF! | X114: =SUM(Y114:AB114) -> #REF! | Y114: =+'PL2. Tổng hợp SL cấp Remdesivir'!C108 -> 19132 | Z114: =+#REF! -> #REF! | AA114: =+#REF! -> #REF! | AB114: =+'PL1. Tổng hợp SL cấp kháng thể'!C102 -> 180 | AC114: =SUM(AD114:AN114) -> #REF! | AD114: =+#REF! -> #REF! | AE114: =+#REF! -> #REF! | AF114: =+#REF! -> #REF! | AG114: =+#REF! -> #REF! | AH114: =+#REF! -> #REF! | AQ114: =SUM(D114:AN114)-D114-G114-X114-AC114 -> #REF! | AR114: =+AQ114-#REF! -> #REF!
A115: 58 | B115: 58 | C115: Tp. Hồ Chí Minh | D115: =SUM(E115:F115) -> #REF! | E115: =+#REF! -> #REF! | F115: =+#REF! -> #REF! | G115: =SUM(H115:W115) -> #REF! | H115: =+'[1]Xuat TTB cac nguon'!D109 -> 0 | I115: =+#REF! -> #REF! | J115: =+#REF! -> #REF! | K115: =+#REF! -> #REF! | L115: =+#REF! -> #REF! | M115: =+#REF! -> #REF! | N115: =+#REF! -> #REF! | O115: =+#REF! -> #REF! | P115: =+#REF! -> #REF! | ... W115: =+#REF! -> #REF! | X115: =SUM(Y115:AB115) -> #REF! | Y115: =+'PL2. Tổng hợp SL cấp Remdesivir'!C106 -> 10752 | Z115: =+#REF! -> #REF! | AA115: =+#REF! -> #REF! | AB115: =+'PL1. Tổng hợp SL cấp kháng thể'!C100 -> 100 | AC115: =SUM(AD115:AN115) -> #REF! | AD115: =+#REF! -> #REF! | AE115: =+#REF! -> #REF! | AF115: =+#REF! -> #REF! | AG115: =+#REF! -> #REF! | AH115: =+#REF! -> #REF! | AQ115: =SUM(D115:AN115)-D115-G115-X115-AC115 -> #REF! | AR115: =+AQ115-#REF! -> #REF!
A116: 59 | B116: 59 | C116: Trà Vinh | D116: =SUM(E116:F116) -> #REF! | E116: =+#REF! -> #REF! | F116: =+#REF! -> #REF! | G116: =SUM(H116:W116) -> #REF! | H116: =+'[1]Xuat TTB cac nguon'!D110 -> 0 | I116: =+#REF! -> #REF! | J116: =+#REF! -> #REF! | K116: =+#REF! -> #REF! | L116: =+#REF! -> #REF! | M116: =+#REF! -> #REF! | N116: =+#REF! -> #REF! | O116: =+#REF! -> #REF! | P116: =+#REF! -> #REF! | ... W116: =+#REF! -> #REF! | X116: =SUM(Y116:AB116) -> #REF! | Y116: =+'PL2. Tổng hợp SL cấp Remdesivir'!C110 -> 11600 | Z116: =+#REF! -> #REF! | AA116: =+#REF! -> #REF! | AB116: =+'PL1. Tổng hợp SL cấp kháng thể'!C104 -> 30 | AC116: =SUM(AD116:AN116) -> #REF! | AD116: =+#REF! -> #REF! | AE116: =+#REF! -> #REF! | AF116: =+#REF! -> #REF! | AG116: =+#REF! -> #REF! | AH116: =+#REF! -> #REF! | AQ116: =SUM(D116:AN116)-D116-G116-X116-AC116 -> #REF! | AR116: =+AQ116-#REF! -> #REF!
A117: 60 | B117: 60 | C117: Tuyên Quang | D117: =SUM(E117:F117) -> #REF! | E117: =+#REF! -> #REF! | F117: =+#REF! -> #REF! | G117: =SUM(H117:W117) -> #REF! | H117: =+'[1]Xuat TTB cac nguon'!D111 -> 0 | I117: =+#REF! -> #REF! | J117: =+#REF! -> #REF! | K117: =+#REF! -> #REF! | L117: =+#REF! -> #REF! | M117: =+#REF! -> #REF! | N117: =+#REF! -> #REF! | O117: =+#REF! -> #REF! | P117: =+#REF! -> #REF! | ... W117: =+#REF! -> #REF! | X117: =SUM(Y117:AB117) -> #REF! | Y117: =+'PL2. Tổng hợp SL cấp Remdesivir'!C71 -> 2752 | Z117: =+#REF! -> #REF! | AA117: =+#REF! -> #REF! | AB117: =+'PL1. Tổng hợp SL cấp kháng thể'!C65 -> 40 | AC117: =SUM(AD117:AN117) -> #REF! | AD117: =+#REF! -> #REF! | AE117: =+#REF! -> #REF! | AF117: =+#REF! -> #REF! | AG117: =+#REF! -> #REF! | AH117: =+#REF! -> #REF! | AQ117: =SUM(D117:AN117)-D117-G117-X117-AC117 -> #REF! | AR117: =+AQ117-#REF! -> #REF!
A118: 61 | B118: 61 | C118: Vĩnh Long | D118: =SUM(E118:F118) -> #REF! | E118: =+#REF! -> #REF! | F118: =+#REF! -> #REF! | G118: =SUM(H118:W118) -> #REF! | H118: =+'[1]Xuat TTB cac nguon'!D112 -> 0 | I118: =+#REF! -> #REF! | J118: =+#REF! -> #REF! | K118: =+#REF! -> #REF! | L118: =+#REF! -> #REF! | M118: =+#REF! -> #REF! | N118: =+#REF! -> #REF! | O118: =+#REF! -> #REF! | P118: =+#REF! -> #REF! | ... W118: =+#REF! -> #REF! | X118: =SUM(Y118:AB118) -> #REF! | Y118: =+'PL2. Tổng hợp SL cấp Remdesivir'!C111 -> 17780 | Z118: =+#REF! -> #REF! | AA118: =+#REF! -> #REF! | AB118: =+'PL1. Tổng hợp SL cấp kháng thể'!C105 -> 30 | AC118: =SUM(AD118:AN118) -> #REF! | AD118: =+#REF! -> #REF! | AE118: =+#REF! -> #REF! | AF118: =+#REF! -> #REF! | AG118: =+#REF! -> #REF! | AH118: =+#REF! -> #REF! | AQ118: =SUM(D118:AN118)-D118-G118-X118-AC118 -> #REF! | AR118: =+AQ118-#REF! -> #REF!
A119: 62 | B119: 62 | C119: Vĩnh Phúc | D119: =SUM(E119:F119) -> #REF! | E119: =+#REF! -> #REF! | F119: =+#REF! -> #REF! | G119: =SUM(H119:W119) -> #REF! | H119: =+'[1]Xuat TTB cac nguon'!D113 -> 0 | I119: =+#REF! -> #REF! | J119: =+#REF! -> #REF! | K119: =+#REF! -> #REF! | L119: =+#REF! -> #REF! | M119: =+#REF! -> #REF! | N119: =+#REF! -> #REF! | O119: =+#REF! -> #REF! | P119: =+#REF! -> #REF! | ... W119: =+#REF! -> #REF! | X119: =SUM(Y119:AB119) -> #REF! | Y119: =+'PL2. Tổng hợp SL cấp Remdesivir'!C58 -> 4132 | Z119: =+#REF! -> #REF! | AA119: =+#REF! -> #REF! | AB119: =+'PL1. Tổng hợp SL cấp kháng thể'!C52 -> 70 | AC119: =SUM(AD119:AN119) -> #REF! | AD119: =+#REF! -> #REF! | AE119: =+#REF! -> #REF! | AF119: =+#REF! -> #REF! | AG119: =+#REF! -> #REF! | AH119: =+#REF! -> #REF! | AQ119: =SUM(D119:AN119)-D119-G119-X119-AC119 -> #REF! | AR119: =+AQ119-#REF! -> #REF!
...

Sheet Tong hop phan bo
A1: BỘ Y TẾ | Q1: PHỤ LỤC 3B
A3: TỔNG HỢP PHÂN BỔ VẬT TƯ, TEST KIT, TTB, THUỐC PHÒNG CHỐNG DỊCH COVID -19
A4: (Kèm theo Công văn số /BYT-KHTC ngày tháng năm 2021)
A7: STT | B7: Đơn vị, địa phương được phân bổ | C7: Chia ra | AO7: Ghi chú
C8: Test xét nghiệm | D8: Trong đó | F8: Trang thiết bị | G8: Trong đó | W8: Thuốc | X8: Trong đó | AB8: Vật tư phòng chống dịch | AC8: Trong đó
D9: Test PCR | E9: Test nhanh | G9: Máy thở các loại | H9: Máy thở chức năng cao | I9: Máy thở HFNC | J9: Máy XN PCR | K9: Máy tách chiết | L9: Xe tiêm lưu động | M9: Tủ lạnh | N9: Tủ lạnh -75 độ C | O9: Hệ thống máy tuần hoàn ECMO | P9: Hệ thống Oxy | Q9: Monitor theo dõi bệnh nhân | R9: Máy tạo Oxy dòng cao HFNC | S9: Máy tạo Oxy | T9: Bơm điện | U9: Bơm khối | V9: Máy theo dõi nhịp tim | X9: Thuốc Remdesivir Vingroup tài trợ | Y9: Thuốc Xuyên Tâm Liên do KG tài trợ | Z9: AVIGAN | AA9: Casirivimab và Imdevimab | AC9: Khẩu trang y tế | AD9: Khẩu trang N95 và tương đương | AE9: Khẩu trang phẫu thuật + KN95 | AF9: Bộ trang phục chống dịch cấp độ 2-3 | AG9: Bộ trang phục chống dịch cấp độ 4 | AH9: Trang phục bảo hộ Y tế | AI9: Bộ mồi và probe gen RdRp: (TiBMoL gen RdRp) | AJ9: Bộ mồi và probe gen E (TiBMoL gen E) | AK9: Oxy y tế dạng lỏng | AL9: Kính chống giọt bắn | AM9: Găng tay y tế
A10: A | B10: B | C10: 1=2+3 | D10: 2 | E10: 3 | F10: 4=5+...+20 | G10: 5 | H10: 6 | I10: 7 | J10: 8 | K10: 9 | L10: 10 | M10: 11 | N10: 12 | O10: 13 | P10: 14 | Q10: 15 | R10: 16 | S10: 17 | T10: 18 | U10: 19 | V10: 20 | W10: 21=22+...+25 | X10: 22 | Y10: 23 | Z10: 24 | AA10: 25 | AB10: 26=27+…+ 37 | AC10: 27 | AD10: 28 | AE10: 29 | AF10: 30 | AG10: 31 | AH10: 32 | AI10: 33 | AJ10: 34 | AK10: 35 | AL10: 36 | AM10: 37 | AO10: 38 | AP10: =+AP11-#REF! -> #REF!
B11: Tổng số đã phân bổ | C11: =+C12+C57+C121 -> #REF! | D11: =+D12+D57+D121 -> #REF! | E11: =+E12+E57+E121 -> #REF! | F11: =+F12+F57+F121 -> #REF! | G11: =+G12+G57+G121 -> #REF! | H11: =+H12+H57+H121 -> #REF! | I11: =+I12+I57+I121 -> #REF! | J11: =+J12+J57+J121 -> #REF! | ... AM11: =+AM12+AM57+AM121 -> #REF! | AP11: =SUM(C11:AM11)-C11-F11-W11-AB11 -> #REF! | AQ11: =+AP11-#REF! -> #REF!
A12: I | B12: Bộ và các cơ quan khác | C12: =SUM(C13:C56)-C13 -> #REF! | D12: =SUM(D13:D56)-D13 -> #REF! | E12: =SUM(E13:E56)-E13 -> #REF! | F12: =SUM(F13:F56)-F13 -> #REF! | G12: =SUM(G13:G56)-G13 -> #REF! | H12: =SUM(H13:H56)-H13 -> #REF! | I12: =SUM(I13:I56)-I13 -> #REF! | J12: =SUM(J13:J56)-J13 -> #REF! | ... AM12: =SUM(AM13:AM56)-AM13 -> #REF! | AP12: =SUM(C12:AM12)-C12-F12-W12-AB12 -> #REF! | AQ12: =+AP12-#REF! -> #REF!
A13: 1 | B13: Bộ Quốc phòng | C13: =SUM(D13:E13) -> #REF! | D13: =+#REF!+#REF! -> #REF! | E13: =+#REF!+#REF! -> #REF! | F13: =SUM(G13:V13) -> #REF! | G13: =+#REF!+#REF! -> #REF! | H13: =+#REF! -> #REF! | I13: =+#REF! -> #REF! | J13: =+#REF!+#REF! -> #REF! | K13: =+#REF!+#REF! -> #REF! | L13: =+#REF! -> #REF! | M13: =+#REF!+#REF! -> #REF! | N13: =+#REF! -> #REF! | O13: =+#REF! -> #REF! | P13: =+#REF! -> #REF! | Q13: =+#REF! -> #REF! | R13: =+#REF! -> #REF! | S13: =+#REF! -> #REF! | T13: =+#REF! -> #REF! | U13: =+#REF! -> #REF! | V13: =+#REF! -> #REF! | W13: =SUM(X13:AA13) -> #REF! | X13: =+#REF! -> #REF! | Y13: =+#REF! -> #REF! | Z13: =+#REF! -> #REF! | AA13: =+#REF! -> #REF! | AB13: =SUM(AC13:AM13) -> #REF! | AC13: =+#REF!+#REF! -> #REF! | AD13: =+#REF!+#REF! -> #REF! | AE13: =+#REF!+#REF! -> #REF! | AF13: =+#REF! -> #REF! | AG13: =+#REF! -> #REF! | AH13: =+#REF! -> #REF! | AI13: =+#REF! -> #REF! | AJ13: =+#REF! -> #REF! | AK13: =+#REF! -> #REF! | AL13: =+#REF! -> #REF! | AM13: =+#REF! -> #REF! | AP13: =SUM(C13:AM13)-C13-F13-W13-AB13 -> #REF! | AQ13: =+AP13-#REF! -> #REF!
A14: 1.1 | B14: Cục Quân Y - Bộ Quốc phòng | C14: =SUM(D14:E14) -> #REF! | D14: =+#REF!+#REF! -> #REF! | E14: =+#REF!+#REF! -> #REF! | F14: =SUM(G14:V14) -> #REF! | G14: =+#REF!+#REF! -> #REF! | H14: =+#REF! -> #REF! | I14: =+#REF! -> #REF! | J14: =+#REF!+#REF! -> #REF! | K14: =+#REF!+#REF! -> #REF! | L14: =+#REF! -> #REF! | M14: =+#REF!+#REF! -> #REF! | N14: =+#REF! -> #REF! | O14: =+#REF! -> #REF! | P14: =+#REF! -> #REF! | Q14: =+#REF! -> #REF! | R14: =+#REF! -> #REF! | S14: =+#REF! -> #REF! | T14: =+#REF! -> #REF! | U14: =+#REF! -> #REF! | V14: =+#REF! -> #REF! | W14: =SUM(X14:AA14) -> #REF! | X14: =+'PL2. Tổng hợp SL cấp Remdesivir'!C47 -> 3860 | Y14: =+#REF! -> #REF! | Z14: =+#REF! -> #REF! | AA14: =+#REF! -> #REF! | AB14: =SUM(AC14:AM14) -> #REF! | AC14: =+#REF!+#REF! -> #REF! | AD14: =+#REF!+#REF! -> #REF! | AE14: =+#REF!+#REF! -> #REF! | AF14: =+#REF! -> #REF! | AG14: =+#REF! -> #REF! | AH14: =+#REF! -> #REF! | AI14: =+#REF! -> #REF! | AJ14: =+#REF! -> #REF! | AK14: =+#REF! -> #REF! | AL14: =+#REF! -> #REF! | AM14: =+#REF! -> #REF! | AP14: =SUM(C14:AM14)-C14-F14-W14-AB14 -> #REF! | AQ14: =+AP14-#REF! -> #REF!
A15: 1.2 | B15: Bệnh viện 103 | C15: =SUM(D15:E15) -> #REF! | D15: =+#REF!+#REF! -> #REF! | E15: =+#REF!+#REF! -> #REF! | F15: =SUM(G15:V15) -> #REF! | G15: =+#REF!+#REF! -> #REF! | H15: =+#REF! -> #REF! | I15: =+#REF! -> #REF! | J15: =+#REF!+#REF! -> #REF! | K15: =+#REF!+#REF! -> #REF! | L15: =+#REF! -> #REF! | M15: =+#REF!+#REF! -> #REF! | N15: =+#REF! -> #REF! | O15: =+#REF! -> #REF! | P15: =+#REF! -> #REF! | Q15: =+#REF! -> #REF! | R15: =+#REF! -> #REF! | S15: =+#REF! -> #REF! | T15: =+#REF! -> #REF! | U15: =+#REF! -> #REF! | V15: =+#REF! -> #REF! | W15: =SUM(X15:AA15) -> #REF! | X15: =+#REF! -> #REF! | Y15: =+#REF! -> #REF! | Z15: =+#REF! -> #REF! | AA15: =+#REF! -> #REF! | AB15: =SUM(AC15:AM15) -> #REF! | AC15: =+#REF!+#REF! -> #REF! | AD15: =+#REF!+#REF! -> #REF! | AE15: =+#REF!+#REF! -> #REF! | AF15: =+#REF! -> #REF! | AG15: =+#REF! -> #REF! | AH15: =+#REF! -> #REF! | AI15: =+#REF! -> #REF! | AJ15: =+#REF! -> #REF! | AK15: =+#REF! -> #REF! | AL15: =+#REF! -> #REF! | AM15: =+#REF! -> #REF! | AP15: =SUM(C15:AM15)-C15-F15-W15-AB15 -> #REF! | AQ15: =+AP15-#REF! -> #REF!
A16: 1.3 | B16: Bệnh viện 108 | C16: =SUM(D16:E16) -> #REF! | D16: =+#REF!+#REF! -> #REF! | E16: =+#REF!+#REF! -> #REF! | F16: =SUM(G16:V16) -> #REF! | G16: =+#REF!+#REF! -> #REF! | H16: =+#REF! -> #REF! | I16: =+#REF! -> #REF! | J16: =+#REF!+#REF! -> #REF! | K16: =+#REF!+#REF! -> #REF! | L16: =+#REF! -> #REF! | M16: =+#REF!+#REF! -> #REF! | N16: =+#REF! -> #REF! | O16: =+#REF! -> #REF! | P16: =+#REF! -> #REF! | Q16: =+#REF! -> #REF! | R16: =+#REF! -> #REF! | S16: =+#REF! -> #REF! | T16: =+#REF! -> #REF! | U16: =+#REF! -> #REF! | V16: =+#REF! -> #REF! | W16: =SUM(X16:AA16) -> #REF! | X16: =+'PL2. Tổng hợp SL cấp Remdesivir'!C51 -> 600 | Y16: =+#REF! -> #REF! | Z16: =+#REF! -> #REF! | AA16: =+'PL1. Tổng hợp SL cấp kháng thể'!C47 -> 90 | AB16: =SUM(AC16:AM16) -> #REF! | AC16: =+#REF!+#REF! -> #REF! | AD16: =+#REF!+#REF! -> #REF! | AE16: =+#REF!+#REF! -> #REF! | AF16: =+#REF! -> #REF! | AG16: =+#REF! -> #REF! | AH16: =+#REF! -> #REF! | AI16: =+#REF! -> #REF! | AJ16: =+#REF! -> #REF! | AK16: =+#REF! -> #REF! | AL16: =+#REF! -> #REF! | AM16: =+#REF! -> #REF! | AP16: =SUM(C16:AM16)-C16-F16-W16-AB16 -> #REF! | AQ16: =+AP16-#REF! -> #REF!
A17: 1.4 | B17: Bệnh viện quân y 175 | C17: =SUM(D17:E17) -> #REF! | D17: =+#REF!+#REF! -> #REF! | E17: =+#REF!+#REF! -> #REF! | F17: =SUM(G17:V17) -> #REF! | G17: =+#REF!+#REF! -> #REF! | H17: =+#REF! -> #REF! | I17: =+#REF! -> #REF! | J17: =+#REF!+#REF! -> #REF! | K17: =+#REF!+#REF! -> #REF! | L17: =+#REF! -> #REF! | M17: =+#REF!+#REF! -> #REF! | N17: =+#REF! -> #REF! | O17: =+#REF! -> #REF! | P17: =+#REF! -> #REF! | Q17: =+#REF! -> #REF! | R17: =+#REF! -> #REF! | S17: =+#REF! -> #REF! | T17: =+#REF! -> #REF! | U17: =+#REF! -> #REF! | V17: =+#REF! -> #REF! | W17: =SUM(X17:AA17) -> #REF! | X17: =+#REF! -> #REF! | Y17: =+#REF! -> #REF! | Z17: =+#REF! -> #REF! | AA17: =+'PL1. Tổng hợp SL cấp kháng thể'!C45 -> 30 | AB17: =SUM(AC17:AM17) -> #REF! | AC17: =+#REF!+#REF! -> #REF! | AD17: =+#REF!+#REF! -> #REF! | AE17: =+#REF!+#REF! -> #REF! | AF17: =+#REF! -> #REF! | AG17: =+#REF! -> #REF! | AH17: =+#REF! -> #REF! | AI17: =+#REF! -> #REF! | AJ17: =+#REF! -> #REF! | AK17: =+#REF! -> #REF! | AL17: =+#REF! -> #REF! | AM17: =+#REF! -> #REF! | AP17: =SUM(C17:AM17)-C17-F17-W17-AB17 -> #REF! | AQ17: =+AP17-#REF! -> #REF!
A18: 1.5 | B18: Bệnh viện Y học cổ truyền quân đội | C18: =SUM(D18:E18) -> #REF! | D18: =+#REF!+#REF! -> #REF! | E18: =+#REF!+#REF! -> #REF! | F18: =SUM(G18:V18) -> #REF! | G18: =+#REF!+#REF! -> #REF! | H18: =+#REF! -> #REF! | I18: =+#REF! -> #REF! | J18: =+#REF!+#REF! -> #REF! | K18: =+#REF!+#REF! -> #REF! | L18: =+#REF! -> #REF! | M18: =+#REF!+#REF! -> #REF! | N18: =+#REF! -> #REF! | O18: =+#REF! -> #REF! | P18: =+#REF! -> #REF! | Q18: =+#REF! -> #REF! | R18: =+#REF! -> #REF! | S18: =+#REF! -> #REF! | T18: =+#REF! -> #REF! | U18: =+#REF! -> #REF! | V18: =+#REF! -> #REF! | W18: =SUM(X18:AA18) -> #REF! | X18: =+#REF! -> #REF! | Y18: =+#REF! -> #REF! | Z18: =+#REF! -> #REF! | AA18: =+#REF! -> #REF! | AB18: =SUM(AC18:AM18) -> #REF! | AC18: =+#REF!+#REF! -> #REF! | AD18: =+#REF!+#REF! -> #REF! | AE18: =+#REF!+#REF! -> #REF! | AF18: =+#REF! -> #REF! | AG18: =+#REF! -> #REF! | AH18: =+#REF! -> #REF! | AI18: =+#REF! -> #REF! | AJ18: =+#REF! -> #REF! | AK18: =+#REF! -> #REF! | AL18: =+#REF! -> #REF! | AM18: =+#REF! -> #REF! | AP18: =SUM(C18:AM18)-C18-F18-W18-AB18 -> #REF! | AQ18: =+AP18-#REF! -> #REF!
A19: 1.6 | B19: Bộ Tư lệnh Thủ Đô | C19: =SUM(D19:E19) -> #REF! | D19: =+#REF!+#REF! -> #REF! | E19: =+#REF!+#REF! -> #REF! | F19: =SUM(G19:V19) -> #REF! | G19: =+#REF!+#REF! -> #REF! | H19: =+#REF! -> #REF! | I19: =+#REF! -> #REF! | J19: =+#REF!+#REF! -> #REF! | K19: =+#REF!+#REF! -> #REF! | L19: =+#REF! -> #REF! | M19: =+#REF!+#REF! -> #REF! | N19: =+#REF! -> #REF! | O19: =+#REF! -> #REF! | P19: =+#REF! -> #REF! | Q19: =+#REF! -> #REF! | R19: =+#REF! -> #REF! | S19: =+#REF! -> #REF! | T19: =+#REF! -> #REF! | U19: =+#REF! -> #REF! | V19: =+#REF! -> #REF! | W19: =SUM(X19:AA19) -> #REF! | X19: =+#REF! -> #REF! | Y19: =+#REF! -> #REF! | Z19: =+#REF! -> #REF! | AA19: =+#REF! -> #REF! | AB19: =SUM(AC19:AM19) -> #REF! | AC19: =+#REF!+#REF! -> #REF! | AD19: =+#REF!+#REF! -> #REF! | AE19: =+#REF!+#REF! -> #REF! | AF19: =+#REF! -> #REF! | AG19: =+#REF! -> #REF! | AH19: =+#REF! -> #REF! | AI19: =+#REF! -> #REF! | AJ19: =+#REF! -> #REF! | AK19: =+#REF! -> #REF! | AL19: =+#REF! -> #REF! | AM19: =+#REF! -> #REF! | AP19: =SUM(C19:AM19)-C19-F19-W19-AB19 -> #REF! | AQ19: =+AP19-#REF! -> #REF!
A20: 1.7 | B20: Quân khu 1 | C20: =SUM(D20:E20) -> #REF! | D20: =+#REF!+#REF! -> #REF! | E20: =+#REF!+#REF! -> #REF! | F20: =SUM(G20:V20) -> #REF! | G20: =+#REF!+#REF! -> #REF! | H20: =+#REF! -> #REF! | I20: =+#REF! -> #REF! | J20: =+#REF!+#REF! -> #REF! | K20: =+#REF!+#REF! -> #REF! | L20: =+#REF! -> #REF! | M20: =+#REF!+#REF! -> #REF! | N20: =+#REF! -> #REF! | O20: =+#REF! -> #REF! | P20: =+#REF! -> #REF! | Q20: =+#REF! -> #REF! | R20: =+#REF! -> #REF! | S20: =+#REF! -> #REF! | T20: =+#REF! -> #REF! | U20: =+#REF! -> #REF! | V20: =+#REF! -> #REF! | W20: =SUM(X20:AA20) -> #REF! | X20: =+#REF! -> #REF! | Y20: =+#REF! -> #REF! | Z20: =+#REF! -> #REF! | AA20: =+#REF! -> #REF! | AB20: =SUM(AC20:AM20) -> #REF! | AC20: =+#REF!+#REF! -> #REF! | AD20: =+#REF!+#REF! -> #REF! | AE20: =+#REF!+#REF! -> #REF! | AF20: =+#REF! -> #REF! | AG20: =+#REF! -> #REF! | AH20: =+#REF! -> #REF! | AI20: =+#REF! -> #REF! | AJ20: =+#REF! -> #REF! | AK20: =+#REF! -> #REF! | AL20: =+#REF! -> #REF! | AM20: =+#REF! -> #REF! | AP20: =SUM(C20:AM20)-C20-F20-W20-AB20 -> #REF! | AQ20: =+AP20-#REF! -> #REF!
A21: 1.8 | B21: Quân khu 2 | C21: =SUM(D21:E21) -> #REF! | D21: =+#REF!+#REF! -> #REF! | E21: =+#REF!+#REF! -> #REF! | F21: =SUM(G21:V21) -> #REF! | G21: =+#REF!+#REF! -> #REF! | H21: =+#REF! -> #REF! | I21: =+#REF! -> #REF! | J21: =+#REF!+#REF! -> #REF! | K21: =+#REF!+#REF! -> #REF! | L21: =+#REF! -> #REF! | M21: =+#REF!+#REF! -> #REF! | N21: =+#REF! -> #REF! | O21: =+#REF! -> #REF! | P21: =+#REF! -> #REF! | Q21: =+#REF! -> #REF! | R21: =+#REF! -> #REF! | S21: =+#REF! -> #REF! | T21: =+#REF! -> #REF! | U21: =+#REF! -> #REF! | V21: =+#REF! -> #REF! | W21: =SUM(X21:AA21) -> #REF! | X21: =+#REF! -> #REF! | Y21: =+#REF! -> #REF! | Z21: =+#REF! -> #REF! | AA21: =+#REF! -> #REF! | AB21: =SUM(AC21:AM21) -> #REF! | AC21: =+#REF!+#REF! -> #REF! | AD21: =+#REF!+#REF! -> #REF! | AE21: =+#REF!+#REF! -> #REF! | AF21: =+#REF! -> #REF! | AG21: =+#REF! -> #REF! | AH21: =+#REF! -> #REF! | AI21: =+#REF! -> #REF! | AJ21: =+#REF! -> #REF! | AK21: =+#REF! -> #REF! | AL21: =+#REF! -> #REF! | AM21: =+#REF! -> #REF! | AP21: =SUM(C21:AM21)-C21-F21-W21-AB21 -> #REF! | AQ21: =+AP21-#REF! -> #REF!
A22: 1.9 | B22: Quân khu 3 | C22: =SUM(D22:E22) -> #REF! | D22: =+#REF!+#REF! -> #REF! | E22: =+#REF!+#REF! -> #REF! | F22: =SUM(G22:V22) -> #REF! | G22: =+#REF!+#REF! -> #REF! | H22: =+#REF! -> #REF! | I22: =+#REF! -> #REF! | J22: =+#REF!+#REF! -> #REF! | K22: =+#REF!+#REF! -> #REF! | L22: =+#REF! -> #REF! | M22: =+#REF!+#REF! -> #REF! | N22: =+#REF! -> #REF! | O22: =+#REF! -> #REF! | P22: =+#REF! -> #REF! | Q22: =+#REF! -> #REF! | R22: =+#REF! -> #REF! | S22: =+#REF! -> #REF! | T22: =+#REF! -> #REF! | U22: =+#REF! -> #REF! | V22: =+#REF! -> #REF! | W22: =SUM(X22:AA22) -> #REF! | X22: =+#REF! -> #REF! | Y22: =+#REF! -> #REF! | Z22: =+#REF! -> #REF! | AA22: =+#REF! -> #REF! | AB22: =SUM(AC22:AM22) -> #REF! | AC22: =+#REF!+#REF! -> #REF! | AD22: =+#REF!+#REF! -> #REF! | AE22: =+#REF!+#REF! -> #REF! | AF22: =+#REF! -> #REF! | AG22: =+#REF! -> #REF! | AH22: =+#REF! -> #REF! | AI22: =+#REF! -> #REF! | AJ22: =+#REF! -> #REF! | AK22: =+#REF! -> #REF! | AL22: =+#REF! -> #REF! | AM22: =+#REF! -> #REF! | AP22: =SUM(C22:AM22)-C22-F22-W22-AB22 -> #REF! | AQ22: =+AP22-#REF! -> #REF!
A23: 1.10 | B23: Quân khu 4 | C23: =SUM(D23:E23) -> #REF! | D23: =+#REF!+#REF! -> #REF! | E23: =+#REF!+#REF! -> #REF! | F23: =SUM(G23:V23) -> #REF! | G23: =+#REF!+#REF! -> #REF! | H23: =+#REF! -> #REF! | I23: =+#REF! -> #REF! | J23: =+#REF!+#REF! -> #REF! | K23: =+#REF!+#REF! -> #REF! | L23: =+#REF! -> #REF! | M23: =+#REF!+#REF! -> #REF! | N23: =+#REF! -> #REF! | O23: =+#REF! -> #REF! | P23: =+#REF! -> #REF! | Q23: =+#REF! -> #REF! | R23: =+#REF! -> #REF! | S23: =+#REF! -> #REF! | T23: =+#REF! -> #REF! | U23: =+#REF! -> #REF! | V23: =+#REF! -> #REF! | W23: =SUM(X23:AA23) -> #REF! | X23: =+#REF! -> #REF! | Y23: =+#REF! -> #REF! | Z23: =+#REF! -> #REF! | AA23: =+#REF! -> #REF! | AB23: =SUM(AC23:AM23) -> #REF! | AC23: =+#REF!+#REF! -> #REF! | AD23: =+#REF!+#REF! -> #REF! | AE23: =+#REF!+#REF! -> #REF! | AF23: =+#REF! -> #REF! | AG23: =+#REF! -> #REF! | AH23: =+#REF! -> #REF! | AI23: =+#REF! -> #REF! | AJ23: =+#REF! -> #REF! | AK23: =+#REF! -> #REF! | AL23: =+#REF! -> #REF! | AM23: =+#REF! -> #REF! | AP23: =SUM(C23:AM23)-C23-F23-W23-AB23 -> #REF! | AQ23: =+AP23-#REF! -> #REF!
A24: 1.11 | B24: Quân khu 5 | C24: =SUM(D24:E24) -> #REF! | D24: =+#REF!+#REF! -> #REF! | E24: =+#REF!+#REF! -> #REF! | F24: =SUM(G24:V24) -> #REF! | G24: =+#REF!+#REF! -> #REF! | H24: =+#REF! -> #REF! | I24: =+#REF! -> #REF! | J24: =+#REF!+#REF! -> #REF! | K24: =+#REF!+#REF! -> #REF! | L24: =+#REF! -> #REF! | M24: =+#REF!+#REF! -> #REF! | N24: =+#REF! -> #REF! | O24: =+#REF! -> #REF! | P24: =+#REF! -> #REF! | Q24: =+#REF! -> #REF! | R24: =+#REF! -> #REF! | S24: =+#REF! -> #REF! | T24: =+#REF! -> #REF! | U24: =+#REF! -> #REF! | V24: =+#REF! -> #REF! | W24: =SUM(X24:AA24) -> #REF! | X24: =+#REF! -> #REF! | Y24: =+#REF! -> #REF! | Z24: =+#REF! -> #REF! | AA24: =+#REF! -> #REF! | AB24: =SUM(AC24:AM24) -> #REF! | AC24: =+#REF!+#REF! -> #REF! | AD24: =+#REF!+#REF! -> #REF! | AE24: =+#REF!+#REF! -> #REF! | AF24: =+#REF! -> #REF! | AG24: =+#REF! -> #REF! | AH24: =+#REF! -> #REF! | AI24: =+#REF! -> #REF! | AJ24: =+#REF! -> #REF! | AK24: =+#REF! -> #REF! | AL24: =+#REF! -> #REF! | AM24: =+#REF! -> #REF! | AP24: =SUM(C24:AM24)-C24-F24-W24-AB24 -> #REF! | AQ24: =+AP24-#REF! -> #REF!
A25: 1.12 | B25: Quân khu 7 | C25: =SUM(D25:E25) -> #REF! | D25: =+#REF!+#REF! -> #REF! | E25: =+#REF!+#REF! -> #REF! | F25: =SUM(G25:V25) -> #REF! | G25: =+#REF!+#REF! -> #REF! | H25: =+#REF! -> #REF! | I25: =+#REF! -> #REF! | J25: =+#REF!+#REF! -> #REF! | K25: =+#REF!+#REF! -> #REF! | L25: =+#REF! -> #REF! | M25: =+#REF!+#REF! -> #REF! | N25: =+#REF! -> #REF! | O25: =+#REF! -> #REF! | P25: =+#REF! -> #REF! | Q25: =+#REF! -> #REF! | R25: =+#REF! -> #REF! | S25: =+#REF! -> #REF! | T25: =+#REF! -> #REF! | U25: =+#REF! -> #REF! | V25: =+#REF! -> #REF! | W25: =SUM(X25:AA25) -> #REF! | X25: =+#REF! -> #REF! | Y25: =+#REF! -> #REF! | Z25: =+#REF! -> #REF! | AA25: =+#REF! -> #REF! | AB25: =SUM(AC25:AM25) -> #REF! | AC25: =+#REF!+#REF! -> #REF! | AD25: =+#REF!+#REF! -> #REF! | AE25: =+#REF!+#REF! -> #REF! | AF25: =+#REF! -> #REF! | AG25: =+#REF! -> #REF! | AH25: =+#REF! -> #REF! | AI25: =+#REF! -> #REF! | AJ25: =+#REF! -> #REF! | AK25: =+#REF! -> #REF! | AL25: =+#REF! -> #REF! | AM25: =+#REF! -> #REF! | AP25: =SUM(C25:AM25)-C25-F25-W25-AB25 -> #REF! | AQ25: =+AP25-#REF! -> #REF!
A26: 1.13 | B26: Quân khu 9 | C26: =SUM(D26:E26) -> #REF! | D26: =+#REF!+#REF! -> #REF! | E26: =+#REF!+#REF! -> #REF! | F26: =SUM(G26:V26) -> #REF! | G26: =+#REF!+#REF! -> #REF! | H26: =+#REF! -> #REF! | I26: =+#REF! -> #REF! | J26: =+#REF!+#REF! -> #REF! | K26: =+#REF!+#REF! -> #REF! | L26: =+#REF! -> #REF! | M26: =+#REF!+#REF! -> #REF! | N26: =+#REF! -> #REF! | O26: =+#REF! -> #REF! | P26: =+#REF! -> #REF! | Q26: =+#REF! -> #REF! | R26: =+#REF! -> #REF! | S26: =+#REF! -> #REF! | T26: =+#REF! -> #REF! | U26: =+#REF! -> #REF! | V26: =+#REF! -> #REF! | W26: =SUM(X26:AA26) -> #REF! | X26: =+#REF! -> #REF! | Y26: =+#REF! -> #REF! | Z26: =+#REF! -> #REF! | AA26: =+#REF! -> #REF! | AB26: =SUM(AC26:AM26) -> #REF! | AC26: =+#REF!+#REF! -> #REF! | AD26: =+#REF!+#REF! -> #REF! | AE26: =+#REF!+#REF! -> #REF! | AF26: =+#REF! -> #REF! | AG26: =+#REF! -> #REF! | AH26: =+#REF! -> #REF! | AI26: =+#REF! -> #REF! | AJ26: =+#REF! -> #REF! | AK26: =+#REF! -> #REF! | AL26: =+#REF! -> #REF! | AM26: =+#REF! -> #REF! | AP26: =SUM(C26:AM26)-C26-F26-W26-AB26 -> #REF! | AQ26: =+AP26-#REF! -> #REF!
A27: 2 | B27: Bộ Công an | C27: =SUM(D27:E27) -> #REF! | D27: =+#REF!+#REF! -> #REF! | E27: =+#REF!+#REF! -> #REF! | F27: =SUM(G27:V27) -> #REF! | G27: =+#REF!+#REF! -> #REF! | H27: =+#REF! -> #REF! | I27: =+#REF! -> #REF! | J27: =+#REF!+#REF! -> #REF! | K27: =+#REF!+#REF! -> #REF! | L27: =+#REF! -> #REF! | M27: =+#REF!+#REF! -> #REF! | N27: =+#REF! -> #REF! | O27: =+#REF! -> #REF! | P27: =+#REF! -> #REF! | Q27: =+#REF! -> #REF! | R27: =+#REF! -> #REF! | S27: =+#REF! -> #REF! | T27: =+#REF! -> #REF! | U27: =+#REF! -> #REF! | V27: =+#REF! -> #REF! | W27: =SUM(X27:AA27) -> #REF! | X27: =+'PL2. Tổng hợp SL cấp Remdesivir'!C48 -> 500 | Y27: =+#REF! -> #REF! | Z27: =+#REF! -> #REF! | AA27: =+#REF! -> #REF! | AB27: =SUM(AC27:AM27) -> #REF! | AC27: =+#REF!+#REF! -> #REF! | AD27: =+#REF!+#REF! -> #REF! | AE27: =+#REF!+#REF! -> #REF! | AF27: =+#REF! -> #REF! | AG27: =+#REF! -> #REF! | AH27: =+#REF! -> #REF! | AI27: =+#REF! -> #REF! | AJ27: =+#REF! -> #REF! | AK27: =+#REF! -> #REF! | AL27: =+#REF! -> #REF! | AM27: =+#REF! -> #REF! | AP27: =SUM(C27:AM27)-C27-F27-W27-AB27 -> #REF! | AQ27: =+AP27-#REF! -> #REF!
A28: 3 | B28: Bộ Giao thông vận tải | C28: =SUM(D28:E28) -> #REF! | D28: =+#REF!+#REF! -> #REF! | E28: =+#REF!+#REF! -> #REF! | F28: =SUM(G28:V28) -> #REF! | G28: =+#REF!+#REF! -> #REF! | H28: =+#REF! -> #REF! | I28: =+#REF! -> #REF! | J28: =+#REF!+#REF! -> #REF! | K28: =+#REF!+#REF! -> #REF! | L28: =+#REF! -> #REF! | M28: =+#REF!+#REF! -> #REF! | N28: =+#REF! -> #REF! | O28: =+#REF! -> #REF! | P28: =+#REF! -> #REF! | Q28: =+#REF! -> #REF! | R28: =+#REF! -> #REF! | S28: =+#REF! -> #REF! | T28: =+#REF! -> #REF! | U28: =+#REF! -> #REF! | V28: =+#REF! -> #REF! | W28: =SUM(X28:AA28) -> #REF! | X28: =+#REF! -> #REF! | Y28: =+#REF! -> #REF! | Z28: =+#REF! -> #REF! | AA28: =+#REF! -> #REF! | AB28: =SUM(AC28:AM28) -> #REF! | AC28: =+#REF!+#REF! -> #REF! | AD28: =+#REF!+#REF! -> #REF! | AE28: =+#REF!+#REF! -> #REF! | AF28: =+#REF! -> #REF! | AG28: =+#REF! -> #REF! | AH28: =+#REF! -> #REF! | AI28: =+#REF! -> #REF! | AJ28: =+#REF! -> #REF! | AK28: =+#REF! -> #REF! | AL28: =+#REF! -> #REF! | AM28: =+#REF! -> #REF! | AP28: =SUM(C28:AM28)-C28-F28-W28-AB28 -> #REF! | AQ28: =+AP28-#REF! -> #REF!
A29: 4 | B29: Bộ Khoa học công nghê | C29: =SUM(D29:E29) -> #REF! | D29: =+#REF!+#REF! -> #REF! | E29: =+#REF!+#REF! -> #REF! | F29: =SUM(G29:V29) -> #REF! | G29: =+#REF!+#REF! -> #REF! | H29: =+#REF! -> #REF! | I29: =+#REF! -> #REF! | J29: =+#REF!+#REF! -> #REF! | K29: =+#REF!+#REF! -> #REF! | L29: =+#REF! -> #REF! | M29: =+#REF!+#REF! -> #REF! | N29: =+#REF! -> #REF! | O29: =+#REF! -> #REF! | P29: =+#REF! -> #REF! | Q29: =+#REF! -> #REF! | R29: =+#REF! -> #REF! | S29: =+#REF! -> #REF! | T29: =+#REF! -> #REF! | U29: =+#REF! -> #REF! | V29: =+#REF! -> #REF! | W29: =SUM(X29:AA29) -> #REF! | X29: =+#REF! -> #REF! | Y29: =+#REF! -> #REF! | Z29: =+#REF! -> #REF! | AA29: =+#REF! -> #REF! | AB29: =SUM(AC29:AM29) -> #REF! | AC29: =+#REF!+#REF! -> #REF! | AD29: =+#REF!+#REF! -> #REF! | AE29: =+#REF!+#REF! -> #REF! | AF29: =+#REF! -> #REF! | AG29: =+#REF! -> #REF! | AH29: =+#REF! -> #REF! | AI29: =+#REF! -> #REF! | AJ29: =+#REF! -> #REF! | AK29: =+#REF! -> #REF! | AL29: =+#REF! -> #REF! | AM29: =+#REF! -> #REF! | AP29: =SUM(C29:AM29)-C29-F29-W29-AB29 -> #REF! | AQ29: =+AP29-#REF! -> #REF!
A30: 5 | B30: Thông tấn xã VN | C30: =SUM(D30:E30) -> #REF! | D30: =+#REF!+#REF! -> #REF! | E30: =+#REF!+#REF! -> #REF! | F30: =SUM(G30:V30) -> #REF! | G30: =+#REF!+#REF! -> #REF! | H30: =+#REF! -> #REF! | I30: =+#REF! -> #REF! | J30: =+#REF!+#REF! -> #REF! | K30: =+#REF!+#REF! -> #REF! | L30: =+#REF! -> #REF! | M30: =+#REF!+#REF! -> #REF! | N30: =+#REF! -> #REF! | O30: =+#REF! -> #REF! | P30: =+#REF! -> #REF! | Q30: =+#REF! -> #REF! | R30: =+#REF! -> #REF! | S30: =+#REF! -> #REF! | T30: =+#REF! -> #REF! | U30: =+#REF! -> #REF! | V30: =+#REF! -> #REF! | W30: =SUM(X30:AA30) -> #REF! | X30: =+#REF! -> #REF! | Y30: =+#REF! -> #REF! | Z30: =+#REF! -> #REF! | AA30: =+#REF! -> #REF! | AB30: =SUM(AC30:AM30) -> #REF! | AC30: =+#REF!+#REF! -> #REF! | AD30: =+#REF!+#REF! -> #REF! | AE30: =+#REF!+#REF! -> #REF! | AF30: =+#REF! -> #REF! | AG30: =+#REF! -> #REF! | AH30: =+#REF! -> #REF! | AI30: =+#REF! -> #REF! | AJ30: =+#REF! -> #REF! | AK30: =+#REF! -> #REF! | AL30: =+#REF! -> #REF! | AM30: =+#REF! -> #REF! | AP30: =SUM(C30:AM30)-C30-F30-W30-AB30 -> #REF! | AQ30: =+AP30-#REF! -> #REF!
