Workbook
Name _Toc1732508: Language!#REF!
Name _Toc1732514: Language!#REF!
Name _Toc1732529: 'AST Expert rules-12.'!#REF!
Name _Toc1732529: 'AST Policy-13.'!#REF!
Name _Toc1732529: 'Basic AST-11.'!$B$4
Name _Toc1732530: 'AST Expert rules-12.'!#REF!
Name _Toc1732530: 'AST Policy-13.'!#REF!
Name _Toc1732530: 'Basic AST-11.'!$B$16
Name _Toc1732531: 'AST Expert rules-12.'!#REF!
Name _Toc1732531: 'AST Policy-13.'!#REF!
Name _Toc1732531: 'Basic AST-11.'!$B$28
Name _Toc1732532: 'AST Expert rules-12.'!#REF!
Name _Toc1732532: 'AST Policy-13.'!#REF!
Name _Toc1732532: #REF!
Name _Toc1732532: 'Basic AST-11.'!$B$50
Name _Toc1732532: #REF!
Name _Toc1732532: #REF!
Name _Toc1732532: #REF!
Name _Toc1732532: #REF!
Name _Toc1732532: #REF!
Name _Toc1732533: 'AST Expert rules-12.'!#REF!
Name _Toc1732533: 'AST Policy-13.'!#REF!
Name _Toc1732533: #REF!
Name _Toc1732533: 'Basic AST-11.'!$B$67
Name _Toc1732533: #REF!
Name _Toc1732533: #REF!
Name _Toc1732533: #REF!
Name _Toc1732533: #REF!
Name _Toc1732533: #REF!
Name _Toc1732534: 'AST Expert rules-12.'!#REF!
Name _Toc1732534: 'AST Policy-13.'!#REF!
Name _Toc1732534: 'General-0.'!$B$85
Name _Toc1732536: 'AST Expert rules-12.'!#REF!
Name _Toc1732536: 'AST Policy-13.'!$B$19
Name _Toc1732536: #REF!
Name _Toc1732536: 'Basic AST-11.'!#REF!
Name _Toc1732536: #REF!
Name _Toc1732536: #REF!
Name _Toc1732536: #REF!
Name _Toc1732536: #REF!
Name _Toc1732536: #REF!
Name _Toc1732539: 'AST Expert rules-12.'!$B$40
Name _Toc1732539: 'AST Policy-13.'!#REF!
Name _Toc1732539: #REF!
Name _Toc1732539: 'Basic AST-11.'!#REF!
Name _Toc1732539: #REF!
Name _Toc1732539: #REF!
Name _Toc1732539: #REF!
Name _Toc1732539: #REF!
Name _Toc1732539: #REF!
Name _Toc1732542: 'AST Expert rules-12.'!$B$97
Name _Toc1732542: 'AST Policy-13.'!#REF!
Name _Toc1732542: 'Basic AST-11.'!#REF!
Name _Toc1732544: 'AST Expert rules-12.'!$B$142
Name _Toc1732544: 'AST Policy-13.'!#REF!
Name _Toc1732544: 'Basic AST-11.'!#REF!
Name _Toc2177259: 'Assessor''s Guide'!$A$59
Name _Toc486852724: 'AST QC-7.'!#REF!
Name _Toc486852724: 'ID QC-6.'!#REF!
Name _Toc486852724: 'Media QC-5.'!#REF!

Sheet Cover
E9: =Language!A8 -> Laboratory Assessment
E10: =Language!A9 -> of
E11: =Language!A10 -> Antibiotic Resistance
E12: =Language!A11 -> Testing Capacity
E14: (LAARC)
E16: =Language!A12 -> Version 2.0 - October 2019
E17: DRAFT DOCUMENT
E18: Shared for piloting purposes only
E22: =Language!A13 -> Developed by CDC & IQLS

Sheet Introduction

Sheet Assessor's Guide
A1: =Language!A23 -> Figure for use with Facility Module, question 1.13
B2: =Language!A24 -> McFarland QC Standards in front of a Wickerham card
A20: =Language!A16 -> Figure for use with AST QC Module, questions 7.7 - 7.11
A22: =Language!A17 -> Workflow for subculturing and using reference strains
A23: =Language!A18 -> as described in CLSI M02, Subchapter 4.4
A24: =Language!A19 -> "F" indicates the frozen or freeze-dried state of the stock culture
A25: =Language!A20 -> "1" indicates the first passage
A26: =Language!A21 -> "2" indicates the second passage
A27: =Language!A22 -> "3" indicates the third passage from stock culture
A58: =Language!A14 -> Tables for use with AST Expert Rules Module, questions 12.1 - 12.25
B59: =Language!A15 -> Current CLSI and EUCAST breakpoints for Salmonella spp, Enterobacteriaceae, Acinetobacter spp, and Pseudomonas aeruginosa
B61: Salmonella spp. | D61: CLSI 2019 | K61: Salmonella spp. | M61: EUCAST 2019
D62: MIC method | G62: Disk Diffusion | M62: MIC method | O62: Disk Diffusion
C63: ug/ml | D63: S | E63: I/S-DD* | F63: R | G63: S | H63: I/S-DD* | I63: R | L63: ug/ml | M63: S | N63: R | O63: S | P63: R
B64: Ciprofloxacin | C64: 5 | D64: <0.06 | E64: 0.12-0.5 | F64: >1 | G64: >31 | H64: 21-30 | I64: <20 | K64: Ciprofloxacin | L64: - | M64: <0.06 | N64: >0.06 | O64: - | P64: -
B65: Levofloxacin | C65: - | D65: <0.12 | E65: 0.25-1 | F65: >2 | G65: - | H65: - | I65: - | K65: Levofloxacin | L65: - | M65: - | N65: - | O65: - | P65: -
B66: Pefloxacin screen | C66: 5 | G66: >24 | H66: - | I66: <23 | K66: Pefloxacin screen | L66: 5 | M66: - | N66: - | O66: >24 | P66: 24
B68: Enterobacteriaceae | D68: CLSI 2019 | K68: Enterobacteriaceae | M68: EUCAST 2019
D69: MIC method | G69: Disk Diffusion | M69: MIC method | O69: Disk Diffusion
C70: ug/ml | D70: S | E70: I/S-DD* | F70: R | G70: S | H70: I/S-DD* | I70: R | L70: ug/ml | M70: S | N70: R | O70: S | P70: R
B71: Aztreonam | C71: 30 | D71: <4 | E71: 8 | F71: >16 | G71: >21 | H71: 18-20 | I71: <17 | K71: Aztreonam | L71: 30 | M71: <1 | N71: >4 | O71: >20 | P71: <17
B72: Cefotaxime | C72: 30 | D72: <1 | E72: 2 | F72: >4 | G72: >26 | H72: 23-25 | I72: <22 | K72: Cefotaxime | L72: 5 | M72: <1 | N72: >2 | O72: >20 | P72: <17
B73: Ceftriaxone | C73: 30 | D73: <1 | E73: 2 | F73: >4 | G73: >23 | H73: 20-22 | I73: <19 | K73: Ceftriaxone | L73: 30 | M73: <1 | N73: >2 | O73: >25 | P73: <22
B74: Ceftazidime | C74: 30 | D74: <4 | E74: 8 | F74: >16 | G74: >21 | H74: 18-20 | I74: <17 | K74: Ceftazidime | L74: 10 | M74: <1 | N74: >4 | O74: >22 | P74: <19
B75: Cefepime | C75: 30 | D75: <2 | E75: 4-8 | F75: >16 | G75: >25 | H75: 19-24* | I75: <18 | K75: Cefepime | L75: 30 | M75: <1 | N75: >4 | O75: >27 | P75: <21
B76: Imipenem | C76: 10 | D76: <1 | E76: 2 | F76: >4 | G76: >23 | H76: 20-22 | I76: <19 | K76: Imipenem | L76: 10 | M76: <2 | N76: >4 | O76: >22 | P76: <17
B77: Meropenem | C77: 10 | D77: <1 | E77: 2 | F77: >4 | G77: >23 | H77: 20-22 | I77: <19 | K77: Meropenem | L77: 10 | M77: <2 | N77: >8 | O77: >22 | P77: <16
B78: Doripenem | C78: 10 | D78: <1 | E78: 2 | F78: >4 | G78: >23 | H78: 20-22 | I78: <19 | K78: Doripenem | L78: 10 | M78: <1 | N78: >2 | O78: >24 | P78: <21
B79: Ertapenem | C79: 10 | D79: <0.5 | E79: 1 | F79: >2 | G79: >22 | H79: 19-21 | I79: <18 | K79: Ertapenem | L79: 10 | M79: <0.5 | N79: >0.5 | O79: >25 | P79: <25
B81: Acinetobacter spp. | D81: CLSI 2019 | K81: Acinetobacter spp. | M81: EUCAST 2019
D82: MIC method | G82: Disk Diffusion | M82: MIC method | O82: Disk Diffusion
C83: ug/ml | D83: S | E83: I/S-DD* | F83: R | G83: S | H83: I/S-DD* | I83: R | L83: ug/ml | M83: S | N83: R | O83: S | P83: R
B84: Imipenem | C84: 10 | D84: <2 | E84: 4 | F84: >8 | G84: >22 | H84: 19-21 | I84: <18 | K84: Imipenem | L84: 10 | M84: <2 | N84: >4 | O84: >24 | P84: <21
B85: Meropenem | C85: 10 | D85: <2 | E85: 4 | F85: >8 | G85: >18 | H85: 15-17 | I85: <14 | K85: Meropenem | L85: 10 | M85: <2 | N85: >8 | O85: >21 | P85: <15
B86: Doripenem | C86: 10 | D86: <2 | E86: 4 | F86: >8 | G86: >18 | H86: 15-17 | I86: <14 | K86: Doripenem | L86: - | M86: - | N86: - | O86: - | P86: -
B88: Pseudomonas aeruginosa | D88: CLSI 2019 | K88: Pseudomonas aeruginosa | M88: EUCAST 2019
D89: MIC method | G89: Disk Diffusion | M89: MIC method | O89: Disk Diffusion
C90: ug/ml | D90: S | E90: I/S-DD* | F90: R | G90: S | H90: I/S-DD* | I90: R | L90: ug/ml | M90: S | N90: R | O90: S | P90: R
B91: Aztreonam | C91: 30 | D91: <8 | E91: 16 | F91: >32 | G91: >22 | H91: 16-21 | I91: <15 | K91: Aztreonam | L91: 30 | M91: <16 | N91: >16 | O91: >18 | P91: <18
B92: Piperacillin | C92: 100 | D92: <16 | E92: 32-64 | F92: >128 | G92: >21 | H92: 15-20 | I92: <14 | K92: Piperacillin | L92: 30 | M92: <16 | N92: >16 | O92: >18 | P92: <18
...

Sheet Language
A1: =A4 -> Enter the number of the desired language in the cell A3: 1- English, 2- French, 3- Spanish
A3: 1 | B3: =A5 -> 1-English | C3: TIẾNG VIỆT | D3: =A6 -> 2-French | E3: 3- Español
A4: =IF(langue=1,B4,IF(langue=2,D4,E4)) -> Enter the number of the desired language in the cell A3: 1- English, 2- French, 3- Spanish | B4: Enter the number of the desired language in the cell A3: 1- English, 2- French, 3- Spanish | C4: Nhập số theo ngôn ngữ mong muốn trong hàng A3: 1- Tiếng Anh, 2-Tiếng Pháp,3-Tiếng Tây Ban Nha | D4: Entrez le numéro de la langue désirée dans la case A3: 1- anglais, 2- français, 3- espagnol | E4: Introduzca el número del idioma deseado en la celda A3: 1- inglés, 2- francés, 3- español
A5: =IF(langue=1,B5,IF(langue=2,D5,E5)) -> 1-English | B5: 1-English | C5: 1-Tiếng Anh | D5: 1-anglais | E5: 1-inglés
A6: =IF(langue=1,B6,IF(langue=2,D6,E6)) -> 2-French | B6: 2-French | C6: 2-Tiếng Pháp | D6: 2- français | E6: 2-francés
A7: =IF(langue=1,B7,IF(langue=2,D7,E7)) -> 3-Spanish | B7: 3-Spanish | C7: 3-Tiếng Tây Ban Nha | D7: 3- espagnol | E7: 3-español
A8: =IF(langue=1,B8,IF(langue=2,D8,E8)) -> Laboratory Assessment | B8: Laboratory Assessment | C8: Đánh giá phòng thí nghiệm | D8: Évaluation d'un laboratoire | E8: Evaluación de laboratorio
A9: =IF(langue=1,B9,IF(langue=2,D9,E9)) -> of | B9: of | C9: về | D9: Pour la | E9: de
A10: =IF(langue=1,B10,IF(langue=2,D10,E10)) -> Antibiotic Resistance | B10: Antibiotic Resistance | C10: Kháng kháng sinh | D10: Résistance aux antibiotiques | E10: Resistencia a los Antibióticos
A11: =IF(langue=1,B11,IF(langue=2,D11,E11)) -> Testing Capacity | B11: Testing Capacity | C11: Khả năng thử nghiệm | D11: Capacités d'analyse | E11: Capacidad para Detectar
A12: =IF(langue=1,B12,IF(langue=2,D12,E12)) -> Version 2.0 - October 2019 | B12: Version 2.0 - October 2019 | C12: Phiên bản 2.0- 10-2019 | D12: Version 2.0 - août 2019 | E12: Versión 2.0 - agosto de 2019
A13: =IF(langue=1,B13,IF(langue=2,D13,E13)) -> Developed by CDC & IQLS | B13: Developed by CDC & IQLS | C13: Phát triển bởi CDC & IQLS | D13: Développé par CDC & IQLS | E13: Desarrollado por CDC e IQLS
A14: =IF(langue=1,B14,IF(langue=2,D14,E14)) -> Tables for use with AST Expert Rules Module, questions 12.1 - 12.25 | B14: Tables for use with AST Expert Rules Module, questions 12.1 - 12.25 | C14: Bảng sử dụng module các quy tắc thành thạo thử nghiệm tính nhạy cảm kháng sinh (AST), câu hỏi 12.1-12.25 | D14: Tableaux à utiliser avec le module de règles expert du TSA, questions 12.1 à 12.25 | E14: Tablas para usar en el Módulo de Reglas de Experto para PSA, preguntas 12.1 - 12.25
A15: =IF(langue=1,B15,IF(langue=2,D15,E15)) -> Current CLSI and EUCAST breakpoints for Salmonella spp, Enterobacteriaceae, Acinetobacter spp, and Pseudomonas aeruginosa | B15: Current CLSI and EUCAST breakpoints for Salmonella spp, Enterobacteriaceae, Acinetobacter spp, and Pseudomonas aeruginosa | C15: Breakpoints theo CLSI và EUCAST hiện hành cho Salmonella spp, Enterobacteriaceae, Acinetobacter spp,và Pseudomonas aeruginosa | D15: Seuils de détection CLSI et EUCAST pour Salmonella spp, Enterobacteriaceae, Acinetobacter spp et Pseudomonas aeruginosa | E15: Puntos de corte actuales de CLSI y EUCAST para Salmonella spp, Enterobacteriaceae, Acinetobacter spp y Pseudomonas aeruginosa
... A898: =IF(langue=1,B898,IF(langue=2,D898,E898)) -> MULLER HINTON MEDIA PREPARATION AND QC | B898: MULLER HINTON MEDIA PREPARATION AND QC | C898: CHUẨN BỊ VÀ QC MÔI TRƯỜNG MULLER HINTON | D898: PREPARATION ET CQ DES MILIEUX MULLER HINTON | E898: PREPARACIÓN Y CC DE MEDIOS MULLER HINTON
A899: =IF(langue=1,B899,IF(langue=2,D899,E899)) -> Examine the lab’s Mueller Hinton plates and SOP for the following: | B899: Examine the lab’s Mueller Hinton plates and SOP for the following: | D899: Examinez les boîtes et la procédure opératoire standard du laboratoire Mueller Hinton: | E899: Examine las placas Mueller Hinton del laboratorio y su POE para lo siguiente:
A900: =IF(langue=1,B900,IF(langue=2,D900,E900)) -> Does the dehydrated Mueller Hinton Agar (dHMA) meet ISO 16782 (CLSI M6) standards? (Low thymine/thymidine content, not supplemented with Mg++ or Ca++ cations) | B900: Does the dehydrated Mueller Hinton Agar (dHMA) meet ISO 16782 (CLSI M6) standards? (Low thymine/thymidine content, not supplemented with Mg++ or Ca++ cations) | D900: La gélose Mueller Hinton déshydratée (dHMA) est-elle conforme aux normes ISO 16782 (CLSI M6)? (Faible teneur en thymine / thymidine, non complémentée par des cations Mg ++ ou Ca ++) | E900: ¿El agar deshidratado Mueller Hinton (dHMA) cumple con las normas ISO 16782 (CLSI M6)? (Bajo contenido de timina / timidina, no suplementado con cationes Mg ++ o Ca ++)
A901: =IF(langue=1,B901,IF(langue=2,D901,E901)) -> Does the lab add calcium or magnesium cations to dMHA? PXN có bổ sung cation canxi hoặc magie vào thạch dMHA không? | B901: Does the lab add calcium or magnesium cations to dMHA? PXN có bổ sung cation canxi hoặc magie vào thạch dMHA không? | C901: Phòng thí nghiệm có thêm cation canxi hoặc magiê vào dMHA không? | D901: Le laboratoire ajoute-t-il des cations de calcium ou de magnésium au dMHA? | E901: ¿Agrega el laboratorio cationes de calcio o magnesio al agar dMHA?
A902: =IF(langue=1,B902,IF(langue=2,D902,E902)) -> Immediately after autoclaving, is agar allowed to cool in a 45° - 50°C water bath? Ngay sau khi autoclave, thạch có được làm nguội trong bồn nước ở nhiệt độ 45° - 50°C không? | B902: Immediately after autoclaving, is agar allowed to cool in a 45° - 50°C water bath? Ngay sau khi autoclave, thạch có được làm nguội trong bồn nước ở nhiệt độ 45° - 50°C không? | C902: Ngay sau khi hấp, thạch có được để nguội trong nồi cách thủy 45 ° - 50 ° C không? | D902: Immédiatement après l'autoclavage, laisse-t-on refroidir la gélose dans un bain marie à 45 ° C-50 ° C? | E902: Inmediatamente después de la esterilización en el autoclave, ¿se deja enfriar el agar en un baño de agua a 45 ° - 50 ° C?
A903: =IF(langue=1,B903,IF(langue=2,D903,E903)) -> Do plates have a uniform depth of approximately 4mm? Verify by examining a recent batch. Các đĩa thạch có độ dày giống nhau và bằng khoảng 4mm không? Xác nhận bằng cách kiểm tra một mẻ gần đây. | B903: Do plates have a uniform depth of approximately 4mm? Verify by examining a recent batch. Các đĩa thạch có độ dày giống nhau và bằng khoảng 4mm không? Xác nhận bằng cách kiểm tra một mẻ gần đây. | C903: Các đĩa thạch có độ sâu đồng đều khoảng 4mm không? Xác minh bằng cách kiểm tra một lô gần đây. | D903: Les boîtes ont-elles une profondeur uniforme d'environ 4 mm? Vérifiez en examinant un lot récent. | E903: ¿Tienen las placas una profundidad uniforme de aproximadamente 4 mm? Verifique examinando un lote reciente.
A904: =IF(langue=1,B904,IF(langue=2,D904,E904)) -> Are plates poured on a level surface? | B904: Are plates poured on a level surface? | C904: Các tấm có được đổ trên bề mặt bằng phẳng không? | D904: Les boîtes s sont-elles coulées sur une surface plane? | E904: ¿Se vierten las placas en una superficie nivelada?
A905: =IF(langue=1,B905,IF(langue=2,D905,E905)) -> Do records demonstrate that pH is 7.2 – 7.4 for each batch? Hồ sơ có thể hiện pH ở mức 7.2-7.4 cho mỗi mẻ không? | B905: Do records demonstrate that pH is 7.2 – 7.4 for each batch? Hồ sơ có thể hiện pH ở mức 7.2-7.4 cho mỗi mẻ không? | C905: Hồ sơ có chứng minh rằng pH là 7,2 - 7,4 cho mỗi lô không? | D905: Les enregistrements démontrent-ils que le pH est compris entre 7,2 et 7,4 pour chaque lot? | E905: ¿Muestran los registros que el pH es 7.2 - 7.4 para cada lote?
A906: =IF(langue=1,B906,IF(langue=2,D906,E906)) -> Do records indicate that sterility is checked for each batch? (By incubating a portion of un-inoculated plates, ideally 5%) Hồ sơ có cho thấy sự vô khuẩn được kiểm tra với mỗi mẻ không? (Bằng cách ủ một phần các thạch chưa được nuôi cấy, lý tưởng là 5%) | B906: Do records indicate that sterility is checked for each batch? (By incubating a portion of un-inoculated plates, ideally 5%) Hồ sơ có cho thấy sự vô khuẩn được kiểm tra với mỗi mẻ không? (Bằng cách ủ một phần các thạch chưa được nuôi cấy, lý tưởng là 5%) | C906: Hồ sơ có chỉ ra rằng sự vô trùng được kiểm tra cho mỗi lô không? (Bằng cách ủ một phần đĩa chưa cấy, lý tưởng là 5%) | D906: Les enregistrements indiquent-ils que la stérilité est contrôlée pour chaque lot? (En incubant une portion de boîtes non inoculées, idéalement 5%) | E906: ¿Se indica en los registros que se verifica la esterilidad para cada lote? (Incubando una porción de placas no inoculadas, idealmente un 5%)
A907: =IF(langue=1,B907,IF(langue=2,D907,E907)) -> Are plates are stored at 2-8°C until use? Các đĩa thạch có được bảo quản ở nhiệt độ 2-8°C đến khi sử dụng không? | B907: Are plates are stored at 2-8°C until use? Các đĩa thạch có được bảo quản ở nhiệt độ 2-8°C đến khi sử dụng không? | C907: Các đĩa thạch có được bảo quản ở 2-8 ° C cho đến khi sử dụng không? | D907: Les boîtes sont-elles conservées entre 2 et 8 ° C jusqu'à leur utilisation? | E907: ¿Se almacenan las placas a 2-8 ° C hasta su uso?
A908: =IF(langue=1,B908,IF(langue=2,D908,E908)) -> Are plates are stored inside bags/sleeves to avoid dehydration? Các đĩa thạch có được bảo quản trong các túi hoặc ống bọc ngoài để tránh mất nước không? | B908: Are plates are stored inside bags/sleeves to avoid dehydration? Các đĩa thạch có được bảo quản trong các túi hoặc ống bọc ngoài để tránh mất nước không? | C908: Đĩa thạch có được cất trong túi để tránh mất nước không? | D908: Les boîtes sont-elles rangées dans des sacs / containers pour éviter la déshydratation? | E908: ¿Se almacenan las placas dentro de bolsas / mangas para evitar la deshidratación?
A909: =IF(langue=1,B909,IF(langue=2,D909,E909)) -> Do QC records indicate that each batch of Mueller Hinton agar is checked for its ability to produce expected zone sizes using the following ATCC reference strains and antibiotics? Hồ sơ QC có thể hiện rằng mỗi mẻ thạch Muller Hinton đều được kiểm tra khả năng thể hiện đường kính vòng vô khuẩn đúng với mong đợi đối với các chủng chuẩn ATCC và kháng sinh đề nghị không? | B909: Do QC records indicate that each batch of Mueller Hinton agar is checked for its ability to produce expected zone sizes using the following ATCC reference strains and antibiotics? Hồ sơ QC có thể hiện rằng mỗi mẻ thạch Muller Hinton đều được kiểm tra khả năng thể hiện đường kính vòng vô khuẩn đúng với mong đợi đối với các chủng chuẩn ATCC và kháng sinh đề nghị không? | C909: Hồ sơ QC có chỉ ra rằng mỗi lô thạch Mueller Hinton được kiểm tra khả năng tạo ra kích thước vòng vô khuẩn mong đợi bằng cách sử dụng các chủng và kháng sinh tham chiếu ATCC sau đây không? | D909: Les registres de contrôle de la qualité indiquent-ils que chaque lot de gélose Mueller Hinton est vérifié pour sa capacité à produire les tailles de zone attendues à l'aide des souches de référence et des antibiotiques ATCC suivants? | E909: ¿Se indica en los registros de CC que en cada lote de agar Mueller Hinton se verifica su capacidad de producir los diámetros de los halos de inhibición esperados utilizando las siguientes cepas ATCC de referencia y antibióticos?
A910: =IF(langue=1,B910,IF(langue=2,D910,E910)) -> Pseudomonas aeruginosa 27853 và đĩa kháng sinh gentamicin | B910: Pseudomonas aeruginosa 27853 và đĩa kháng sinh gentamicin | C910: Pseudomonas aeruginosa 27853 và đĩa gentamicin | D910: Pseudomonas aeruginosa 27853 et disque de gentamicine | E910: Pseudomonas aeruginosa 27853 y disco de gentamicina
A911: =IF(langue=1,B911,IF(langue=2,D911,E911)) -> Enterococcus faecalis 29212 hoặc 33186 và đĩa kháng sinh trimethoprim-sulfamethoxazole | B911: Enterococcus faecalis 29212 hoặc 33186 và đĩa kháng sinh trimethoprim-sulfamethoxazole | C911: Enterococcus faecalis 29212 hoặc 33186 và đĩa trimethoprim-sulfamethoxazole | D911: Enterococcus faecalis 29212 ou 33186 et disque de triméthoprime-sulfaméthoxazole | E911: Enterococcus faecalis 29212 o 33186 y disco de trimetoprim-sulfametoxazol
A912: =IF(langue=1,B912,IF(langue=2,D912,E912)) -> Do QC records indicate that each batch of Mueller Hinton Blood agar is checked for its ability to produce expected zone sizes using Strep pneumoniae ATCC 49619 (or equivalent)? Hồ sơ QC có thể hiện được rằng mỗi mẻ Mueller Hinton máu được kiểm tra đường kính vòng vô khuẩn với chủng Strep pneumonia ATCC 49619 (hoặc tương đương) không? | B912: Do QC records indicate that each batch of Mueller Hinton Blood agar is checked for its ability to produce expected zone sizes using Strep pneumoniae ATCC 49619 (or equivalent)? Hồ sơ QC có thể hiện được rằng mỗi mẻ Mueller Hinton máu được kiểm tra đường kính vòng vô khuẩn với chủng Strep pneumonia ATCC 49619 (hoặc tương đương) không? | C912: Hồ sơ QC có chỉ ra rằng mỗi lô thạch Mueller Hinton Blood được kiểm tra khả năng tạo ra kích thước vòng vô khuẩn mong đợi bằng cách sử dụng Strep pneumoniae ATCC 49619 (hoặc tương đương) không? | D912: Les dossiers de contrôle de la qualité indiquent-ils que chaque lot de gélose au sang Mueller Hinton est vérifié pour sa capacité à produire les tailles de zone attendues en utilisant Strep pneumoniae ATCC 49619 (ou équivalent)? | E912: ¿Se indica en los registros de CC que en cada lote de agar Mueller Hinton suplementado con sangre se verifica su capacidad para producir los diámetros de los halos de inhibición esperados utilizando Strep pneumoniae ATCC 49619 (o equivalente)?
... A1860: =IF(langue=1,B1860,IF(langue=2,D1860,E1860)) -> Are risk assessments conducted annually and each time a new analysis/technology/equipment is introduced? | B1860: Are risk assessments conducted annually and each time a new analysis/technology/equipment is introduced? | C1860: Đánh giá rủi ro có được thực hiện hàng năm và mỗi khi một phân tích / công nghệ / thiết bị mới được giới thiệu không? | D1860: Des évaluations des risques sont-elles effectuées chaque année et chaque fois qu'une nouvelle analyse / technologie / équipement est introduit? | E1860: ¿Se realizan evaluaciones de riesgos anuales y cada vez que se introduce un nuevo análisis / tecnología / equipo?

Sheet Export
B1: General information | T1: Manual AST in use | Y1: Autom. AST in use | AC1: Organisms/Chromagar | AI1: Genes/PCR | AO1: QMS Mentoring pgm | AU1: Accreditation/Certification | BB1: TEST MENU AND ANNUAL CULTURE WORKLOAD | BW1: ANNUAL AST WORKLOAD | CC1: Biochemical identification QC score | DB1: Biochemical identification SOP score | EA1: STAFFING | EN1: General equipment | FI1: Media Prep equipment | FO1: Autom. Instruments | FT1: FLAG # | FW1: GI | FX1: Section Scores/Performance Heatmap | GL1: laboratory facility | GW1: LIS | HC1: Data management | HJ1: Quality assurance | HN1: Media QC | HT1: ID QC | IB1: AST QC | IG1: Specimen collection | IL1: Processing | IP1: Identification | JE1: Basic AST | JK1: Expert rules | JU1: AST panels/policy | JX1: Biosafety | KB1: Red Flag | NZ1: Training opportunities | OJ1: System flag | PG1: 1- Facility questions | QB1: 2- LIS questions | RU1: 5- Media questions | SH1: 6-ID_Q | SJ1: 9-Proc-Q | SK1: 10-Identification questions | TT1: 11- Basic AST questions | UG1: 12-AST expert rules questions | VN1: 13-ASTP Q
